BEGIN:VCALENDAR
VERSION:2.0
PRODID:-//Saint Catherine of Alexandria School - ECPv6.15.20//NONSGML v1.0//EN
CALSCALE:GREGORIAN
METHOD:PUBLISH
X-WR-CALNAME:Saint Catherine of Alexandria School
X-ORIGINAL-URL:https://www.saintcatherineschool.org
X-WR-CALDESC:Events for Saint Catherine of Alexandria School
REFRESH-INTERVAL;VALUE=DURATION:PT1H
X-Robots-Tag:noindex
X-PUBLISHED-TTL:PT1H
BEGIN:VTIMEZONE
TZID:America/Chicago
BEGIN:DAYLIGHT
TZOFFSETFROM:-0600
TZOFFSETTO:-0500
TZNAME:CDT
DTSTART:20180311T080000
END:DAYLIGHT
BEGIN:STANDARD
TZOFFSETFROM:-0500
TZOFFSETTO:-0600
TZNAME:CST
DTSTART:20181104T070000
END:STANDARD
BEGIN:DAYLIGHT
TZOFFSETFROM:-0600
TZOFFSETTO:-0500
TZNAME:CDT
DTSTART:20190310T080000
END:DAYLIGHT
BEGIN:STANDARD
TZOFFSETFROM:-0500
TZOFFSETTO:-0600
TZNAME:CST
DTSTART:20191103T070000
END:STANDARD
BEGIN:DAYLIGHT
TZOFFSETFROM:-0600
TZOFFSETTO:-0500
TZNAME:CDT
DTSTART:20200308T080000
END:DAYLIGHT
BEGIN:STANDARD
TZOFFSETFROM:-0500
TZOFFSETTO:-0600
TZNAME:CST
DTSTART:20201101T070000
END:STANDARD
BEGIN:DAYLIGHT
TZOFFSETFROM:-0600
TZOFFSETTO:-0500
TZNAME:CDT
DTSTART:20210314T080000
END:DAYLIGHT
BEGIN:STANDARD
TZOFFSETFROM:-0500
TZOFFSETTO:-0600
TZNAME:CST
DTSTART:20211107T070000
END:STANDARD
BEGIN:DAYLIGHT
TZOFFSETFROM:-0600
TZOFFSETTO:-0500
TZNAME:CDT
DTSTART:20220313T080000
END:DAYLIGHT
BEGIN:STANDARD
TZOFFSETFROM:-0500
TZOFFSETTO:-0600
TZNAME:CST
DTSTART:20221106T070000
END:STANDARD
END:VTIMEZONE
BEGIN:VEVENT
DTSTART;TZID=America/Chicago:20210424T080000
DTEND;TZID=America/Chicago:20210424T170000
DTSTAMP:20260424T103618
CREATED:20210409T183236Z
LAST-MODIFIED:20210409T183338Z
UID:10008822-1619251200-1619283600@www.saintcatherineschool.org
SUMMARY:Soccer Games
DESCRIPTION:The schedules for each soccer team can be found on the parent resources page of the website. They are on the drop down menu (an arrow if you are on your phone).
URL:https://www.saintcatherineschool.org/event/soccer-games/2021-04-24
LOCATION:River City Park\, 2200 S. River City Park Rd\, Sand Springs\, OK\, 74063\, United States
CATEGORIES:Saint Catherine School
ORGANIZER;CN="Andrea Warner":MAILTO:andrea.warner.mail@gmail.com
GEO:36.1393247;-96.1266273
X-APPLE-STRUCTURED-LOCATION;VALUE=URI;X-ADDRESS=River City Park 2200 S. River City Park Rd Sand Springs OK 74063 United States;X-APPLE-RADIUS=500;X-TITLE=2200 S. River City Park Rd:geo:-96.1266273,36.1393247
END:VEVENT
BEGIN:VEVENT
DTSTART;TZID=America/Chicago:20210417T080000
DTEND;TZID=America/Chicago:20210417T170000
DTSTAMP:20260424T103618
CREATED:20210409T183236Z
LAST-MODIFIED:20210409T183338Z
UID:10008821-1618646400-1618678800@www.saintcatherineschool.org
SUMMARY:Soccer Games
DESCRIPTION:The schedules for each soccer team can be found on the parent resources page of the website. They are on the drop down menu (an arrow if you are on your phone).
URL:https://www.saintcatherineschool.org/event/soccer-games/2021-04-17
LOCATION:River City Park\, 2200 S. River City Park Rd\, Sand Springs\, OK\, 74063\, United States
CATEGORIES:Saint Catherine School
ORGANIZER;CN="Andrea Warner":MAILTO:andrea.warner.mail@gmail.com
GEO:36.1393247;-96.1266273
X-APPLE-STRUCTURED-LOCATION;VALUE=URI;X-ADDRESS=River City Park 2200 S. River City Park Rd Sand Springs OK 74063 United States;X-APPLE-RADIUS=500;X-TITLE=2200 S. River City Park Rd:geo:-96.1266273,36.1393247
END:VEVENT
BEGIN:VEVENT
DTSTART;TZID=America/Chicago:20210410T080000
DTEND;TZID=America/Chicago:20210410T170000
DTSTAMP:20260424T103618
CREATED:20210409T183236Z
LAST-MODIFIED:20210409T183338Z
UID:10008820-1618041600-1618074000@www.saintcatherineschool.org
SUMMARY:Soccer Games
DESCRIPTION:The schedules for each soccer team can be found on the parent resources page of the website. They are on the drop down menu (an arrow if you are on your phone).
URL:https://www.saintcatherineschool.org/event/soccer-games/2021-04-10
LOCATION:River City Park\, 2200 S. River City Park Rd\, Sand Springs\, OK\, 74063\, United States
CATEGORIES:Saint Catherine School
ORGANIZER;CN="Andrea Warner":MAILTO:andrea.warner.mail@gmail.com
GEO:36.1393247;-96.1266273
X-APPLE-STRUCTURED-LOCATION;VALUE=URI;X-ADDRESS=River City Park 2200 S. River City Park Rd Sand Springs OK 74063 United States;X-APPLE-RADIUS=500;X-TITLE=2200 S. River City Park Rd:geo:-96.1266273,36.1393247
END:VEVENT
BEGIN:VEVENT
DTSTART;VALUE=DATE:20190518
DTEND;VALUE=DATE:20190519
DTSTAMP:20260424T103618
CREATED:20190430T145625Z
LAST-MODIFIED:20190502T171754Z
UID:10008044-1558137600-1558223999@www.saintcatherineschool.org
SUMMARY:Soccer Games for Saint Catherine
DESCRIPTION:Soccer Blue at 9:00 field #1 \nSoccer White at 1:00 field #4 \nSoccer Red at 12:00 field #1 \nSoccer Varsity at 10:00 field #7
URL:https://www.saintcatherineschool.org/event/soccer-games-for-saint-catherine-2
LOCATION:River City Park\, 2200 S. River City Park Rd\, Sand Springs\, OK\, 74063\, United States
CATEGORIES:Saint Catherine School
ORGANIZER;CN="Andrea Warner":MAILTO:andrea.warner.mail@gmail.com
GEO:36.1393247;-96.1266273
X-APPLE-STRUCTURED-LOCATION;VALUE=URI;X-ADDRESS=River City Park 2200 S. River City Park Rd Sand Springs OK 74063 United States;X-APPLE-RADIUS=500;X-TITLE=2200 S. River City Park Rd:geo:-96.1266273,36.1393247
END:VEVENT
BEGIN:VEVENT
DTSTART;VALUE=DATE:20190511
DTEND;VALUE=DATE:20190512
DTSTAMP:20260424T103618
CREATED:20190430T145456Z
LAST-MODIFIED:20190502T171900Z
UID:10008045-1557532800-1557619199@www.saintcatherineschool.org
SUMMARY:Soccer Games for Saint Catherine
DESCRIPTION:Soccer Blue at 9:00 field #1 \nSoccer White at 11:00 field #1 \nSoccer Red at 2:00 field #1 \nSoccer Varsity at 10:00 field #7
URL:https://www.saintcatherineschool.org/event/soccer-games-for-saint-catherine
LOCATION:River City Park\, 2200 S. River City Park Rd\, Sand Springs\, OK\, 74063\, United States
CATEGORIES:Saint Catherine School
ORGANIZER;CN="Andrea Warner":MAILTO:andrea.warner.mail@gmail.com
GEO:36.1393247;-96.1266273
X-APPLE-STRUCTURED-LOCATION;VALUE=URI;X-ADDRESS=River City Park 2200 S. River City Park Rd Sand Springs OK 74063 United States;X-APPLE-RADIUS=500;X-TITLE=2200 S. River City Park Rd:geo:-96.1266273,36.1393247
END:VEVENT
END:VCALENDAR