BEGIN:VCALENDAR
VERSION:2.0
PRODID:-//Saint Catherine of Alexandria School - ECPv6.15.20//NONSGML v1.0//EN
CALSCALE:GREGORIAN
METHOD:PUBLISH
X-WR-CALNAME:Saint Catherine of Alexandria School
X-ORIGINAL-URL:https://www.saintcatherineschool.org
X-WR-CALDESC:Events for Saint Catherine of Alexandria School
REFRESH-INTERVAL;VALUE=DURATION:PT1H
X-Robots-Tag:noindex
X-PUBLISHED-TTL:PT1H
BEGIN:VTIMEZONE
TZID:America/Chicago
BEGIN:DAYLIGHT
TZOFFSETFROM:-0600
TZOFFSETTO:-0500
TZNAME:CDT
DTSTART:20240310T080000
END:DAYLIGHT
BEGIN:STANDARD
TZOFFSETFROM:-0500
TZOFFSETTO:-0600
TZNAME:CST
DTSTART:20241103T070000
END:STANDARD
BEGIN:DAYLIGHT
TZOFFSETFROM:-0600
TZOFFSETTO:-0500
TZNAME:CDT
DTSTART:20250309T080000
END:DAYLIGHT
BEGIN:STANDARD
TZOFFSETFROM:-0500
TZOFFSETTO:-0600
TZNAME:CST
DTSTART:20251102T070000
END:STANDARD
BEGIN:DAYLIGHT
TZOFFSETFROM:-0600
TZOFFSETTO:-0500
TZNAME:CDT
DTSTART:20260308T080000
END:DAYLIGHT
BEGIN:STANDARD
TZOFFSETFROM:-0500
TZOFFSETTO:-0600
TZNAME:CST
DTSTART:20261101T070000
END:STANDARD
END:VTIMEZONE
BEGIN:VEVENT
DTSTART;TZID=America/Chicago:20250423T184500
DTEND;TZID=America/Chicago:20250423T200000
DTSTAMP:20260424T032532
CREATED:20250411T143359Z
LAST-MODIFIED:20250411T143359Z
UID:10012095-1745433900-1745438400@www.saintcatherineschool.org
SUMMARY:Middle School Soccer Game vs. St. Pius
DESCRIPTION:
URL:https://www.saintcatherineschool.org/event/middle-school-soccer-game-vs-st-pius
LOCATION:Riverfield\, 2433 W 61st St\, Tulsa\, 74132\, United States
CATEGORIES:Church of Saint Catherine,Saint Catherine School
ORGANIZER;CN="Sam Naab":MAILTO:snaab@saint-catherine.org
GEO:36.0775959;-96.0196213
X-APPLE-STRUCTURED-LOCATION;VALUE=URI;X-ADDRESS=Riverfield 2433 W 61st St Tulsa 74132 United States;X-APPLE-RADIUS=500;X-TITLE=2433 W 61st St:geo:-96.0196213,36.0775959
END:VEVENT
BEGIN:VEVENT
DTSTART;TZID=America/Chicago:20250416T184500
DTEND;TZID=America/Chicago:20250416T200000
DTSTAMP:20260424T032532
CREATED:20250411T133656Z
LAST-MODIFIED:20250411T133656Z
UID:10012080-1744829100-1744833600@www.saintcatherineschool.org
SUMMARY:Middle School Soccer Game vs. Riverfield
DESCRIPTION:
URL:https://www.saintcatherineschool.org/event/middle-school-soccer-game-vs-riverfield
LOCATION:Riverfield\, 2433 W 61st St\, Tulsa\, 74132\, United States
CATEGORIES:Church of Saint Catherine,Saint Catherine School
ORGANIZER;CN="Sam Naab":MAILTO:snaab@saint-catherine.org
GEO:36.0775959;-96.0196213
X-APPLE-STRUCTURED-LOCATION;VALUE=URI;X-ADDRESS=Riverfield 2433 W 61st St Tulsa 74132 United States;X-APPLE-RADIUS=500;X-TITLE=2433 W 61st St:geo:-96.0196213,36.0775959
END:VEVENT
BEGIN:VEVENT
DTSTART;TZID=America/Chicago:20250326T191500
DTEND;TZID=America/Chicago:20250326T210000
DTSTAMP:20260424T032532
CREATED:20250306T195623Z
LAST-MODIFIED:20250306T195623Z
UID:10012070-1743016500-1743022800@www.saintcatherineschool.org
SUMMARY:Soccer Game
DESCRIPTION:
URL:https://www.saintcatherineschool.org/event/soccer-game-8
LOCATION:Riverfield\, 2433 W 61st St\, Tulsa\, 74132\, United States
CATEGORIES:Church of Saint Catherine,Saint Catherine School
GEO:36.0775959;-96.0196213
X-APPLE-STRUCTURED-LOCATION;VALUE=URI;X-ADDRESS=Riverfield 2433 W 61st St Tulsa 74132 United States;X-APPLE-RADIUS=500;X-TITLE=2433 W 61st St:geo:-96.0196213,36.0775959
END:VEVENT
END:VCALENDAR