BEGIN:VCALENDAR
VERSION:2.0
PRODID:-//Saint Catherine of Alexandria School - ECPv6.15.20//NONSGML v1.0//EN
CALSCALE:GREGORIAN
METHOD:PUBLISH
X-WR-CALNAME:Saint Catherine of Alexandria School
X-ORIGINAL-URL:https://www.saintcatherineschool.org
X-WR-CALDESC:Events for Saint Catherine of Alexandria School
REFRESH-INTERVAL;VALUE=DURATION:PT1H
X-Robots-Tag:noindex
X-PUBLISHED-TTL:PT1H
BEGIN:VTIMEZONE
TZID:America/Chicago
BEGIN:DAYLIGHT
TZOFFSETFROM:-0600
TZOFFSETTO:-0500
TZNAME:CDT
DTSTART:20180311T080000
END:DAYLIGHT
BEGIN:STANDARD
TZOFFSETFROM:-0500
TZOFFSETTO:-0600
TZNAME:CST
DTSTART:20181104T070000
END:STANDARD
BEGIN:DAYLIGHT
TZOFFSETFROM:-0600
TZOFFSETTO:-0500
TZNAME:CDT
DTSTART:20190310T080000
END:DAYLIGHT
BEGIN:STANDARD
TZOFFSETFROM:-0500
TZOFFSETTO:-0600
TZNAME:CST
DTSTART:20191103T070000
END:STANDARD
BEGIN:DAYLIGHT
TZOFFSETFROM:-0600
TZOFFSETTO:-0500
TZNAME:CDT
DTSTART:20200308T080000
END:DAYLIGHT
BEGIN:STANDARD
TZOFFSETFROM:-0500
TZOFFSETTO:-0600
TZNAME:CST
DTSTART:20201101T070000
END:STANDARD
BEGIN:DAYLIGHT
TZOFFSETFROM:-0600
TZOFFSETTO:-0500
TZNAME:CDT
DTSTART:20210314T080000
END:DAYLIGHT
BEGIN:STANDARD
TZOFFSETFROM:-0500
TZOFFSETTO:-0600
TZNAME:CST
DTSTART:20211107T070000
END:STANDARD
BEGIN:DAYLIGHT
TZOFFSETFROM:-0600
TZOFFSETTO:-0500
TZNAME:CDT
DTSTART:20220313T080000
END:DAYLIGHT
BEGIN:STANDARD
TZOFFSETFROM:-0500
TZOFFSETTO:-0600
TZNAME:CST
DTSTART:20221106T070000
END:STANDARD
BEGIN:DAYLIGHT
TZOFFSETFROM:-0600
TZOFFSETTO:-0500
TZNAME:CDT
DTSTART:20230312T080000
END:DAYLIGHT
BEGIN:STANDARD
TZOFFSETFROM:-0500
TZOFFSETTO:-0600
TZNAME:CST
DTSTART:20231105T070000
END:STANDARD
BEGIN:DAYLIGHT
TZOFFSETFROM:-0600
TZOFFSETTO:-0500
TZNAME:CDT
DTSTART:20240310T080000
END:DAYLIGHT
BEGIN:STANDARD
TZOFFSETFROM:-0500
TZOFFSETTO:-0600
TZNAME:CST
DTSTART:20241103T070000
END:STANDARD
BEGIN:DAYLIGHT
TZOFFSETFROM:-0600
TZOFFSETTO:-0500
TZNAME:CDT
DTSTART:20250309T080000
END:DAYLIGHT
BEGIN:STANDARD
TZOFFSETFROM:-0500
TZOFFSETTO:-0600
TZNAME:CST
DTSTART:20251102T070000
END:STANDARD
BEGIN:DAYLIGHT
TZOFFSETFROM:-0600
TZOFFSETTO:-0500
TZNAME:CDT
DTSTART:20260308T080000
END:DAYLIGHT
BEGIN:STANDARD
TZOFFSETFROM:-0500
TZOFFSETTO:-0600
TZNAME:CST
DTSTART:20261101T070000
END:STANDARD
END:VTIMEZONE
BEGIN:VEVENT
DTSTART;TZID=America/Chicago:20250815T080000
DTEND;TZID=America/Chicago:20250815T090000
DTSTAMP:20260423T233236
CREATED:20250813T204932Z
LAST-MODIFIED:20250814T145730Z
UID:10013150-1755244800-1755248400@www.saintcatherineschool.org
SUMMARY:Feast of the Assumption of Mary Mass
DESCRIPTION:We will have an all school Mass today. Today is a Holy Day of Obligation. All are welcome to come and celebrate with us.
URL:https://www.saintcatherineschool.org/event/feast-of-the-assumption-of-mary
LOCATION:Saint Catherine Church\, 4532 S. 25th W. Ave.\, Tulsa\, OK\, 74107\, United States
CATEGORIES:Church of Saint Catherine,Saint Catherine School
ORGANIZER;CN="Fr. Robert Kim":MAILTO:fr.robert.kim@dioceseoftulsa.org
GEO:36.0981774;-96.0216659
X-APPLE-STRUCTURED-LOCATION;VALUE=URI;X-ADDRESS=Saint Catherine Church 4532 S. 25th W. Ave. Tulsa OK 74107 United States;X-APPLE-RADIUS=500;X-TITLE=4532 S. 25th W. Ave.:geo:-96.0216659,36.0981774
END:VEVENT
BEGIN:VEVENT
DTSTART;TZID=America/Chicago:20250814T080000
DTEND;TZID=America/Chicago:20250814T090000
DTSTAMP:20260423T233236
CREATED:20250814T145402Z
LAST-MODIFIED:20250814T145402Z
UID:10013154-1755158400-1755162000@www.saintcatherineschool.org
SUMMARY:Mass in English
DESCRIPTION:
URL:https://www.saintcatherineschool.org/event/mass-in-english-4
LOCATION:Saint Catherine Church\, 4532 S. 25th W. Ave.\, Tulsa\, OK\, 74107\, United States
CATEGORIES:Church of Saint Catherine,Saint Catherine School
ORGANIZER;CN="Fr. Robert Kim":MAILTO:fr.robert.kim@dioceseoftulsa.org
GEO:36.0981774;-96.0216659
X-APPLE-STRUCTURED-LOCATION;VALUE=URI;X-ADDRESS=Saint Catherine Church 4532 S. 25th W. Ave. Tulsa OK 74107 United States;X-APPLE-RADIUS=500;X-TITLE=4532 S. 25th W. Ave.:geo:-96.0216659,36.0981774
END:VEVENT
BEGIN:VEVENT
DTSTART;TZID=America/Chicago:20220127T173000
DTEND;TZID=America/Chicago:20220127T190000
DTSTAMP:20260423T233236
CREATED:20211206T164618Z
LAST-MODIFIED:20211206T164618Z
UID:10009060-1643304600-1643310000@www.saintcatherineschool.org
SUMMARY:Community Meal
DESCRIPTION:Saint Catherine invites all to come and have a hot meal on us.  Serving begins at 5:30 and ends at 7:00 or when the food runs out.
URL:https://www.saintcatherineschool.org/event/community-meal-39
LOCATION:Saint Catherine Church\, 4532 S. 25th W. Ave.\, Tulsa\, OK\, 74107\, United States
CATEGORIES:Church of Saint Catherine,Saint Catherine School
ORGANIZER;CN="Fr. John Grant":MAILTO:fr.joh.grant@saint-catherine.org
GEO:36.0981774;-96.0216659
X-APPLE-STRUCTURED-LOCATION;VALUE=URI;X-ADDRESS=Saint Catherine Church 4532 S. 25th W. Ave. Tulsa OK 74107 United States;X-APPLE-RADIUS=500;X-TITLE=4532 S. 25th W. Ave.:geo:-96.0216659,36.0981774
END:VEVENT
BEGIN:VEVENT
DTSTART;TZID=America/Chicago:20210425T083000
DTEND;TZID=America/Chicago:20210425T103000
DTSTAMP:20260423T233236
CREATED:20210208T192745Z
LAST-MODIFIED:20210208T192745Z
UID:10008761-1619339400-1619346600@www.saintcatherineschool.org
SUMMARY:TonU Maria Mass
DESCRIPTION:TonU Maria will have Mass at Saint Catherine Church at 8:30.
URL:https://www.saintcatherineschool.org/event/tonu-maria-mass-5/2021-04-25
LOCATION:Saint Catherine Church\, 4532 S. 25th W. Ave.\, Tulsa\, OK\, 74107\, United States
CATEGORIES:Church of Saint Catherine,Saint Catherine School
ORGANIZER;CN="Fr. Robert Kim":MAILTO:fr.robert.kim@dioceseoftulsa.org
GEO:36.0981774;-96.0216659
X-APPLE-STRUCTURED-LOCATION;VALUE=URI;X-ADDRESS=Saint Catherine Church 4532 S. 25th W. Ave. Tulsa OK 74107 United States;X-APPLE-RADIUS=500;X-TITLE=4532 S. 25th W. Ave.:geo:-96.0216659,36.0981774
END:VEVENT
BEGIN:VEVENT
DTSTART;TZID=America/Chicago:20210418T083000
DTEND;TZID=America/Chicago:20210418T103000
DTSTAMP:20260423T233236
CREATED:20210208T192745Z
LAST-MODIFIED:20210208T192745Z
UID:10008760-1618734600-1618741800@www.saintcatherineschool.org
SUMMARY:TonU Maria Mass
DESCRIPTION:TonU Maria will have Mass at Saint Catherine Church at 8:30.
URL:https://www.saintcatherineschool.org/event/tonu-maria-mass-5/2021-04-18
LOCATION:Saint Catherine Church\, 4532 S. 25th W. Ave.\, Tulsa\, OK\, 74107\, United States
CATEGORIES:Church of Saint Catherine,Saint Catherine School
ORGANIZER;CN="Fr. Robert Kim":MAILTO:fr.robert.kim@dioceseoftulsa.org
GEO:36.0981774;-96.0216659
X-APPLE-STRUCTURED-LOCATION;VALUE=URI;X-ADDRESS=Saint Catherine Church 4532 S. 25th W. Ave. Tulsa OK 74107 United States;X-APPLE-RADIUS=500;X-TITLE=4532 S. 25th W. Ave.:geo:-96.0216659,36.0981774
END:VEVENT
BEGIN:VEVENT
DTSTART;TZID=America/Chicago:20210411T083000
DTEND;TZID=America/Chicago:20210411T103000
DTSTAMP:20260423T233236
CREATED:20210208T192745Z
LAST-MODIFIED:20210208T192745Z
UID:10008759-1618129800-1618137000@www.saintcatherineschool.org
SUMMARY:TonU Maria Mass
DESCRIPTION:TonU Maria will have Mass at Saint Catherine Church at 8:30.
URL:https://www.saintcatherineschool.org/event/tonu-maria-mass-5/2021-04-11
LOCATION:Saint Catherine Church\, 4532 S. 25th W. Ave.\, Tulsa\, OK\, 74107\, United States
CATEGORIES:Church of Saint Catherine,Saint Catherine School
ORGANIZER;CN="Fr. Robert Kim":MAILTO:fr.robert.kim@dioceseoftulsa.org
GEO:36.0981774;-96.0216659
X-APPLE-STRUCTURED-LOCATION;VALUE=URI;X-ADDRESS=Saint Catherine Church 4532 S. 25th W. Ave. Tulsa OK 74107 United States;X-APPLE-RADIUS=500;X-TITLE=4532 S. 25th W. Ave.:geo:-96.0216659,36.0981774
END:VEVENT
BEGIN:VEVENT
DTSTART;TZID=America/Chicago:20210404T083000
DTEND;TZID=America/Chicago:20210404T103000
DTSTAMP:20260423T233236
CREATED:20210208T192745Z
LAST-MODIFIED:20210208T192745Z
UID:10008758-1617525000-1617532200@www.saintcatherineschool.org
SUMMARY:TonU Maria Mass
DESCRIPTION:TonU Maria will have Mass at Saint Catherine Church at 8:30.
URL:https://www.saintcatherineschool.org/event/tonu-maria-mass-5/2021-04-04
LOCATION:Saint Catherine Church\, 4532 S. 25th W. Ave.\, Tulsa\, OK\, 74107\, United States
CATEGORIES:Church of Saint Catherine,Saint Catherine School
ORGANIZER;CN="Fr. Robert Kim":MAILTO:fr.robert.kim@dioceseoftulsa.org
GEO:36.0981774;-96.0216659
X-APPLE-STRUCTURED-LOCATION;VALUE=URI;X-ADDRESS=Saint Catherine Church 4532 S. 25th W. Ave. Tulsa OK 74107 United States;X-APPLE-RADIUS=500;X-TITLE=4532 S. 25th W. Ave.:geo:-96.0216659,36.0981774
END:VEVENT
BEGIN:VEVENT
DTSTART;TZID=America/Chicago:20210328T083000
DTEND;TZID=America/Chicago:20210328T103000
DTSTAMP:20260423T233236
CREATED:20210208T192745Z
LAST-MODIFIED:20210208T192745Z
UID:10008757-1616920200-1616927400@www.saintcatherineschool.org
SUMMARY:TonU Maria Mass
DESCRIPTION:TonU Maria will have Mass at Saint Catherine Church at 8:30.
URL:https://www.saintcatherineschool.org/event/tonu-maria-mass-5/2021-03-28
LOCATION:Saint Catherine Church\, 4532 S. 25th W. Ave.\, Tulsa\, OK\, 74107\, United States
CATEGORIES:Church of Saint Catherine,Saint Catherine School
ORGANIZER;CN="Fr. Robert Kim":MAILTO:fr.robert.kim@dioceseoftulsa.org
GEO:36.0981774;-96.0216659
X-APPLE-STRUCTURED-LOCATION;VALUE=URI;X-ADDRESS=Saint Catherine Church 4532 S. 25th W. Ave. Tulsa OK 74107 United States;X-APPLE-RADIUS=500;X-TITLE=4532 S. 25th W. Ave.:geo:-96.0216659,36.0981774
END:VEVENT
BEGIN:VEVENT
DTSTART;TZID=America/Chicago:20210321T083000
DTEND;TZID=America/Chicago:20210321T103000
DTSTAMP:20260423T233236
CREATED:20210208T192745Z
LAST-MODIFIED:20210208T192745Z
UID:10008756-1616315400-1616322600@www.saintcatherineschool.org
SUMMARY:TonU Maria Mass
DESCRIPTION:TonU Maria will have Mass at Saint Catherine Church at 8:30.
URL:https://www.saintcatherineschool.org/event/tonu-maria-mass-5/2021-03-21
LOCATION:Saint Catherine Church\, 4532 S. 25th W. Ave.\, Tulsa\, OK\, 74107\, United States
CATEGORIES:Church of Saint Catherine,Saint Catherine School
ORGANIZER;CN="Fr. Robert Kim":MAILTO:fr.robert.kim@dioceseoftulsa.org
GEO:36.0981774;-96.0216659
X-APPLE-STRUCTURED-LOCATION;VALUE=URI;X-ADDRESS=Saint Catherine Church 4532 S. 25th W. Ave. Tulsa OK 74107 United States;X-APPLE-RADIUS=500;X-TITLE=4532 S. 25th W. Ave.:geo:-96.0216659,36.0981774
END:VEVENT
BEGIN:VEVENT
DTSTART;TZID=America/Chicago:20210314T083000
DTEND;TZID=America/Chicago:20210314T103000
DTSTAMP:20260423T233236
CREATED:20210208T192745Z
LAST-MODIFIED:20210208T192745Z
UID:10008755-1615710600-1615717800@www.saintcatherineschool.org
SUMMARY:TonU Maria Mass
DESCRIPTION:TonU Maria will have Mass at Saint Catherine Church at 8:30.
URL:https://www.saintcatherineschool.org/event/tonu-maria-mass-5/2021-03-14
LOCATION:Saint Catherine Church\, 4532 S. 25th W. Ave.\, Tulsa\, OK\, 74107\, United States
CATEGORIES:Church of Saint Catherine,Saint Catherine School
ORGANIZER;CN="Fr. Robert Kim":MAILTO:fr.robert.kim@dioceseoftulsa.org
GEO:36.0981774;-96.0216659
X-APPLE-STRUCTURED-LOCATION;VALUE=URI;X-ADDRESS=Saint Catherine Church 4532 S. 25th W. Ave. Tulsa OK 74107 United States;X-APPLE-RADIUS=500;X-TITLE=4532 S. 25th W. Ave.:geo:-96.0216659,36.0981774
END:VEVENT
BEGIN:VEVENT
DTSTART;TZID=America/Chicago:20210307T083000
DTEND;TZID=America/Chicago:20210307T103000
DTSTAMP:20260423T233236
CREATED:20210208T192745Z
LAST-MODIFIED:20210208T192745Z
UID:10008754-1615105800-1615113000@www.saintcatherineschool.org
SUMMARY:TonU Maria Mass
DESCRIPTION:TonU Maria will have Mass at Saint Catherine Church at 8:30.
URL:https://www.saintcatherineschool.org/event/tonu-maria-mass-5/2021-03-07
LOCATION:Saint Catherine Church\, 4532 S. 25th W. Ave.\, Tulsa\, OK\, 74107\, United States
CATEGORIES:Church of Saint Catherine,Saint Catherine School
ORGANIZER;CN="Fr. Robert Kim":MAILTO:fr.robert.kim@dioceseoftulsa.org
GEO:36.0981774;-96.0216659
X-APPLE-STRUCTURED-LOCATION;VALUE=URI;X-ADDRESS=Saint Catherine Church 4532 S. 25th W. Ave. Tulsa OK 74107 United States;X-APPLE-RADIUS=500;X-TITLE=4532 S. 25th W. Ave.:geo:-96.0216659,36.0981774
END:VEVENT
BEGIN:VEVENT
DTSTART;TZID=America/Chicago:20210228T083000
DTEND;TZID=America/Chicago:20210228T103000
DTSTAMP:20260423T233236
CREATED:20210208T192745Z
LAST-MODIFIED:20210208T192745Z
UID:10008753-1614501000-1614508200@www.saintcatherineschool.org
SUMMARY:TonU Maria Mass
DESCRIPTION:TonU Maria will have Mass at Saint Catherine Church at 8:30.
URL:https://www.saintcatherineschool.org/event/tonu-maria-mass-5/2021-02-28
LOCATION:Saint Catherine Church\, 4532 S. 25th W. Ave.\, Tulsa\, OK\, 74107\, United States
CATEGORIES:Church of Saint Catherine,Saint Catherine School
ORGANIZER;CN="Fr. Robert Kim":MAILTO:fr.robert.kim@dioceseoftulsa.org
GEO:36.0981774;-96.0216659
X-APPLE-STRUCTURED-LOCATION;VALUE=URI;X-ADDRESS=Saint Catherine Church 4532 S. 25th W. Ave. Tulsa OK 74107 United States;X-APPLE-RADIUS=500;X-TITLE=4532 S. 25th W. Ave.:geo:-96.0216659,36.0981774
END:VEVENT
BEGIN:VEVENT
DTSTART;TZID=America/Chicago:20210221T083000
DTEND;TZID=America/Chicago:20210221T103000
DTSTAMP:20260423T233236
CREATED:20210208T192745Z
LAST-MODIFIED:20210208T192745Z
UID:10008752-1613896200-1613903400@www.saintcatherineschool.org
SUMMARY:TonU Maria Mass
DESCRIPTION:TonU Maria will have Mass at Saint Catherine Church at 8:30.
URL:https://www.saintcatherineschool.org/event/tonu-maria-mass-5/2021-02-21
LOCATION:Saint Catherine Church\, 4532 S. 25th W. Ave.\, Tulsa\, OK\, 74107\, United States
CATEGORIES:Church of Saint Catherine,Saint Catherine School
ORGANIZER;CN="Fr. Robert Kim":MAILTO:fr.robert.kim@dioceseoftulsa.org
GEO:36.0981774;-96.0216659
X-APPLE-STRUCTURED-LOCATION;VALUE=URI;X-ADDRESS=Saint Catherine Church 4532 S. 25th W. Ave. Tulsa OK 74107 United States;X-APPLE-RADIUS=500;X-TITLE=4532 S. 25th W. Ave.:geo:-96.0216659,36.0981774
END:VEVENT
BEGIN:VEVENT
DTSTART;TZID=America/Chicago:20210214T083000
DTEND;TZID=America/Chicago:20210214T103000
DTSTAMP:20260423T233236
CREATED:20210208T192745Z
LAST-MODIFIED:20210208T192745Z
UID:10008751-1613291400-1613298600@www.saintcatherineschool.org
SUMMARY:TonU Maria Mass
DESCRIPTION:TonU Maria will have Mass at Saint Catherine Church at 8:30.
URL:https://www.saintcatherineschool.org/event/tonu-maria-mass-5/2021-02-14
LOCATION:Saint Catherine Church\, 4532 S. 25th W. Ave.\, Tulsa\, OK\, 74107\, United States
CATEGORIES:Church of Saint Catherine,Saint Catherine School
ORGANIZER;CN="Fr. Robert Kim":MAILTO:fr.robert.kim@dioceseoftulsa.org
GEO:36.0981774;-96.0216659
X-APPLE-STRUCTURED-LOCATION;VALUE=URI;X-ADDRESS=Saint Catherine Church 4532 S. 25th W. Ave. Tulsa OK 74107 United States;X-APPLE-RADIUS=500;X-TITLE=4532 S. 25th W. Ave.:geo:-96.0216659,36.0981774
END:VEVENT
BEGIN:VEVENT
DTSTART;TZID=America/Chicago:20210207T083000
DTEND;TZID=America/Chicago:20210207T103000
DTSTAMP:20260423T233236
CREATED:20210208T192745Z
LAST-MODIFIED:20210208T192745Z
UID:10008750-1612686600-1612693800@www.saintcatherineschool.org
SUMMARY:TonU Maria Mass
DESCRIPTION:TonU Maria will have Mass at Saint Catherine Church at 8:30.
URL:https://www.saintcatherineschool.org/event/tonu-maria-mass-5/2021-02-07
LOCATION:Saint Catherine Church\, 4532 S. 25th W. Ave.\, Tulsa\, OK\, 74107\, United States
CATEGORIES:Church of Saint Catherine,Saint Catherine School
ORGANIZER;CN="Fr. Robert Kim":MAILTO:fr.robert.kim@dioceseoftulsa.org
GEO:36.0981774;-96.0216659
X-APPLE-STRUCTURED-LOCATION;VALUE=URI;X-ADDRESS=Saint Catherine Church 4532 S. 25th W. Ave. Tulsa OK 74107 United States;X-APPLE-RADIUS=500;X-TITLE=4532 S. 25th W. Ave.:geo:-96.0216659,36.0981774
END:VEVENT
BEGIN:VEVENT
DTSTART;TZID=America/Chicago:20201217T173000
DTEND;TZID=America/Chicago:20201217T190000
DTSTAMP:20260423T233236
CREATED:20201202T202206Z
LAST-MODIFIED:20201202T202206Z
UID:10008697-1608226200-1608231600@www.saintcatherineschool.org
SUMMARY:Community Meal
DESCRIPTION:Please come and enjoy a free meal and fellowship beginning at 5:30.  For the foreseeable future\, the community meal will be a “to go” meal.
URL:https://www.saintcatherineschool.org/event/community-meal-26
LOCATION:Saint Catherine Church\, 4532 S. 25th W. Ave.\, Tulsa\, OK\, 74107\, United States
CATEGORIES:Church of Saint Catherine,Saint Catherine School
ORGANIZER;CN="Fr. John Grant":MAILTO:fr.joh.grant@saint-catherine.org
GEO:36.0981774;-96.0216659
X-APPLE-STRUCTURED-LOCATION;VALUE=URI;X-ADDRESS=Saint Catherine Church 4532 S. 25th W. Ave. Tulsa OK 74107 United States;X-APPLE-RADIUS=500;X-TITLE=4532 S. 25th W. Ave.:geo:-96.0216659,36.0981774
END:VEVENT
BEGIN:VEVENT
DTSTART;TZID=America/Chicago:20190906T153000
DTEND;TZID=America/Chicago:20190906T163000
DTSTAMP:20260423T233236
CREATED:20190827T143121Z
LAST-MODIFIED:20190827T143121Z
UID:10008236-1567783800-1567787400@www.saintcatherineschool.org
SUMMARY:Book Fair
DESCRIPTION:We will have a short Book Fair this year.  Here are the times and days: \nTuesday\, September 3rd – 3:30-4:30 \nWednesday\, September 4th – 3:30-4:30 \nThursday\, September 5th – 3:30-4:30 \nFriday\, September 6th – 8-1 and 3:30-4:30 \n 
URL:https://www.saintcatherineschool.org/event/book-fair-8/2019-09-06
LOCATION:Saint Catherine Church\, 4532 S. 25th W. Ave.\, Tulsa\, OK\, 74107\, United States
CATEGORIES:Church of Saint Catherine,Saint Catherine School
ORGANIZER;CN="Michelle Anthamatten":MAILTO:manthamatten@saint-catherine.org
GEO:36.0981774;-96.0216659
X-APPLE-STRUCTURED-LOCATION;VALUE=URI;X-ADDRESS=Saint Catherine Church 4532 S. 25th W. Ave. Tulsa OK 74107 United States;X-APPLE-RADIUS=500;X-TITLE=4532 S. 25th W. Ave.:geo:-96.0216659,36.0981774
END:VEVENT
BEGIN:VEVENT
DTSTART;TZID=America/Chicago:20190906T140000
DTEND;TZID=America/Chicago:20190906T150000
DTSTAMP:20260423T233236
CREATED:20190827T142716Z
LAST-MODIFIED:20190827T142716Z
UID:10008265-1567778400-1567782000@www.saintcatherineschool.org
SUMMARY:Holy Hour
DESCRIPTION:Holy Hour will be in the church at 2pm.
URL:https://www.saintcatherineschool.org/event/holy-hour-3
LOCATION:Saint Catherine Church\, 4532 S. 25th W. Ave.\, Tulsa\, OK\, 74107\, United States
CATEGORIES:Church of Saint Catherine,Saint Catherine School
ORGANIZER;CN="Fr. John Grant":MAILTO:fr.joh.grant@saint-catherine.org
GEO:36.0981774;-96.0216659
X-APPLE-STRUCTURED-LOCATION;VALUE=URI;X-ADDRESS=Saint Catherine Church 4532 S. 25th W. Ave. Tulsa OK 74107 United States;X-APPLE-RADIUS=500;X-TITLE=4532 S. 25th W. Ave.:geo:-96.0216659,36.0981774
END:VEVENT
BEGIN:VEVENT
DTSTART;TZID=America/Chicago:20190905T153000
DTEND;TZID=America/Chicago:20190905T163000
DTSTAMP:20260423T233236
CREATED:20190827T143121Z
LAST-MODIFIED:20190827T143121Z
UID:10008235-1567697400-1567701000@www.saintcatherineschool.org
SUMMARY:Book Fair
DESCRIPTION:We will have a short Book Fair this year.  Here are the times and days: \nTuesday\, September 3rd – 3:30-4:30 \nWednesday\, September 4th – 3:30-4:30 \nThursday\, September 5th – 3:30-4:30 \nFriday\, September 6th – 8-1 and 3:30-4:30 \n 
URL:https://www.saintcatherineschool.org/event/book-fair-8/2019-09-05
LOCATION:Saint Catherine Church\, 4532 S. 25th W. Ave.\, Tulsa\, OK\, 74107\, United States
CATEGORIES:Church of Saint Catherine,Saint Catherine School
ORGANIZER;CN="Michelle Anthamatten":MAILTO:manthamatten@saint-catherine.org
GEO:36.0981774;-96.0216659
X-APPLE-STRUCTURED-LOCATION;VALUE=URI;X-ADDRESS=Saint Catherine Church 4532 S. 25th W. Ave. Tulsa OK 74107 United States;X-APPLE-RADIUS=500;X-TITLE=4532 S. 25th W. Ave.:geo:-96.0216659,36.0981774
END:VEVENT
BEGIN:VEVENT
DTSTART;TZID=America/Chicago:20190904T153000
DTEND;TZID=America/Chicago:20190904T163000
DTSTAMP:20260423T233236
CREATED:20190827T143121Z
LAST-MODIFIED:20190827T143121Z
UID:10008234-1567611000-1567614600@www.saintcatherineschool.org
SUMMARY:Book Fair
DESCRIPTION:We will have a short Book Fair this year.  Here are the times and days: \nTuesday\, September 3rd – 3:30-4:30 \nWednesday\, September 4th – 3:30-4:30 \nThursday\, September 5th – 3:30-4:30 \nFriday\, September 6th – 8-1 and 3:30-4:30 \n 
URL:https://www.saintcatherineschool.org/event/book-fair-8/2019-09-04
LOCATION:Saint Catherine Church\, 4532 S. 25th W. Ave.\, Tulsa\, OK\, 74107\, United States
CATEGORIES:Church of Saint Catherine,Saint Catherine School
ORGANIZER;CN="Michelle Anthamatten":MAILTO:manthamatten@saint-catherine.org
GEO:36.0981774;-96.0216659
X-APPLE-STRUCTURED-LOCATION;VALUE=URI;X-ADDRESS=Saint Catherine Church 4532 S. 25th W. Ave. Tulsa OK 74107 United States;X-APPLE-RADIUS=500;X-TITLE=4532 S. 25th W. Ave.:geo:-96.0216659,36.0981774
END:VEVENT
BEGIN:VEVENT
DTSTART;TZID=America/Chicago:20190903T153000
DTEND;TZID=America/Chicago:20190903T163000
DTSTAMP:20260423T233236
CREATED:20190827T143121Z
LAST-MODIFIED:20190827T143121Z
UID:10008233-1567524600-1567528200@www.saintcatherineschool.org
SUMMARY:Book Fair
DESCRIPTION:We will have a short Book Fair this year.  Here are the times and days: \nTuesday\, September 3rd – 3:30-4:30 \nWednesday\, September 4th – 3:30-4:30 \nThursday\, September 5th – 3:30-4:30 \nFriday\, September 6th – 8-1 and 3:30-4:30 \n 
URL:https://www.saintcatherineschool.org/event/book-fair-8/2019-09-03
LOCATION:Saint Catherine Church\, 4532 S. 25th W. Ave.\, Tulsa\, OK\, 74107\, United States
CATEGORIES:Church of Saint Catherine,Saint Catherine School
ORGANIZER;CN="Michelle Anthamatten":MAILTO:manthamatten@saint-catherine.org
GEO:36.0981774;-96.0216659
X-APPLE-STRUCTURED-LOCATION;VALUE=URI;X-ADDRESS=Saint Catherine Church 4532 S. 25th W. Ave. Tulsa OK 74107 United States;X-APPLE-RADIUS=500;X-TITLE=4532 S. 25th W. Ave.:geo:-96.0216659,36.0981774
END:VEVENT
BEGIN:VEVENT
DTSTART;TZID=America/Chicago:20190830T081500
DTEND;TZID=America/Chicago:20190830T090000
DTSTAMP:20260423T233236
CREATED:20190626T012336Z
LAST-MODIFIED:20190626T012336Z
UID:10005513-1567152900-1567155600@www.saintcatherineschool.org
SUMMARY:Mass
DESCRIPTION:Mass will be in the church at 8:15.
URL:https://www.saintcatherineschool.org/event/mass-17/2019-08-30
LOCATION:Saint Catherine Church\, 4532 S. 25th W. Ave.\, Tulsa\, OK\, 74107\, United States
CATEGORIES:Church of Saint Catherine,Saint Catherine School
ORGANIZER;CN="Michelle Anthamatten":MAILTO:manthamatten@saint-catherine.org
GEO:36.0981774;-96.0216659
X-APPLE-STRUCTURED-LOCATION;VALUE=URI;X-ADDRESS=Saint Catherine Church 4532 S. 25th W. Ave. Tulsa OK 74107 United States;X-APPLE-RADIUS=500;X-TITLE=4532 S. 25th W. Ave.:geo:-96.0216659,36.0981774
END:VEVENT
BEGIN:VEVENT
DTSTART;TZID=America/Chicago:20190823T081500
DTEND;TZID=America/Chicago:20190823T090000
DTSTAMP:20260423T233236
CREATED:20190626T012336Z
LAST-MODIFIED:20190626T012336Z
UID:10005512-1566548100-1566550800@www.saintcatherineschool.org
SUMMARY:Mass
DESCRIPTION:Mass will be in the church at 8:15.
URL:https://www.saintcatherineschool.org/event/mass-17/2019-08-23
LOCATION:Saint Catherine Church\, 4532 S. 25th W. Ave.\, Tulsa\, OK\, 74107\, United States
CATEGORIES:Church of Saint Catherine,Saint Catherine School
ORGANIZER;CN="Michelle Anthamatten":MAILTO:manthamatten@saint-catherine.org
GEO:36.0981774;-96.0216659
X-APPLE-STRUCTURED-LOCATION;VALUE=URI;X-ADDRESS=Saint Catherine Church 4532 S. 25th W. Ave. Tulsa OK 74107 United States;X-APPLE-RADIUS=500;X-TITLE=4532 S. 25th W. Ave.:geo:-96.0216659,36.0981774
END:VEVENT
BEGIN:VEVENT
DTSTART;TZID=America/Chicago:20190816T081500
DTEND;TZID=America/Chicago:20190816T090000
DTSTAMP:20260423T233236
CREATED:20190626T012336Z
LAST-MODIFIED:20190626T012336Z
UID:10005511-1565943300-1565946000@www.saintcatherineschool.org
SUMMARY:Mass
DESCRIPTION:Mass will be in the church at 8:15.
URL:https://www.saintcatherineschool.org/event/mass-17/2019-08-16
LOCATION:Saint Catherine Church\, 4532 S. 25th W. Ave.\, Tulsa\, OK\, 74107\, United States
CATEGORIES:Church of Saint Catherine,Saint Catherine School
ORGANIZER;CN="Michelle Anthamatten":MAILTO:manthamatten@saint-catherine.org
GEO:36.0981774;-96.0216659
X-APPLE-STRUCTURED-LOCATION;VALUE=URI;X-ADDRESS=Saint Catherine Church 4532 S. 25th W. Ave. Tulsa OK 74107 United States;X-APPLE-RADIUS=500;X-TITLE=4532 S. 25th W. Ave.:geo:-96.0216659,36.0981774
END:VEVENT
BEGIN:VEVENT
DTSTART;TZID=America/Chicago:20190809T081500
DTEND;TZID=America/Chicago:20190809T090000
DTSTAMP:20260423T233236
CREATED:20190626T012336Z
LAST-MODIFIED:20190626T012336Z
UID:10005510-1565338500-1565341200@www.saintcatherineschool.org
SUMMARY:Mass
DESCRIPTION:Mass will be in the church at 8:15.
URL:https://www.saintcatherineschool.org/event/mass-17/2019-08-09
LOCATION:Saint Catherine Church\, 4532 S. 25th W. Ave.\, Tulsa\, OK\, 74107\, United States
CATEGORIES:Church of Saint Catherine,Saint Catherine School
ORGANIZER;CN="Michelle Anthamatten":MAILTO:manthamatten@saint-catherine.org
GEO:36.0981774;-96.0216659
X-APPLE-STRUCTURED-LOCATION;VALUE=URI;X-ADDRESS=Saint Catherine Church 4532 S. 25th W. Ave. Tulsa OK 74107 United States;X-APPLE-RADIUS=500;X-TITLE=4532 S. 25th W. Ave.:geo:-96.0216659,36.0981774
END:VEVENT
BEGIN:VEVENT
DTSTART;TZID=America/Chicago:20190802T081500
DTEND;TZID=America/Chicago:20190802T090000
DTSTAMP:20260423T233236
CREATED:20190626T012336Z
LAST-MODIFIED:20190626T012336Z
UID:10005509-1564733700-1564736400@www.saintcatherineschool.org
SUMMARY:Mass
DESCRIPTION:Mass will be in the church at 8:15.
URL:https://www.saintcatherineschool.org/event/mass-17/2019-08-02
LOCATION:Saint Catherine Church\, 4532 S. 25th W. Ave.\, Tulsa\, OK\, 74107\, United States
CATEGORIES:Church of Saint Catherine,Saint Catherine School
ORGANIZER;CN="Michelle Anthamatten":MAILTO:manthamatten@saint-catherine.org
GEO:36.0981774;-96.0216659
X-APPLE-STRUCTURED-LOCATION;VALUE=URI;X-ADDRESS=Saint Catherine Church 4532 S. 25th W. Ave. Tulsa OK 74107 United States;X-APPLE-RADIUS=500;X-TITLE=4532 S. 25th W. Ave.:geo:-96.0216659,36.0981774
END:VEVENT
BEGIN:VEVENT
DTSTART;TZID=America/Chicago:20190531T081000
DTEND;TZID=America/Chicago:20190531T090000
DTSTAMP:20260423T233236
CREATED:20180801T175923Z
LAST-MODIFIED:20180801T175923Z
UID:10007291-1559290200-1559293200@www.saintcatherineschool.org
SUMMARY:Mass
DESCRIPTION:The school Mass begins at 8:10 in the church.
URL:https://www.saintcatherineschool.org/event/mass-14/2019-05-31
LOCATION:Saint Catherine Church\, 4532 S. 25th W. Ave.\, Tulsa\, OK\, 74107\, United States
CATEGORIES:Church of Saint Catherine,Saint Catherine School
ORGANIZER;CN="Michelle Anthamatten":MAILTO:manthamatten@saint-catherine.org
GEO:36.0981774;-96.0216659
X-APPLE-STRUCTURED-LOCATION;VALUE=URI;X-ADDRESS=Saint Catherine Church 4532 S. 25th W. Ave. Tulsa OK 74107 United States;X-APPLE-RADIUS=500;X-TITLE=4532 S. 25th W. Ave.:geo:-96.0216659,36.0981774
END:VEVENT
BEGIN:VEVENT
DTSTART;TZID=America/Chicago:20190528T081000
DTEND;TZID=America/Chicago:20190528T090000
DTSTAMP:20260423T233236
CREATED:20180801T175923Z
LAST-MODIFIED:20180801T175923Z
UID:10007290-1559031000-1559034000@www.saintcatherineschool.org
SUMMARY:Mass
DESCRIPTION:The school Mass begins at 8:10 in the church.
URL:https://www.saintcatherineschool.org/event/mass-14/2019-05-28
LOCATION:Saint Catherine Church\, 4532 S. 25th W. Ave.\, Tulsa\, OK\, 74107\, United States
CATEGORIES:Church of Saint Catherine,Saint Catherine School
ORGANIZER;CN="Michelle Anthamatten":MAILTO:manthamatten@saint-catherine.org
GEO:36.0981774;-96.0216659
X-APPLE-STRUCTURED-LOCATION;VALUE=URI;X-ADDRESS=Saint Catherine Church 4532 S. 25th W. Ave. Tulsa OK 74107 United States;X-APPLE-RADIUS=500;X-TITLE=4532 S. 25th W. Ave.:geo:-96.0216659,36.0981774
END:VEVENT
BEGIN:VEVENT
DTSTART;TZID=America/Chicago:20190524T081000
DTEND;TZID=America/Chicago:20190524T090000
DTSTAMP:20260423T233236
CREATED:20180801T175923Z
LAST-MODIFIED:20180801T175923Z
UID:10007289-1558685400-1558688400@www.saintcatherineschool.org
SUMMARY:Mass
DESCRIPTION:The school Mass begins at 8:10 in the church.
URL:https://www.saintcatherineschool.org/event/mass-14/2019-05-24
LOCATION:Saint Catherine Church\, 4532 S. 25th W. Ave.\, Tulsa\, OK\, 74107\, United States
CATEGORIES:Church of Saint Catherine,Saint Catherine School
ORGANIZER;CN="Michelle Anthamatten":MAILTO:manthamatten@saint-catherine.org
GEO:36.0981774;-96.0216659
X-APPLE-STRUCTURED-LOCATION;VALUE=URI;X-ADDRESS=Saint Catherine Church 4532 S. 25th W. Ave. Tulsa OK 74107 United States;X-APPLE-RADIUS=500;X-TITLE=4532 S. 25th W. Ave.:geo:-96.0216659,36.0981774
END:VEVENT
BEGIN:VEVENT
DTSTART;TZID=America/Chicago:20190521T081000
DTEND;TZID=America/Chicago:20190521T090000
DTSTAMP:20260423T233236
CREATED:20180801T175923Z
LAST-MODIFIED:20180801T175923Z
UID:10007288-1558426200-1558429200@www.saintcatherineschool.org
SUMMARY:Mass
DESCRIPTION:The school Mass begins at 8:10 in the church.
URL:https://www.saintcatherineschool.org/event/mass-14/2019-05-21
LOCATION:Saint Catherine Church\, 4532 S. 25th W. Ave.\, Tulsa\, OK\, 74107\, United States
CATEGORIES:Church of Saint Catherine,Saint Catherine School
ORGANIZER;CN="Michelle Anthamatten":MAILTO:manthamatten@saint-catherine.org
GEO:36.0981774;-96.0216659
X-APPLE-STRUCTURED-LOCATION;VALUE=URI;X-ADDRESS=Saint Catherine Church 4532 S. 25th W. Ave. Tulsa OK 74107 United States;X-APPLE-RADIUS=500;X-TITLE=4532 S. 25th W. Ave.:geo:-96.0216659,36.0981774
END:VEVENT
END:VCALENDAR