BEGIN:VCALENDAR
VERSION:2.0
PRODID:-//Saint Catherine of Alexandria School - ECPv6.15.20//NONSGML v1.0//EN
CALSCALE:GREGORIAN
METHOD:PUBLISH
X-ORIGINAL-URL:https://www.saintcatherineschool.org
X-WR-CALDESC:Events for Saint Catherine of Alexandria School
REFRESH-INTERVAL;VALUE=DURATION:PT1H
X-Robots-Tag:noindex
X-PUBLISHED-TTL:PT1H
BEGIN:VTIMEZONE
TZID:America/Chicago
BEGIN:DAYLIGHT
TZOFFSETFROM:-0600
TZOFFSETTO:-0500
TZNAME:CDT
DTSTART:20170312T080000
END:DAYLIGHT
BEGIN:STANDARD
TZOFFSETFROM:-0500
TZOFFSETTO:-0600
TZNAME:CST
DTSTART:20171105T070000
END:STANDARD
BEGIN:DAYLIGHT
TZOFFSETFROM:-0600
TZOFFSETTO:-0500
TZNAME:CDT
DTSTART:20180311T080000
END:DAYLIGHT
BEGIN:STANDARD
TZOFFSETFROM:-0500
TZOFFSETTO:-0600
TZNAME:CST
DTSTART:20181104T070000
END:STANDARD
BEGIN:DAYLIGHT
TZOFFSETFROM:-0600
TZOFFSETTO:-0500
TZNAME:CDT
DTSTART:20190310T080000
END:DAYLIGHT
BEGIN:STANDARD
TZOFFSETFROM:-0500
TZOFFSETTO:-0600
TZNAME:CST
DTSTART:20191103T070000
END:STANDARD
END:VTIMEZONE
BEGIN:VEVENT
DTSTART;TZID=America/Chicago:20180503T153000
DTEND;TZID=America/Chicago:20180503T170000
DTSTAMP:20260425T113231
CREATED:20180501T193709Z
LAST-MODIFIED:20180501T193709Z
UID:10007136-1525361400-1525366800@www.saintcatherineschool.org
SUMMARY:Play Practice
DESCRIPTION:Play Practice is from 3:30-5:00 in the church.
URL:https://www.saintcatherineschool.org/event/play-practice-6/2018-05-03
LOCATION:Saint Catherine Church\, 4532 S. 25th W. Ave.\, Tulsa\, OK\, 74107\, United States
CATEGORIES:Saint Catherine School
ORGANIZER;CN="April Adalim":MAILTO:aadalim@saint-catherine.org
GEO:36.0981774;-96.0216659
X-APPLE-STRUCTURED-LOCATION;VALUE=URI;X-ADDRESS=Saint Catherine Church 4532 S. 25th W. Ave. Tulsa OK 74107 United States;X-APPLE-RADIUS=500;X-TITLE=4532 S. 25th W. Ave.:geo:-96.0216659,36.0981774
END:VEVENT
BEGIN:VEVENT
DTSTART;TZID=America/Chicago:20180502T153000
DTEND;TZID=America/Chicago:20180502T170000
DTSTAMP:20260425T113231
CREATED:20180501T193709Z
LAST-MODIFIED:20180501T193709Z
UID:10007135-1525275000-1525280400@www.saintcatherineschool.org
SUMMARY:Play Practice
DESCRIPTION:Play Practice is from 3:30-5:00 in the church.
URL:https://www.saintcatherineschool.org/event/play-practice-6/2018-05-02
LOCATION:Saint Catherine Church\, 4532 S. 25th W. Ave.\, Tulsa\, OK\, 74107\, United States
CATEGORIES:Saint Catherine School
ORGANIZER;CN="April Adalim":MAILTO:aadalim@saint-catherine.org
GEO:36.0981774;-96.0216659
X-APPLE-STRUCTURED-LOCATION;VALUE=URI;X-ADDRESS=Saint Catherine Church 4532 S. 25th W. Ave. Tulsa OK 74107 United States;X-APPLE-RADIUS=500;X-TITLE=4532 S. 25th W. Ave.:geo:-96.0216659,36.0981774
END:VEVENT
BEGIN:VEVENT
DTSTART;TZID=America/Chicago:20180502T081500
DTEND;TZID=America/Chicago:20180502T090000
DTSTAMP:20260425T113231
CREATED:20180501T194921Z
LAST-MODIFIED:20180501T194921Z
UID:10007105-1525248900-1525251600@www.saintcatherineschool.org
SUMMARY:Mass
DESCRIPTION:There is Mass at 8:15am in the church.
URL:https://www.saintcatherineschool.org/event/mass-13/2018-05-02
LOCATION:Saint Catherine Church\, 4532 S. 25th W. Ave.\, Tulsa\, OK\, 74107\, United States
CATEGORIES:Church of Saint Catherine,Saint Catherine School
ORGANIZER;CN="Michelle Anthamatten":MAILTO:manthamatten@saint-catherine.org
GEO:36.0981774;-96.0216659
X-APPLE-STRUCTURED-LOCATION;VALUE=URI;X-ADDRESS=Saint Catherine Church 4532 S. 25th W. Ave. Tulsa OK 74107 United States;X-APPLE-RADIUS=500;X-TITLE=4532 S. 25th W. Ave.:geo:-96.0216659,36.0981774
END:VEVENT
BEGIN:VEVENT
DTSTART;TZID=America/Chicago:20180501T153000
DTEND;TZID=America/Chicago:20180501T170000
DTSTAMP:20260425T113231
CREATED:20180501T193709Z
LAST-MODIFIED:20180501T193709Z
UID:10007134-1525188600-1525194000@www.saintcatherineschool.org
SUMMARY:Play Practice
DESCRIPTION:Play Practice is from 3:30-5:00 in the church.
URL:https://www.saintcatherineschool.org/event/play-practice-6/2018-05-01
LOCATION:Saint Catherine Church\, 4532 S. 25th W. Ave.\, Tulsa\, OK\, 74107\, United States
CATEGORIES:Saint Catherine School
ORGANIZER;CN="April Adalim":MAILTO:aadalim@saint-catherine.org
GEO:36.0981774;-96.0216659
X-APPLE-STRUCTURED-LOCATION;VALUE=URI;X-ADDRESS=Saint Catherine Church 4532 S. 25th W. Ave. Tulsa OK 74107 United States;X-APPLE-RADIUS=500;X-TITLE=4532 S. 25th W. Ave.:geo:-96.0216659,36.0981774
END:VEVENT
BEGIN:VEVENT
DTSTART;TZID=America/Chicago:20180427T081500
DTEND;TZID=America/Chicago:20180427T091500
DTSTAMP:20260425T113231
CREATED:20180328T204901Z
LAST-MODIFIED:20180328T204901Z
UID:10007072-1524816900-1524820500@www.saintcatherineschool.org
SUMMARY:Mass
DESCRIPTION:Daily Mass is Wednesday and Friday at 8:15.
URL:https://www.saintcatherineschool.org/event/mass-12/2018-04-27
LOCATION:Saint Catherine Church\, 4532 S. 25th W. Ave.\, Tulsa\, OK\, 74107\, United States
CATEGORIES:Church of Saint Catherine,Saint Catherine School
GEO:36.0981774;-96.0216659
X-APPLE-STRUCTURED-LOCATION;VALUE=URI;X-ADDRESS=Saint Catherine Church 4532 S. 25th W. Ave. Tulsa OK 74107 United States;X-APPLE-RADIUS=500;X-TITLE=4532 S. 25th W. Ave.:geo:-96.0216659,36.0981774
END:VEVENT
BEGIN:VEVENT
DTSTART;TZID=America/Chicago:20180425T081500
DTEND;TZID=America/Chicago:20180425T091500
DTSTAMP:20260425T113231
CREATED:20180328T204901Z
LAST-MODIFIED:20180328T204901Z
UID:10007071-1524644100-1524647700@www.saintcatherineschool.org
SUMMARY:Mass
DESCRIPTION:Daily Mass is Wednesday and Friday at 8:15.
URL:https://www.saintcatherineschool.org/event/mass-12/2018-04-25
LOCATION:Saint Catherine Church\, 4532 S. 25th W. Ave.\, Tulsa\, OK\, 74107\, United States
CATEGORIES:Church of Saint Catherine,Saint Catherine School
GEO:36.0981774;-96.0216659
X-APPLE-STRUCTURED-LOCATION;VALUE=URI;X-ADDRESS=Saint Catherine Church 4532 S. 25th W. Ave. Tulsa OK 74107 United States;X-APPLE-RADIUS=500;X-TITLE=4532 S. 25th W. Ave.:geo:-96.0216659,36.0981774
END:VEVENT
BEGIN:VEVENT
DTSTART;TZID=America/Chicago:20180420T081500
DTEND;TZID=America/Chicago:20180420T091500
DTSTAMP:20260425T113231
CREATED:20180328T204901Z
LAST-MODIFIED:20180328T204901Z
UID:10007070-1524212100-1524215700@www.saintcatherineschool.org
SUMMARY:Mass
DESCRIPTION:Daily Mass is Wednesday and Friday at 8:15.
URL:https://www.saintcatherineschool.org/event/mass-12/2018-04-20
LOCATION:Saint Catherine Church\, 4532 S. 25th W. Ave.\, Tulsa\, OK\, 74107\, United States
CATEGORIES:Church of Saint Catherine,Saint Catherine School
GEO:36.0981774;-96.0216659
X-APPLE-STRUCTURED-LOCATION;VALUE=URI;X-ADDRESS=Saint Catherine Church 4532 S. 25th W. Ave. Tulsa OK 74107 United States;X-APPLE-RADIUS=500;X-TITLE=4532 S. 25th W. Ave.:geo:-96.0216659,36.0981774
END:VEVENT
BEGIN:VEVENT
DTSTART;TZID=America/Chicago:20180418T081500
DTEND;TZID=America/Chicago:20180418T091500
DTSTAMP:20260425T113231
CREATED:20180328T204901Z
LAST-MODIFIED:20180328T204901Z
UID:10007069-1524039300-1524042900@www.saintcatherineschool.org
SUMMARY:Mass
DESCRIPTION:Daily Mass is Wednesday and Friday at 8:15.
URL:https://www.saintcatherineschool.org/event/mass-12/2018-04-18
LOCATION:Saint Catherine Church\, 4532 S. 25th W. Ave.\, Tulsa\, OK\, 74107\, United States
CATEGORIES:Church of Saint Catherine,Saint Catherine School
GEO:36.0981774;-96.0216659
X-APPLE-STRUCTURED-LOCATION;VALUE=URI;X-ADDRESS=Saint Catherine Church 4532 S. 25th W. Ave. Tulsa OK 74107 United States;X-APPLE-RADIUS=500;X-TITLE=4532 S. 25th W. Ave.:geo:-96.0216659,36.0981774
END:VEVENT
BEGIN:VEVENT
DTSTART;TZID=America/Chicago:20180413T081500
DTEND;TZID=America/Chicago:20180413T091500
DTSTAMP:20260425T113231
CREATED:20180328T204901Z
LAST-MODIFIED:20180328T204901Z
UID:10007068-1523607300-1523610900@www.saintcatherineschool.org
SUMMARY:Mass
DESCRIPTION:Daily Mass is Wednesday and Friday at 8:15.
URL:https://www.saintcatherineschool.org/event/mass-12/2018-04-13
LOCATION:Saint Catherine Church\, 4532 S. 25th W. Ave.\, Tulsa\, OK\, 74107\, United States
CATEGORIES:Church of Saint Catherine,Saint Catherine School
GEO:36.0981774;-96.0216659
X-APPLE-STRUCTURED-LOCATION;VALUE=URI;X-ADDRESS=Saint Catherine Church 4532 S. 25th W. Ave. Tulsa OK 74107 United States;X-APPLE-RADIUS=500;X-TITLE=4532 S. 25th W. Ave.:geo:-96.0216659,36.0981774
END:VEVENT
BEGIN:VEVENT
DTSTART;TZID=America/Chicago:20180411T081500
DTEND;TZID=America/Chicago:20180411T091500
DTSTAMP:20260425T113231
CREATED:20180328T204901Z
LAST-MODIFIED:20180328T204901Z
UID:10007067-1523434500-1523438100@www.saintcatherineschool.org
SUMMARY:Mass
DESCRIPTION:Daily Mass is Wednesday and Friday at 8:15.
URL:https://www.saintcatherineschool.org/event/mass-12/2018-04-11
LOCATION:Saint Catherine Church\, 4532 S. 25th W. Ave.\, Tulsa\, OK\, 74107\, United States
CATEGORIES:Church of Saint Catherine,Saint Catherine School
GEO:36.0981774;-96.0216659
X-APPLE-STRUCTURED-LOCATION;VALUE=URI;X-ADDRESS=Saint Catherine Church 4532 S. 25th W. Ave. Tulsa OK 74107 United States;X-APPLE-RADIUS=500;X-TITLE=4532 S. 25th W. Ave.:geo:-96.0216659,36.0981774
END:VEVENT
BEGIN:VEVENT
DTSTART;TZID=America/Chicago:20180406T090000
DTEND;TZID=America/Chicago:20180406T150000
DTSTAMP:20260425T113231
CREATED:20180328T210956Z
LAST-MODIFIED:20180328T210956Z
UID:10005170-1523005200-1523026800@www.saintcatherineschool.org
SUMMARY:Adoration
DESCRIPTION:Adoration will be in the chapel at 9am.
URL:https://www.saintcatherineschool.org/event/adoration
LOCATION:Saint Catherine Church\, 4532 S. 25th W. Ave.\, Tulsa\, OK\, 74107\, United States
CATEGORIES:Church of Saint Catherine,Saint Catherine School
GEO:36.0981774;-96.0216659
X-APPLE-STRUCTURED-LOCATION;VALUE=URI;X-ADDRESS=Saint Catherine Church 4532 S. 25th W. Ave. Tulsa OK 74107 United States;X-APPLE-RADIUS=500;X-TITLE=4532 S. 25th W. Ave.:geo:-96.0216659,36.0981774
END:VEVENT
BEGIN:VEVENT
DTSTART;TZID=America/Chicago:20180406T081500
DTEND;TZID=America/Chicago:20180406T091500
DTSTAMP:20260425T113231
CREATED:20180328T204901Z
LAST-MODIFIED:20180328T204901Z
UID:10007066-1523002500-1523006100@www.saintcatherineschool.org
SUMMARY:Mass
DESCRIPTION:Daily Mass is Wednesday and Friday at 8:15.
URL:https://www.saintcatherineschool.org/event/mass-12/2018-04-06
LOCATION:Saint Catherine Church\, 4532 S. 25th W. Ave.\, Tulsa\, OK\, 74107\, United States
CATEGORIES:Church of Saint Catherine,Saint Catherine School
GEO:36.0981774;-96.0216659
X-APPLE-STRUCTURED-LOCATION;VALUE=URI;X-ADDRESS=Saint Catherine Church 4532 S. 25th W. Ave. Tulsa OK 74107 United States;X-APPLE-RADIUS=500;X-TITLE=4532 S. 25th W. Ave.:geo:-96.0216659,36.0981774
END:VEVENT
BEGIN:VEVENT
DTSTART;TZID=America/Chicago:20180404T081500
DTEND;TZID=America/Chicago:20180404T091500
DTSTAMP:20260425T113231
CREATED:20180328T204901Z
LAST-MODIFIED:20180328T204901Z
UID:10007065-1522829700-1522833300@www.saintcatherineschool.org
SUMMARY:Mass
DESCRIPTION:Daily Mass is Wednesday and Friday at 8:15.
URL:https://www.saintcatherineschool.org/event/mass-12/2018-04-04
LOCATION:Saint Catherine Church\, 4532 S. 25th W. Ave.\, Tulsa\, OK\, 74107\, United States
CATEGORIES:Church of Saint Catherine,Saint Catherine School
GEO:36.0981774;-96.0216659
X-APPLE-STRUCTURED-LOCATION;VALUE=URI;X-ADDRESS=Saint Catherine Church 4532 S. 25th W. Ave. Tulsa OK 74107 United States;X-APPLE-RADIUS=500;X-TITLE=4532 S. 25th W. Ave.:geo:-96.0216659,36.0981774
END:VEVENT
BEGIN:VEVENT
DTSTART;TZID=America/Chicago:20180401T100000
DTEND;TZID=America/Chicago:20180401T110000
DTSTAMP:20260425T113231
CREATED:20180328T205113Z
LAST-MODIFIED:20180328T205113Z
UID:10007064-1522576800-1522580400@www.saintcatherineschool.org
SUMMARY:Easter Sunday Mass
DESCRIPTION:Easter Sunday Mass will be at 10am.
URL:https://www.saintcatherineschool.org/event/easter-sunday-mass
LOCATION:Saint Catherine Church\, 4532 S. 25th W. Ave.\, Tulsa\, OK\, 74107\, United States
CATEGORIES:Church of Saint Catherine,Saint Catherine School
GEO:36.0981774;-96.0216659
X-APPLE-STRUCTURED-LOCATION;VALUE=URI;X-ADDRESS=Saint Catherine Church 4532 S. 25th W. Ave. Tulsa OK 74107 United States;X-APPLE-RADIUS=500;X-TITLE=4532 S. 25th W. Ave.:geo:-96.0216659,36.0981774
END:VEVENT
BEGIN:VEVENT
DTSTART;TZID=America/Chicago:20180330T081500
DTEND;TZID=America/Chicago:20180330T090000
DTSTAMP:20260425T113231
CREATED:20180302T145524Z
LAST-MODIFIED:20180302T145524Z
UID:10005561-1522397700-1522400400@www.saintcatherineschool.org
SUMMARY:Mass
DESCRIPTION:Fr. Bradley will be celebrating Mass at 8:15am.
URL:https://www.saintcatherineschool.org/event/mass-11/2018-03-30
LOCATION:Saint Catherine Church\, 4532 S. 25th W. Ave.\, Tulsa\, OK\, 74107\, United States
CATEGORIES:Church of Saint Catherine,Saint Catherine School
GEO:36.0981774;-96.0216659
X-APPLE-STRUCTURED-LOCATION;VALUE=URI;X-ADDRESS=Saint Catherine Church 4532 S. 25th W. Ave. Tulsa OK 74107 United States;X-APPLE-RADIUS=500;X-TITLE=4532 S. 25th W. Ave.:geo:-96.0216659,36.0981774
END:VEVENT
BEGIN:VEVENT
DTSTART;TZID=America/Chicago:20180323T081500
DTEND;TZID=America/Chicago:20180323T090000
DTSTAMP:20260425T113231
CREATED:20180302T145524Z
LAST-MODIFIED:20180302T145524Z
UID:10005560-1521792900-1521795600@www.saintcatherineschool.org
SUMMARY:Mass
DESCRIPTION:Fr. Bradley will be celebrating Mass at 8:15am.
URL:https://www.saintcatherineschool.org/event/mass-11/2018-03-23
LOCATION:Saint Catherine Church\, 4532 S. 25th W. Ave.\, Tulsa\, OK\, 74107\, United States
CATEGORIES:Church of Saint Catherine,Saint Catherine School
GEO:36.0981774;-96.0216659
X-APPLE-STRUCTURED-LOCATION;VALUE=URI;X-ADDRESS=Saint Catherine Church 4532 S. 25th W. Ave. Tulsa OK 74107 United States;X-APPLE-RADIUS=500;X-TITLE=4532 S. 25th W. Ave.:geo:-96.0216659,36.0981774
END:VEVENT
BEGIN:VEVENT
DTSTART;TZID=America/Chicago:20180316T081500
DTEND;TZID=America/Chicago:20180316T090000
DTSTAMP:20260425T113231
CREATED:20180302T145524Z
LAST-MODIFIED:20180302T145524Z
UID:10005559-1521188100-1521190800@www.saintcatherineschool.org
SUMMARY:Mass
DESCRIPTION:Fr. Bradley will be celebrating Mass at 8:15am.
URL:https://www.saintcatherineschool.org/event/mass-11/2018-03-16
LOCATION:Saint Catherine Church\, 4532 S. 25th W. Ave.\, Tulsa\, OK\, 74107\, United States
CATEGORIES:Church of Saint Catherine,Saint Catherine School
GEO:36.0981774;-96.0216659
X-APPLE-STRUCTURED-LOCATION;VALUE=URI;X-ADDRESS=Saint Catherine Church 4532 S. 25th W. Ave. Tulsa OK 74107 United States;X-APPLE-RADIUS=500;X-TITLE=4532 S. 25th W. Ave.:geo:-96.0216659,36.0981774
END:VEVENT
BEGIN:VEVENT
DTSTART;TZID=America/Chicago:20180309T081500
DTEND;TZID=America/Chicago:20180309T090000
DTSTAMP:20260425T113231
CREATED:20180302T145524Z
LAST-MODIFIED:20180302T145524Z
UID:10005558-1520583300-1520586000@www.saintcatherineschool.org
SUMMARY:Mass
DESCRIPTION:Fr. Bradley will be celebrating Mass at 8:15am.
URL:https://www.saintcatherineschool.org/event/mass-11/2018-03-09
LOCATION:Saint Catherine Church\, 4532 S. 25th W. Ave.\, Tulsa\, OK\, 74107\, United States
CATEGORIES:Church of Saint Catherine,Saint Catherine School
GEO:36.0981774;-96.0216659
X-APPLE-STRUCTURED-LOCATION;VALUE=URI;X-ADDRESS=Saint Catherine Church 4532 S. 25th W. Ave. Tulsa OK 74107 United States;X-APPLE-RADIUS=500;X-TITLE=4532 S. 25th W. Ave.:geo:-96.0216659,36.0981774
END:VEVENT
BEGIN:VEVENT
DTSTART;TZID=America/Chicago:20180302T081500
DTEND;TZID=America/Chicago:20180302T090000
DTSTAMP:20260425T113231
CREATED:20180302T145524Z
LAST-MODIFIED:20180302T145524Z
UID:10005557-1519978500-1519981200@www.saintcatherineschool.org
SUMMARY:Mass
DESCRIPTION:Fr. Bradley will be celebrating Mass at 8:15am.
URL:https://www.saintcatherineschool.org/event/mass-11/2018-03-02
LOCATION:Saint Catherine Church\, 4532 S. 25th W. Ave.\, Tulsa\, OK\, 74107\, United States
CATEGORIES:Church of Saint Catherine,Saint Catherine School
GEO:36.0981774;-96.0216659
X-APPLE-STRUCTURED-LOCATION;VALUE=URI;X-ADDRESS=Saint Catherine Church 4532 S. 25th W. Ave. Tulsa OK 74107 United States;X-APPLE-RADIUS=500;X-TITLE=4532 S. 25th W. Ave.:geo:-96.0216659,36.0981774
END:VEVENT
END:VCALENDAR