BEGIN:VCALENDAR
VERSION:2.0
PRODID:-//Saint Catherine of Alexandria School - ECPv6.15.20//NONSGML v1.0//EN
CALSCALE:GREGORIAN
METHOD:PUBLISH
X-ORIGINAL-URL:https://www.saintcatherineschool.org
X-WR-CALDESC:Events for Saint Catherine of Alexandria School
REFRESH-INTERVAL;VALUE=DURATION:PT1H
X-Robots-Tag:noindex
X-PUBLISHED-TTL:PT1H
BEGIN:VTIMEZONE
TZID:America/Chicago
BEGIN:DAYLIGHT
TZOFFSETFROM:-0600
TZOFFSETTO:-0500
TZNAME:CDT
DTSTART:20180311T080000
END:DAYLIGHT
BEGIN:STANDARD
TZOFFSETFROM:-0500
TZOFFSETTO:-0600
TZNAME:CST
DTSTART:20181104T070000
END:STANDARD
BEGIN:DAYLIGHT
TZOFFSETFROM:-0600
TZOFFSETTO:-0500
TZNAME:CDT
DTSTART:20190310T080000
END:DAYLIGHT
BEGIN:STANDARD
TZOFFSETFROM:-0500
TZOFFSETTO:-0600
TZNAME:CST
DTSTART:20191103T070000
END:STANDARD
BEGIN:DAYLIGHT
TZOFFSETFROM:-0600
TZOFFSETTO:-0500
TZNAME:CDT
DTSTART:20200308T080000
END:DAYLIGHT
BEGIN:STANDARD
TZOFFSETFROM:-0500
TZOFFSETTO:-0600
TZNAME:CST
DTSTART:20201101T070000
END:STANDARD
END:VTIMEZONE
BEGIN:VEVENT
DTSTART;TZID=America/Chicago:20190405T180000
DTEND;TZID=America/Chicago:20190405T193000
DTSTAMP:20260424T091552
CREATED:20190228T180845Z
LAST-MODIFIED:20190401T152718Z
UID:10007879-1554487200-1554492600@www.saintcatherineschool.org
SUMMARY:Stations of the Cross and Simple Suppers
DESCRIPTION:Stations of the Cross will be at 2:30 and 6pm.  The 6pm Stations will be followed by a Simple Supper.
URL:https://www.saintcatherineschool.org/event/stations-of-the-cross-and-simple-suppers/2019-04-05
LOCATION:Saint Catherine Church\, 4532 S. 25th W. Ave.\, Tulsa\, OK\, 74107\, United States
CATEGORIES:Church of Saint Catherine,Saint Catherine School
GEO:36.0981774;-96.0216659
X-APPLE-STRUCTURED-LOCATION;VALUE=URI;X-ADDRESS=Saint Catherine Church 4532 S. 25th W. Ave. Tulsa OK 74107 United States;X-APPLE-RADIUS=500;X-TITLE=4532 S. 25th W. Ave.:geo:-96.0216659,36.0981774
END:VEVENT
BEGIN:VEVENT
DTSTART;TZID=America/Chicago:20190405T081000
DTEND;TZID=America/Chicago:20190405T090000
DTSTAMP:20260424T091552
CREATED:20180801T175923Z
LAST-MODIFIED:20180801T175923Z
UID:10007275-1554451800-1554454800@www.saintcatherineschool.org
SUMMARY:Mass
DESCRIPTION:The school Mass begins at 8:10 in the church.
URL:https://www.saintcatherineschool.org/event/mass-14/2019-04-05
LOCATION:Saint Catherine Church\, 4532 S. 25th W. Ave.\, Tulsa\, OK\, 74107\, United States
CATEGORIES:Church of Saint Catherine,Saint Catherine School
ORGANIZER;CN="Michelle Anthamatten":MAILTO:manthamatten@saint-catherine.org
GEO:36.0981774;-96.0216659
X-APPLE-STRUCTURED-LOCATION;VALUE=URI;X-ADDRESS=Saint Catherine Church 4532 S. 25th W. Ave. Tulsa OK 74107 United States;X-APPLE-RADIUS=500;X-TITLE=4532 S. 25th W. Ave.:geo:-96.0216659,36.0981774
END:VEVENT
BEGIN:VEVENT
DTSTART;TZID=America/Chicago:20190402T081000
DTEND;TZID=America/Chicago:20190402T090000
DTSTAMP:20260424T091552
CREATED:20180801T175923Z
LAST-MODIFIED:20180801T175923Z
UID:10007274-1554192600-1554195600@www.saintcatherineschool.org
SUMMARY:Mass
DESCRIPTION:The school Mass begins at 8:10 in the church.
URL:https://www.saintcatherineschool.org/event/mass-14/2019-04-02
LOCATION:Saint Catherine Church\, 4532 S. 25th W. Ave.\, Tulsa\, OK\, 74107\, United States
CATEGORIES:Church of Saint Catherine,Saint Catherine School
ORGANIZER;CN="Michelle Anthamatten":MAILTO:manthamatten@saint-catherine.org
GEO:36.0981774;-96.0216659
X-APPLE-STRUCTURED-LOCATION;VALUE=URI;X-ADDRESS=Saint Catherine Church 4532 S. 25th W. Ave. Tulsa OK 74107 United States;X-APPLE-RADIUS=500;X-TITLE=4532 S. 25th W. Ave.:geo:-96.0216659,36.0981774
END:VEVENT
BEGIN:VEVENT
DTSTART;TZID=America/Chicago:20190329T180000
DTEND;TZID=America/Chicago:20190329T193000
DTSTAMP:20260424T091552
CREATED:20190228T180845Z
LAST-MODIFIED:20190401T152718Z
UID:10007878-1553882400-1553887800@www.saintcatherineschool.org
SUMMARY:Stations of the Cross and Simple Suppers
DESCRIPTION:Stations of the Cross will be at 2:30 and 6pm.  The 6pm Stations will be followed by a Simple Supper.
URL:https://www.saintcatherineschool.org/event/stations-of-the-cross-and-simple-suppers/2019-03-29
LOCATION:Saint Catherine Church\, 4532 S. 25th W. Ave.\, Tulsa\, OK\, 74107\, United States
CATEGORIES:Church of Saint Catherine,Saint Catherine School
GEO:36.0981774;-96.0216659
X-APPLE-STRUCTURED-LOCATION;VALUE=URI;X-ADDRESS=Saint Catherine Church 4532 S. 25th W. Ave. Tulsa OK 74107 United States;X-APPLE-RADIUS=500;X-TITLE=4532 S. 25th W. Ave.:geo:-96.0216659,36.0981774
END:VEVENT
BEGIN:VEVENT
DTSTART;TZID=America/Chicago:20190329T081000
DTEND;TZID=America/Chicago:20190329T090000
DTSTAMP:20260424T091552
CREATED:20180801T175923Z
LAST-MODIFIED:20180801T175923Z
UID:10007273-1553847000-1553850000@www.saintcatherineschool.org
SUMMARY:Mass
DESCRIPTION:The school Mass begins at 8:10 in the church.
URL:https://www.saintcatherineschool.org/event/mass-14/2019-03-29
LOCATION:Saint Catherine Church\, 4532 S. 25th W. Ave.\, Tulsa\, OK\, 74107\, United States
CATEGORIES:Church of Saint Catherine,Saint Catherine School
ORGANIZER;CN="Michelle Anthamatten":MAILTO:manthamatten@saint-catherine.org
GEO:36.0981774;-96.0216659
X-APPLE-STRUCTURED-LOCATION;VALUE=URI;X-ADDRESS=Saint Catherine Church 4532 S. 25th W. Ave. Tulsa OK 74107 United States;X-APPLE-RADIUS=500;X-TITLE=4532 S. 25th W. Ave.:geo:-96.0216659,36.0981774
END:VEVENT
BEGIN:VEVENT
DTSTART;TZID=America/Chicago:20190328T053000
DTEND;TZID=America/Chicago:20190328T190000
DTSTAMP:20260424T091552
CREATED:20190228T190734Z
LAST-MODIFIED:20190228T190734Z
UID:10005425-1553751000-1553799600@www.saintcatherineschool.org
SUMMARY:Community Meal
DESCRIPTION:The Community Meal is from 5:30-7:00 or until the food runs out!  If you would like a free hot meal\, please come and share a meal and fellowship with the parishioners of Saint Catherine.
URL:https://www.saintcatherineschool.org/event/community-meal-13
LOCATION:Saint Catherine Church\, 4532 S. 25th W. Ave.\, Tulsa\, OK\, 74107\, United States
CATEGORIES:Church of Saint Catherine,Saint Catherine School
GEO:36.0981774;-96.0216659
X-APPLE-STRUCTURED-LOCATION;VALUE=URI;X-ADDRESS=Saint Catherine Church 4532 S. 25th W. Ave. Tulsa OK 74107 United States;X-APPLE-RADIUS=500;X-TITLE=4532 S. 25th W. Ave.:geo:-96.0216659,36.0981774
END:VEVENT
BEGIN:VEVENT
DTSTART;TZID=America/Chicago:20190326T081000
DTEND;TZID=America/Chicago:20190326T090000
DTSTAMP:20260424T091552
CREATED:20180801T175923Z
LAST-MODIFIED:20180801T175923Z
UID:10007272-1553587800-1553590800@www.saintcatherineschool.org
SUMMARY:Mass
DESCRIPTION:The school Mass begins at 8:10 in the church.
URL:https://www.saintcatherineschool.org/event/mass-14/2019-03-26
LOCATION:Saint Catherine Church\, 4532 S. 25th W. Ave.\, Tulsa\, OK\, 74107\, United States
CATEGORIES:Church of Saint Catherine,Saint Catherine School
ORGANIZER;CN="Michelle Anthamatten":MAILTO:manthamatten@saint-catherine.org
GEO:36.0981774;-96.0216659
X-APPLE-STRUCTURED-LOCATION;VALUE=URI;X-ADDRESS=Saint Catherine Church 4532 S. 25th W. Ave. Tulsa OK 74107 United States;X-APPLE-RADIUS=500;X-TITLE=4532 S. 25th W. Ave.:geo:-96.0216659,36.0981774
END:VEVENT
BEGIN:VEVENT
DTSTART;TZID=America/Chicago:20190322T180000
DTEND;TZID=America/Chicago:20190322T193000
DTSTAMP:20260424T091552
CREATED:20190228T180845Z
LAST-MODIFIED:20190401T152718Z
UID:10007877-1553277600-1553283000@www.saintcatherineschool.org
SUMMARY:Stations of the Cross and Simple Suppers
DESCRIPTION:Stations of the Cross will be at 2:30 and 6pm.  The 6pm Stations will be followed by a Simple Supper.
URL:https://www.saintcatherineschool.org/event/stations-of-the-cross-and-simple-suppers/2019-03-22
LOCATION:Saint Catherine Church\, 4532 S. 25th W. Ave.\, Tulsa\, OK\, 74107\, United States
CATEGORIES:Church of Saint Catherine,Saint Catherine School
GEO:36.0981774;-96.0216659
X-APPLE-STRUCTURED-LOCATION;VALUE=URI;X-ADDRESS=Saint Catherine Church 4532 S. 25th W. Ave. Tulsa OK 74107 United States;X-APPLE-RADIUS=500;X-TITLE=4532 S. 25th W. Ave.:geo:-96.0216659,36.0981774
END:VEVENT
BEGIN:VEVENT
DTSTART;TZID=America/Chicago:20190322T081000
DTEND;TZID=America/Chicago:20190322T090000
DTSTAMP:20260424T091552
CREATED:20180801T175923Z
LAST-MODIFIED:20180801T175923Z
UID:10007271-1553242200-1553245200@www.saintcatherineschool.org
SUMMARY:Mass
DESCRIPTION:The school Mass begins at 8:10 in the church.
URL:https://www.saintcatherineschool.org/event/mass-14/2019-03-22
LOCATION:Saint Catherine Church\, 4532 S. 25th W. Ave.\, Tulsa\, OK\, 74107\, United States
CATEGORIES:Church of Saint Catherine,Saint Catherine School
ORGANIZER;CN="Michelle Anthamatten":MAILTO:manthamatten@saint-catherine.org
GEO:36.0981774;-96.0216659
X-APPLE-STRUCTURED-LOCATION;VALUE=URI;X-ADDRESS=Saint Catherine Church 4532 S. 25th W. Ave. Tulsa OK 74107 United States;X-APPLE-RADIUS=500;X-TITLE=4532 S. 25th W. Ave.:geo:-96.0216659,36.0981774
END:VEVENT
BEGIN:VEVENT
DTSTART;TZID=America/Chicago:20190319T081000
DTEND;TZID=America/Chicago:20190319T090000
DTSTAMP:20260424T091552
CREATED:20180801T175923Z
LAST-MODIFIED:20180801T175923Z
UID:10007270-1552983000-1552986000@www.saintcatherineschool.org
SUMMARY:Mass
DESCRIPTION:The school Mass begins at 8:10 in the church.
URL:https://www.saintcatherineschool.org/event/mass-14/2019-03-19
LOCATION:Saint Catherine Church\, 4532 S. 25th W. Ave.\, Tulsa\, OK\, 74107\, United States
CATEGORIES:Church of Saint Catherine,Saint Catherine School
ORGANIZER;CN="Michelle Anthamatten":MAILTO:manthamatten@saint-catherine.org
GEO:36.0981774;-96.0216659
X-APPLE-STRUCTURED-LOCATION;VALUE=URI;X-ADDRESS=Saint Catherine Church 4532 S. 25th W. Ave. Tulsa OK 74107 United States;X-APPLE-RADIUS=500;X-TITLE=4532 S. 25th W. Ave.:geo:-96.0216659,36.0981774
END:VEVENT
BEGIN:VEVENT
DTSTART;TZID=America/Chicago:20190315T180000
DTEND;TZID=America/Chicago:20190315T193000
DTSTAMP:20260424T091552
CREATED:20190228T180845Z
LAST-MODIFIED:20190401T152718Z
UID:10007876-1552672800-1552678200@www.saintcatherineschool.org
SUMMARY:Stations of the Cross and Simple Suppers
DESCRIPTION:Stations of the Cross will be at 2:30 and 6pm.  The 6pm Stations will be followed by a Simple Supper.
URL:https://www.saintcatherineschool.org/event/stations-of-the-cross-and-simple-suppers/2019-03-15
LOCATION:Saint Catherine Church\, 4532 S. 25th W. Ave.\, Tulsa\, OK\, 74107\, United States
CATEGORIES:Church of Saint Catherine,Saint Catherine School
GEO:36.0981774;-96.0216659
X-APPLE-STRUCTURED-LOCATION;VALUE=URI;X-ADDRESS=Saint Catherine Church 4532 S. 25th W. Ave. Tulsa OK 74107 United States;X-APPLE-RADIUS=500;X-TITLE=4532 S. 25th W. Ave.:geo:-96.0216659,36.0981774
END:VEVENT
BEGIN:VEVENT
DTSTART;TZID=America/Chicago:20190315T143000
DTEND;TZID=America/Chicago:20190315T150000
DTSTAMP:20260424T091552
CREATED:20190228T175636Z
LAST-MODIFIED:20190228T175636Z
UID:10007891-1552660200-1552662000@www.saintcatherineschool.org
SUMMARY:Stations of the Cross
DESCRIPTION:Stations of the Cross with the school children will be at 2:30.
URL:https://www.saintcatherineschool.org/event/stations-of-the-cross-2/2019-03-15
LOCATION:Saint Catherine Church\, 4532 S. 25th W. Ave.\, Tulsa\, OK\, 74107\, United States
CATEGORIES:Church of Saint Catherine,Saint Catherine School
ORGANIZER;CN="Michelle Anthamatten":MAILTO:manthamatten@saint-catherine.org
GEO:36.0981774;-96.0216659
X-APPLE-STRUCTURED-LOCATION;VALUE=URI;X-ADDRESS=Saint Catherine Church 4532 S. 25th W. Ave. Tulsa OK 74107 United States;X-APPLE-RADIUS=500;X-TITLE=4532 S. 25th W. Ave.:geo:-96.0216659,36.0981774
END:VEVENT
BEGIN:VEVENT
DTSTART;TZID=America/Chicago:20190315T081000
DTEND;TZID=America/Chicago:20190315T090000
DTSTAMP:20260424T091552
CREATED:20180801T175923Z
LAST-MODIFIED:20180801T175923Z
UID:10007269-1552637400-1552640400@www.saintcatherineschool.org
SUMMARY:Mass
DESCRIPTION:The school Mass begins at 8:10 in the church.
URL:https://www.saintcatherineschool.org/event/mass-14/2019-03-15
LOCATION:Saint Catherine Church\, 4532 S. 25th W. Ave.\, Tulsa\, OK\, 74107\, United States
CATEGORIES:Church of Saint Catherine,Saint Catherine School
ORGANIZER;CN="Michelle Anthamatten":MAILTO:manthamatten@saint-catherine.org
GEO:36.0981774;-96.0216659
X-APPLE-STRUCTURED-LOCATION;VALUE=URI;X-ADDRESS=Saint Catherine Church 4532 S. 25th W. Ave. Tulsa OK 74107 United States;X-APPLE-RADIUS=500;X-TITLE=4532 S. 25th W. Ave.:geo:-96.0216659,36.0981774
END:VEVENT
BEGIN:VEVENT
DTSTART;TZID=America/Chicago:20190312T081000
DTEND;TZID=America/Chicago:20190312T090000
DTSTAMP:20260424T091552
CREATED:20180801T175923Z
LAST-MODIFIED:20180801T175923Z
UID:10007268-1552378200-1552381200@www.saintcatherineschool.org
SUMMARY:Mass
DESCRIPTION:The school Mass begins at 8:10 in the church.
URL:https://www.saintcatherineschool.org/event/mass-14/2019-03-12
LOCATION:Saint Catherine Church\, 4532 S. 25th W. Ave.\, Tulsa\, OK\, 74107\, United States
CATEGORIES:Church of Saint Catherine,Saint Catherine School
ORGANIZER;CN="Michelle Anthamatten":MAILTO:manthamatten@saint-catherine.org
GEO:36.0981774;-96.0216659
X-APPLE-STRUCTURED-LOCATION;VALUE=URI;X-ADDRESS=Saint Catherine Church 4532 S. 25th W. Ave. Tulsa OK 74107 United States;X-APPLE-RADIUS=500;X-TITLE=4532 S. 25th W. Ave.:geo:-96.0216659,36.0981774
END:VEVENT
BEGIN:VEVENT
DTSTART;TZID=America/Chicago:20190308T180000
DTEND;TZID=America/Chicago:20190308T193000
DTSTAMP:20260424T091552
CREATED:20190228T180845Z
LAST-MODIFIED:20190401T152718Z
UID:10007875-1552068000-1552073400@www.saintcatherineschool.org
SUMMARY:Stations of the Cross and Simple Suppers
DESCRIPTION:Stations of the Cross will be at 2:30 and 6pm.  The 6pm Stations will be followed by a Simple Supper.
URL:https://www.saintcatherineschool.org/event/stations-of-the-cross-and-simple-suppers/2019-03-08
LOCATION:Saint Catherine Church\, 4532 S. 25th W. Ave.\, Tulsa\, OK\, 74107\, United States
CATEGORIES:Church of Saint Catherine,Saint Catherine School
GEO:36.0981774;-96.0216659
X-APPLE-STRUCTURED-LOCATION;VALUE=URI;X-ADDRESS=Saint Catherine Church 4532 S. 25th W. Ave. Tulsa OK 74107 United States;X-APPLE-RADIUS=500;X-TITLE=4532 S. 25th W. Ave.:geo:-96.0216659,36.0981774
END:VEVENT
BEGIN:VEVENT
DTSTART;TZID=America/Chicago:20190308T143000
DTEND;TZID=America/Chicago:20190308T150000
DTSTAMP:20260424T091552
CREATED:20190228T175636Z
LAST-MODIFIED:20190228T175636Z
UID:10007890-1552055400-1552057200@www.saintcatherineschool.org
SUMMARY:Stations of the Cross
DESCRIPTION:Stations of the Cross with the school children will be at 2:30.
URL:https://www.saintcatherineschool.org/event/stations-of-the-cross-2/2019-03-08
LOCATION:Saint Catherine Church\, 4532 S. 25th W. Ave.\, Tulsa\, OK\, 74107\, United States
CATEGORIES:Church of Saint Catherine,Saint Catherine School
ORGANIZER;CN="Michelle Anthamatten":MAILTO:manthamatten@saint-catherine.org
GEO:36.0981774;-96.0216659
X-APPLE-STRUCTURED-LOCATION;VALUE=URI;X-ADDRESS=Saint Catherine Church 4532 S. 25th W. Ave. Tulsa OK 74107 United States;X-APPLE-RADIUS=500;X-TITLE=4532 S. 25th W. Ave.:geo:-96.0216659,36.0981774
END:VEVENT
BEGIN:VEVENT
DTSTART;TZID=America/Chicago:20190308T081000
DTEND;TZID=America/Chicago:20190308T090000
DTSTAMP:20260424T091552
CREATED:20180801T175923Z
LAST-MODIFIED:20180801T175923Z
UID:10007267-1552032600-1552035600@www.saintcatherineschool.org
SUMMARY:Mass
DESCRIPTION:The school Mass begins at 8:10 in the church.
URL:https://www.saintcatherineschool.org/event/mass-14/2019-03-08
LOCATION:Saint Catherine Church\, 4532 S. 25th W. Ave.\, Tulsa\, OK\, 74107\, United States
CATEGORIES:Church of Saint Catherine,Saint Catherine School
ORGANIZER;CN="Michelle Anthamatten":MAILTO:manthamatten@saint-catherine.org
GEO:36.0981774;-96.0216659
X-APPLE-STRUCTURED-LOCATION;VALUE=URI;X-ADDRESS=Saint Catherine Church 4532 S. 25th W. Ave. Tulsa OK 74107 United States;X-APPLE-RADIUS=500;X-TITLE=4532 S. 25th W. Ave.:geo:-96.0216659,36.0981774
END:VEVENT
BEGIN:VEVENT
DTSTART;TZID=America/Chicago:20190306T081500
DTEND;TZID=America/Chicago:20190306T090000
DTSTAMP:20260424T091552
CREATED:20190228T174954Z
LAST-MODIFIED:20190228T174954Z
UID:10007743-1551860100-1551862800@www.saintcatherineschool.org
SUMMARY:Mass
DESCRIPTION:There will be Mass today for Ash Wednesday.  The school office will be closed from 8:15-9:00 so that all staff members may attend Mass.
URL:https://www.saintcatherineschool.org/event/mass-16
LOCATION:Saint Catherine Church\, 4532 S. 25th W. Ave.\, Tulsa\, OK\, 74107\, United States
CATEGORIES:Church of Saint Catherine,Saint Catherine School
ORGANIZER;CN="Michelle Anthamatten":MAILTO:manthamatten@saint-catherine.org
GEO:36.0981774;-96.0216659
X-APPLE-STRUCTURED-LOCATION;VALUE=URI;X-ADDRESS=Saint Catherine Church 4532 S. 25th W. Ave. Tulsa OK 74107 United States;X-APPLE-RADIUS=500;X-TITLE=4532 S. 25th W. Ave.:geo:-96.0216659,36.0981774
END:VEVENT
BEGIN:VEVENT
DTSTART;VALUE=DATE:20190306
DTEND;VALUE=DATE:20190307
DTSTAMP:20260424T091552
CREATED:20190228T174425Z
LAST-MODIFIED:20190228T174650Z
UID:10007747-1551830400-1551916799@www.saintcatherineschool.org
SUMMARY:Ash Wednesday
DESCRIPTION:Ash Wednesday it today and is the beginning of the Lenten season.
URL:https://www.saintcatherineschool.org/event/ash-wednesday-2
LOCATION:Saint Catherine Church\, 4532 S. 25th W. Ave.\, Tulsa\, OK\, 74107\, United States
CATEGORIES:Church of Saint Catherine,Saint Catherine School
ORGANIZER;CN="Michelle Anthamatten":MAILTO:manthamatten@saint-catherine.org
GEO:36.0981774;-96.0216659
X-APPLE-STRUCTURED-LOCATION;VALUE=URI;X-ADDRESS=Saint Catherine Church 4532 S. 25th W. Ave. Tulsa OK 74107 United States;X-APPLE-RADIUS=500;X-TITLE=4532 S. 25th W. Ave.:geo:-96.0216659,36.0981774
END:VEVENT
BEGIN:VEVENT
DTSTART;TZID=America/Chicago:20190305T081000
DTEND;TZID=America/Chicago:20190305T090000
DTSTAMP:20260424T091552
CREATED:20180801T175923Z
LAST-MODIFIED:20180801T175923Z
UID:10007266-1551773400-1551776400@www.saintcatherineschool.org
SUMMARY:Mass
DESCRIPTION:The school Mass begins at 8:10 in the church.
URL:https://www.saintcatherineschool.org/event/mass-14/2019-03-05
LOCATION:Saint Catherine Church\, 4532 S. 25th W. Ave.\, Tulsa\, OK\, 74107\, United States
CATEGORIES:Church of Saint Catherine,Saint Catherine School
ORGANIZER;CN="Michelle Anthamatten":MAILTO:manthamatten@saint-catherine.org
GEO:36.0981774;-96.0216659
X-APPLE-STRUCTURED-LOCATION;VALUE=URI;X-ADDRESS=Saint Catherine Church 4532 S. 25th W. Ave. Tulsa OK 74107 United States;X-APPLE-RADIUS=500;X-TITLE=4532 S. 25th W. Ave.:geo:-96.0216659,36.0981774
END:VEVENT
BEGIN:VEVENT
DTSTART;TZID=America/Chicago:20190301T081000
DTEND;TZID=America/Chicago:20190301T090000
DTSTAMP:20260424T091552
CREATED:20180801T175923Z
LAST-MODIFIED:20180801T175923Z
UID:10007265-1551427800-1551430800@www.saintcatherineschool.org
SUMMARY:Mass
DESCRIPTION:The school Mass begins at 8:10 in the church.
URL:https://www.saintcatherineschool.org/event/mass-14/2019-03-01
LOCATION:Saint Catherine Church\, 4532 S. 25th W. Ave.\, Tulsa\, OK\, 74107\, United States
CATEGORIES:Church of Saint Catherine,Saint Catherine School
ORGANIZER;CN="Michelle Anthamatten":MAILTO:manthamatten@saint-catherine.org
GEO:36.0981774;-96.0216659
X-APPLE-STRUCTURED-LOCATION;VALUE=URI;X-ADDRESS=Saint Catherine Church 4532 S. 25th W. Ave. Tulsa OK 74107 United States;X-APPLE-RADIUS=500;X-TITLE=4532 S. 25th W. Ave.:geo:-96.0216659,36.0981774
END:VEVENT
BEGIN:VEVENT
DTSTART;TZID=America/Chicago:20190227T080000
DTEND;TZID=America/Chicago:20190227T090000
DTSTAMP:20260424T091552
CREATED:20190123T203233Z
LAST-MODIFIED:20190123T203233Z
UID:10007739-1551254400-1551258000@www.saintcatherineschool.org
SUMMARY:Student Confessions
DESCRIPTION:The students can celebrate the sacrament of Reconciliation.
URL:https://www.saintcatherineschool.org/event/student-confessions-2
LOCATION:Saint Catherine Church\, 4532 S. 25th W. Ave.\, Tulsa\, OK\, 74107\, United States
CATEGORIES:Church of Saint Catherine,Saint Catherine School
ORGANIZER;CN="Michelle Anthamatten":MAILTO:manthamatten@saint-catherine.org
GEO:36.0981774;-96.0216659
X-APPLE-STRUCTURED-LOCATION;VALUE=URI;X-ADDRESS=Saint Catherine Church 4532 S. 25th W. Ave. Tulsa OK 74107 United States;X-APPLE-RADIUS=500;X-TITLE=4532 S. 25th W. Ave.:geo:-96.0216659,36.0981774
END:VEVENT
BEGIN:VEVENT
DTSTART;TZID=America/Chicago:20190226T081000
DTEND;TZID=America/Chicago:20190226T090000
DTSTAMP:20260424T091552
CREATED:20180801T175923Z
LAST-MODIFIED:20180801T175923Z
UID:10007264-1551168600-1551171600@www.saintcatherineschool.org
SUMMARY:Mass
DESCRIPTION:The school Mass begins at 8:10 in the church.
URL:https://www.saintcatherineschool.org/event/mass-14/2019-02-26
LOCATION:Saint Catherine Church\, 4532 S. 25th W. Ave.\, Tulsa\, OK\, 74107\, United States
CATEGORIES:Church of Saint Catherine,Saint Catherine School
ORGANIZER;CN="Michelle Anthamatten":MAILTO:manthamatten@saint-catherine.org
GEO:36.0981774;-96.0216659
X-APPLE-STRUCTURED-LOCATION;VALUE=URI;X-ADDRESS=Saint Catherine Church 4532 S. 25th W. Ave. Tulsa OK 74107 United States;X-APPLE-RADIUS=500;X-TITLE=4532 S. 25th W. Ave.:geo:-96.0216659,36.0981774
END:VEVENT
BEGIN:VEVENT
DTSTART;TZID=America/Chicago:20190222T180000
DTEND;TZID=America/Chicago:20190222T200000
DTSTAMP:20260424T091552
CREATED:20190123T202600Z
LAST-MODIFIED:20190123T202600Z
UID:10007766-1550858400-1550865600@www.saintcatherineschool.org
SUMMARY:Confirmation
DESCRIPTION:Saint Catherine Church will celebrate the sacrament of Confirmation at 6pm.
URL:https://www.saintcatherineschool.org/event/confirmation
LOCATION:Saint Catherine Church\, 4532 S. 25th W. Ave.\, Tulsa\, OK\, 74107\, United States
CATEGORIES:Church of Saint Catherine,Saint Catherine School
ORGANIZER;CN="Suzy Hayes":MAILTO:suzyhayes@saint-catherine.org
GEO:36.0981774;-96.0216659
X-APPLE-STRUCTURED-LOCATION;VALUE=URI;X-ADDRESS=Saint Catherine Church 4532 S. 25th W. Ave. Tulsa OK 74107 United States;X-APPLE-RADIUS=500;X-TITLE=4532 S. 25th W. Ave.:geo:-96.0216659,36.0981774
END:VEVENT
BEGIN:VEVENT
DTSTART;TZID=America/Chicago:20190222T081000
DTEND;TZID=America/Chicago:20190222T090000
DTSTAMP:20260424T091552
CREATED:20180801T175923Z
LAST-MODIFIED:20180801T175923Z
UID:10007263-1550823000-1550826000@www.saintcatherineschool.org
SUMMARY:Mass
DESCRIPTION:The school Mass begins at 8:10 in the church.
URL:https://www.saintcatherineschool.org/event/mass-14/2019-02-22
LOCATION:Saint Catherine Church\, 4532 S. 25th W. Ave.\, Tulsa\, OK\, 74107\, United States
CATEGORIES:Church of Saint Catherine,Saint Catherine School
ORGANIZER;CN="Michelle Anthamatten":MAILTO:manthamatten@saint-catherine.org
GEO:36.0981774;-96.0216659
X-APPLE-STRUCTURED-LOCATION;VALUE=URI;X-ADDRESS=Saint Catherine Church 4532 S. 25th W. Ave. Tulsa OK 74107 United States;X-APPLE-RADIUS=500;X-TITLE=4532 S. 25th W. Ave.:geo:-96.0216659,36.0981774
END:VEVENT
BEGIN:VEVENT
DTSTART;TZID=America/Chicago:20190219T081000
DTEND;TZID=America/Chicago:20190219T090000
DTSTAMP:20260424T091552
CREATED:20180801T175923Z
LAST-MODIFIED:20180801T175923Z
UID:10007262-1550563800-1550566800@www.saintcatherineschool.org
SUMMARY:Mass
DESCRIPTION:The school Mass begins at 8:10 in the church.
URL:https://www.saintcatherineschool.org/event/mass-14/2019-02-19
LOCATION:Saint Catherine Church\, 4532 S. 25th W. Ave.\, Tulsa\, OK\, 74107\, United States
CATEGORIES:Church of Saint Catherine,Saint Catherine School
ORGANIZER;CN="Michelle Anthamatten":MAILTO:manthamatten@saint-catherine.org
GEO:36.0981774;-96.0216659
X-APPLE-STRUCTURED-LOCATION;VALUE=URI;X-ADDRESS=Saint Catherine Church 4532 S. 25th W. Ave. Tulsa OK 74107 United States;X-APPLE-RADIUS=500;X-TITLE=4532 S. 25th W. Ave.:geo:-96.0216659,36.0981774
END:VEVENT
BEGIN:VEVENT
DTSTART;TZID=America/Chicago:20190215T081000
DTEND;TZID=America/Chicago:20190215T090000
DTSTAMP:20260424T091552
CREATED:20180801T175923Z
LAST-MODIFIED:20180801T175923Z
UID:10007261-1550218200-1550221200@www.saintcatherineschool.org
SUMMARY:Mass
DESCRIPTION:The school Mass begins at 8:10 in the church.
URL:https://www.saintcatherineschool.org/event/mass-14/2019-02-15
LOCATION:Saint Catherine Church\, 4532 S. 25th W. Ave.\, Tulsa\, OK\, 74107\, United States
CATEGORIES:Church of Saint Catherine,Saint Catherine School
ORGANIZER;CN="Michelle Anthamatten":MAILTO:manthamatten@saint-catherine.org
GEO:36.0981774;-96.0216659
X-APPLE-STRUCTURED-LOCATION;VALUE=URI;X-ADDRESS=Saint Catherine Church 4532 S. 25th W. Ave. Tulsa OK 74107 United States;X-APPLE-RADIUS=500;X-TITLE=4532 S. 25th W. Ave.:geo:-96.0216659,36.0981774
END:VEVENT
BEGIN:VEVENT
DTSTART;TZID=America/Chicago:20190213T080000
DTEND;TZID=America/Chicago:20190213T090000
DTSTAMP:20260424T091552
CREATED:20190123T205825Z
LAST-MODIFIED:20190123T205825Z
UID:10007762-1550044800-1550048400@www.saintcatherineschool.org
SUMMARY:Student Confessions
DESCRIPTION:The students can celebrate the sacrament of Reconciliation.
URL:https://www.saintcatherineschool.org/event/student-confessions-3
LOCATION:Saint Catherine Church\, 4532 S. 25th W. Ave.\, Tulsa\, OK\, 74107\, United States
CATEGORIES:Church of Saint Catherine,Saint Catherine School
ORGANIZER;CN="Michelle Anthamatten":MAILTO:manthamatten@saint-catherine.org
GEO:36.0981774;-96.0216659
X-APPLE-STRUCTURED-LOCATION;VALUE=URI;X-ADDRESS=Saint Catherine Church 4532 S. 25th W. Ave. Tulsa OK 74107 United States;X-APPLE-RADIUS=500;X-TITLE=4532 S. 25th W. Ave.:geo:-96.0216659,36.0981774
END:VEVENT
BEGIN:VEVENT
DTSTART;TZID=America/Chicago:20190212T081000
DTEND;TZID=America/Chicago:20190212T090000
DTSTAMP:20260424T091552
CREATED:20180801T175923Z
LAST-MODIFIED:20180801T175923Z
UID:10007260-1549959000-1549962000@www.saintcatherineschool.org
SUMMARY:Mass
DESCRIPTION:The school Mass begins at 8:10 in the church.
URL:https://www.saintcatherineschool.org/event/mass-14/2019-02-12
LOCATION:Saint Catherine Church\, 4532 S. 25th W. Ave.\, Tulsa\, OK\, 74107\, United States
CATEGORIES:Church of Saint Catherine,Saint Catherine School
ORGANIZER;CN="Michelle Anthamatten":MAILTO:manthamatten@saint-catherine.org
GEO:36.0981774;-96.0216659
X-APPLE-STRUCTURED-LOCATION;VALUE=URI;X-ADDRESS=Saint Catherine Church 4532 S. 25th W. Ave. Tulsa OK 74107 United States;X-APPLE-RADIUS=500;X-TITLE=4532 S. 25th W. Ave.:geo:-96.0216659,36.0981774
END:VEVENT
BEGIN:VEVENT
DTSTART;TZID=America/Chicago:20190208T081000
DTEND;TZID=America/Chicago:20190208T090000
DTSTAMP:20260424T091552
CREATED:20180801T175923Z
LAST-MODIFIED:20180801T175923Z
UID:10007259-1549613400-1549616400@www.saintcatherineschool.org
SUMMARY:Mass
DESCRIPTION:The school Mass begins at 8:10 in the church.
URL:https://www.saintcatherineschool.org/event/mass-14/2019-02-08
LOCATION:Saint Catherine Church\, 4532 S. 25th W. Ave.\, Tulsa\, OK\, 74107\, United States
CATEGORIES:Church of Saint Catherine,Saint Catherine School
ORGANIZER;CN="Michelle Anthamatten":MAILTO:manthamatten@saint-catherine.org
GEO:36.0981774;-96.0216659
X-APPLE-STRUCTURED-LOCATION;VALUE=URI;X-ADDRESS=Saint Catherine Church 4532 S. 25th W. Ave. Tulsa OK 74107 United States;X-APPLE-RADIUS=500;X-TITLE=4532 S. 25th W. Ave.:geo:-96.0216659,36.0981774
END:VEVENT
END:VCALENDAR