BEGIN:VCALENDAR
VERSION:2.0
PRODID:-//Saint Catherine of Alexandria School - ECPv6.15.20//NONSGML v1.0//EN
CALSCALE:GREGORIAN
METHOD:PUBLISH
X-ORIGINAL-URL:https://www.saintcatherineschool.org
X-WR-CALDESC:Events for Saint Catherine of Alexandria School
REFRESH-INTERVAL;VALUE=DURATION:PT1H
X-Robots-Tag:noindex
X-PUBLISHED-TTL:PT1H
BEGIN:VTIMEZONE
TZID:America/Chicago
BEGIN:DAYLIGHT
TZOFFSETFROM:-0600
TZOFFSETTO:-0500
TZNAME:CDT
DTSTART:20170312T080000
END:DAYLIGHT
BEGIN:STANDARD
TZOFFSETFROM:-0500
TZOFFSETTO:-0600
TZNAME:CST
DTSTART:20171105T070000
END:STANDARD
BEGIN:DAYLIGHT
TZOFFSETFROM:-0600
TZOFFSETTO:-0500
TZNAME:CDT
DTSTART:20180311T080000
END:DAYLIGHT
BEGIN:STANDARD
TZOFFSETFROM:-0500
TZOFFSETTO:-0600
TZNAME:CST
DTSTART:20181104T070000
END:STANDARD
BEGIN:DAYLIGHT
TZOFFSETFROM:-0600
TZOFFSETTO:-0500
TZNAME:CDT
DTSTART:20190310T080000
END:DAYLIGHT
BEGIN:STANDARD
TZOFFSETFROM:-0500
TZOFFSETTO:-0600
TZNAME:CST
DTSTART:20191103T070000
END:STANDARD
BEGIN:DAYLIGHT
TZOFFSETFROM:-0600
TZOFFSETTO:-0500
TZNAME:CDT
DTSTART:20200308T080000
END:DAYLIGHT
BEGIN:STANDARD
TZOFFSETFROM:-0500
TZOFFSETTO:-0600
TZNAME:CST
DTSTART:20201101T070000
END:STANDARD
END:VTIMEZONE
BEGIN:VEVENT
DTSTART;TZID=America/Chicago:20190205T081000
DTEND;TZID=America/Chicago:20190205T090000
DTSTAMP:20260424T210902
CREATED:20180801T175923Z
LAST-MODIFIED:20180801T175923Z
UID:10007258-1549354200-1549357200@www.saintcatherineschool.org
SUMMARY:Mass
DESCRIPTION:The school Mass begins at 8:10 in the church.
URL:https://www.saintcatherineschool.org/event/mass-14/2019-02-05
LOCATION:Saint Catherine Church\, 4532 S. 25th W. Ave.\, Tulsa\, OK\, 74107\, United States
CATEGORIES:Church of Saint Catherine,Saint Catherine School
ORGANIZER;CN="Michelle Anthamatten":MAILTO:manthamatten@saint-catherine.org
GEO:36.0981774;-96.0216659
X-APPLE-STRUCTURED-LOCATION;VALUE=URI;X-ADDRESS=Saint Catherine Church 4532 S. 25th W. Ave. Tulsa OK 74107 United States;X-APPLE-RADIUS=500;X-TITLE=4532 S. 25th W. Ave.:geo:-96.0216659,36.0981774
END:VEVENT
BEGIN:VEVENT
DTSTART;TZID=America/Chicago:20190201T081000
DTEND;TZID=America/Chicago:20190201T090000
DTSTAMP:20260424T210902
CREATED:20180801T175923Z
LAST-MODIFIED:20180801T175923Z
UID:10007257-1549008600-1549011600@www.saintcatherineschool.org
SUMMARY:Mass
DESCRIPTION:The school Mass begins at 8:10 in the church.
URL:https://www.saintcatherineschool.org/event/mass-14/2019-02-01
LOCATION:Saint Catherine Church\, 4532 S. 25th W. Ave.\, Tulsa\, OK\, 74107\, United States
CATEGORIES:Church of Saint Catherine,Saint Catherine School
ORGANIZER;CN="Michelle Anthamatten":MAILTO:manthamatten@saint-catherine.org
GEO:36.0981774;-96.0216659
X-APPLE-STRUCTURED-LOCATION;VALUE=URI;X-ADDRESS=Saint Catherine Church 4532 S. 25th W. Ave. Tulsa OK 74107 United States;X-APPLE-RADIUS=500;X-TITLE=4532 S. 25th W. Ave.:geo:-96.0216659,36.0981774
END:VEVENT
BEGIN:VEVENT
DTSTART;TZID=America/Chicago:20190130T143000
DTEND;TZID=America/Chicago:20190130T150000
DTSTAMP:20260424T210902
CREATED:20190110T212321Z
LAST-MODIFIED:20190110T212321Z
UID:10007715-1548858600-1548860400@www.saintcatherineschool.org
SUMMARY:CSW Living Rosary
DESCRIPTION:The children of Saint Catherine will do a Living Rosary.
URL:https://www.saintcatherineschool.org/event/csw-living-rosary
LOCATION:Saint Catherine Church\, 4532 S. 25th W. Ave.\, Tulsa\, OK\, 74107\, United States
CATEGORIES:Saint Catherine School
ORGANIZER;CN="Michelle Anthamatten":MAILTO:manthamatten@saint-catherine.org
GEO:36.0981774;-96.0216659
X-APPLE-STRUCTURED-LOCATION;VALUE=URI;X-ADDRESS=Saint Catherine Church 4532 S. 25th W. Ave. Tulsa OK 74107 United States;X-APPLE-RADIUS=500;X-TITLE=4532 S. 25th W. Ave.:geo:-96.0216659,36.0981774
END:VEVENT
BEGIN:VEVENT
DTSTART;TZID=America/Chicago:20190130T080000
DTEND;TZID=America/Chicago:20190130T090000
DTSTAMP:20260424T210902
CREATED:20190110T191230Z
LAST-MODIFIED:20190123T205711Z
UID:10005385-1548835200-1548838800@www.saintcatherineschool.org
SUMMARY:Student Confessions
DESCRIPTION:Student Confessions will be heard on Wednesdays in the morning.
URL:https://www.saintcatherineschool.org/event/student-confessions/2019-01-30
LOCATION:Saint Catherine Church\, 4532 S. 25th W. Ave.\, Tulsa\, OK\, 74107\, United States
CATEGORIES:Church of Saint Catherine,Saint Catherine School
ORGANIZER;CN="Michelle Anthamatten":MAILTO:manthamatten@saint-catherine.org
GEO:36.0981774;-96.0216659
X-APPLE-STRUCTURED-LOCATION;VALUE=URI;X-ADDRESS=Saint Catherine Church 4532 S. 25th W. Ave. Tulsa OK 74107 United States;X-APPLE-RADIUS=500;X-TITLE=4532 S. 25th W. Ave.:geo:-96.0216659,36.0981774
END:VEVENT
BEGIN:VEVENT
DTSTART;TZID=America/Chicago:20190129T081000
DTEND;TZID=America/Chicago:20190129T090000
DTSTAMP:20260424T210902
CREATED:20180801T175923Z
LAST-MODIFIED:20180801T175923Z
UID:10007256-1548749400-1548752400@www.saintcatherineschool.org
SUMMARY:Mass
DESCRIPTION:The school Mass begins at 8:10 in the church.
URL:https://www.saintcatherineschool.org/event/mass-14/2019-01-29
LOCATION:Saint Catherine Church\, 4532 S. 25th W. Ave.\, Tulsa\, OK\, 74107\, United States
CATEGORIES:Church of Saint Catherine,Saint Catherine School
ORGANIZER;CN="Michelle Anthamatten":MAILTO:manthamatten@saint-catherine.org
GEO:36.0981774;-96.0216659
X-APPLE-STRUCTURED-LOCATION;VALUE=URI;X-ADDRESS=Saint Catherine Church 4532 S. 25th W. Ave. Tulsa OK 74107 United States;X-APPLE-RADIUS=500;X-TITLE=4532 S. 25th W. Ave.:geo:-96.0216659,36.0981774
END:VEVENT
BEGIN:VEVENT
DTSTART;TZID=America/Chicago:20190125T081000
DTEND;TZID=America/Chicago:20190125T090000
DTSTAMP:20260424T210902
CREATED:20180801T175923Z
LAST-MODIFIED:20180801T175923Z
UID:10007255-1548403800-1548406800@www.saintcatherineschool.org
SUMMARY:Mass
DESCRIPTION:The school Mass begins at 8:10 in the church.
URL:https://www.saintcatherineschool.org/event/mass-14/2019-01-25
LOCATION:Saint Catherine Church\, 4532 S. 25th W. Ave.\, Tulsa\, OK\, 74107\, United States
CATEGORIES:Church of Saint Catherine,Saint Catherine School
ORGANIZER;CN="Michelle Anthamatten":MAILTO:manthamatten@saint-catherine.org
GEO:36.0981774;-96.0216659
X-APPLE-STRUCTURED-LOCATION;VALUE=URI;X-ADDRESS=Saint Catherine Church 4532 S. 25th W. Ave. Tulsa OK 74107 United States;X-APPLE-RADIUS=500;X-TITLE=4532 S. 25th W. Ave.:geo:-96.0216659,36.0981774
END:VEVENT
BEGIN:VEVENT
DTSTART;TZID=America/Chicago:20190123T080000
DTEND;TZID=America/Chicago:20190123T090000
DTSTAMP:20260424T210902
CREATED:20190110T191230Z
LAST-MODIFIED:20190123T205711Z
UID:10005384-1548230400-1548234000@www.saintcatherineschool.org
SUMMARY:Student Confessions
DESCRIPTION:Student Confessions will be heard on Wednesdays in the morning.
URL:https://www.saintcatherineschool.org/event/student-confessions/2019-01-23
LOCATION:Saint Catherine Church\, 4532 S. 25th W. Ave.\, Tulsa\, OK\, 74107\, United States
CATEGORIES:Church of Saint Catherine,Saint Catherine School
ORGANIZER;CN="Michelle Anthamatten":MAILTO:manthamatten@saint-catherine.org
GEO:36.0981774;-96.0216659
X-APPLE-STRUCTURED-LOCATION;VALUE=URI;X-ADDRESS=Saint Catherine Church 4532 S. 25th W. Ave. Tulsa OK 74107 United States;X-APPLE-RADIUS=500;X-TITLE=4532 S. 25th W. Ave.:geo:-96.0216659,36.0981774
END:VEVENT
BEGIN:VEVENT
DTSTART;TZID=America/Chicago:20190122T081000
DTEND;TZID=America/Chicago:20190122T090000
DTSTAMP:20260424T210902
CREATED:20180801T175923Z
LAST-MODIFIED:20180801T175923Z
UID:10007254-1548144600-1548147600@www.saintcatherineschool.org
SUMMARY:Mass
DESCRIPTION:The school Mass begins at 8:10 in the church.
URL:https://www.saintcatherineschool.org/event/mass-14/2019-01-22
LOCATION:Saint Catherine Church\, 4532 S. 25th W. Ave.\, Tulsa\, OK\, 74107\, United States
CATEGORIES:Church of Saint Catherine,Saint Catherine School
ORGANIZER;CN="Michelle Anthamatten":MAILTO:manthamatten@saint-catherine.org
GEO:36.0981774;-96.0216659
X-APPLE-STRUCTURED-LOCATION;VALUE=URI;X-ADDRESS=Saint Catherine Church 4532 S. 25th W. Ave. Tulsa OK 74107 United States;X-APPLE-RADIUS=500;X-TITLE=4532 S. 25th W. Ave.:geo:-96.0216659,36.0981774
END:VEVENT
BEGIN:VEVENT
DTSTART;TZID=America/Chicago:20190118T081000
DTEND;TZID=America/Chicago:20190118T090000
DTSTAMP:20260424T210902
CREATED:20180801T175923Z
LAST-MODIFIED:20180801T175923Z
UID:10007253-1547799000-1547802000@www.saintcatherineschool.org
SUMMARY:Mass
DESCRIPTION:The school Mass begins at 8:10 in the church.
URL:https://www.saintcatherineschool.org/event/mass-14/2019-01-18
LOCATION:Saint Catherine Church\, 4532 S. 25th W. Ave.\, Tulsa\, OK\, 74107\, United States
CATEGORIES:Church of Saint Catherine,Saint Catherine School
ORGANIZER;CN="Michelle Anthamatten":MAILTO:manthamatten@saint-catherine.org
GEO:36.0981774;-96.0216659
X-APPLE-STRUCTURED-LOCATION;VALUE=URI;X-ADDRESS=Saint Catherine Church 4532 S. 25th W. Ave. Tulsa OK 74107 United States;X-APPLE-RADIUS=500;X-TITLE=4532 S. 25th W. Ave.:geo:-96.0216659,36.0981774
END:VEVENT
BEGIN:VEVENT
DTSTART;TZID=America/Chicago:20190116T080000
DTEND;TZID=America/Chicago:20190116T090000
DTSTAMP:20260424T210902
CREATED:20190110T191230Z
LAST-MODIFIED:20190123T205711Z
UID:10005383-1547625600-1547629200@www.saintcatherineschool.org
SUMMARY:Student Confessions
DESCRIPTION:Student Confessions will be heard on Wednesdays in the morning.
URL:https://www.saintcatherineschool.org/event/student-confessions/2019-01-16
LOCATION:Saint Catherine Church\, 4532 S. 25th W. Ave.\, Tulsa\, OK\, 74107\, United States
CATEGORIES:Church of Saint Catherine,Saint Catherine School
ORGANIZER;CN="Michelle Anthamatten":MAILTO:manthamatten@saint-catherine.org
GEO:36.0981774;-96.0216659
X-APPLE-STRUCTURED-LOCATION;VALUE=URI;X-ADDRESS=Saint Catherine Church 4532 S. 25th W. Ave. Tulsa OK 74107 United States;X-APPLE-RADIUS=500;X-TITLE=4532 S. 25th W. Ave.:geo:-96.0216659,36.0981774
END:VEVENT
BEGIN:VEVENT
DTSTART;TZID=America/Chicago:20190115T081000
DTEND;TZID=America/Chicago:20190115T090000
DTSTAMP:20260424T210902
CREATED:20180801T175923Z
LAST-MODIFIED:20180801T175923Z
UID:10007252-1547539800-1547542800@www.saintcatherineschool.org
SUMMARY:Mass
DESCRIPTION:The school Mass begins at 8:10 in the church.
URL:https://www.saintcatherineschool.org/event/mass-14/2019-01-15
LOCATION:Saint Catherine Church\, 4532 S. 25th W. Ave.\, Tulsa\, OK\, 74107\, United States
CATEGORIES:Church of Saint Catherine,Saint Catherine School
ORGANIZER;CN="Michelle Anthamatten":MAILTO:manthamatten@saint-catherine.org
GEO:36.0981774;-96.0216659
X-APPLE-STRUCTURED-LOCATION;VALUE=URI;X-ADDRESS=Saint Catherine Church 4532 S. 25th W. Ave. Tulsa OK 74107 United States;X-APPLE-RADIUS=500;X-TITLE=4532 S. 25th W. Ave.:geo:-96.0216659,36.0981774
END:VEVENT
BEGIN:VEVENT
DTSTART;TZID=America/Chicago:20190111T140000
DTEND;TZID=America/Chicago:20190111T150000
DTSTAMP:20260424T210902
CREATED:20190110T193641Z
LAST-MODIFIED:20190110T193641Z
UID:10005389-1547215200-1547218800@www.saintcatherineschool.org
SUMMARY:Holy Hour
DESCRIPTION:Adoration and Benediction will be at 2pm.
URL:https://www.saintcatherineschool.org/event/holy-hour
LOCATION:Saint Catherine Church\, 4532 S. 25th W. Ave.\, Tulsa\, OK\, 74107\, United States
CATEGORIES:Church of Saint Catherine,Saint Catherine School
ORGANIZER;CN="Michelle Anthamatten":MAILTO:manthamatten@saint-catherine.org
GEO:36.0981774;-96.0216659
X-APPLE-STRUCTURED-LOCATION;VALUE=URI;X-ADDRESS=Saint Catherine Church 4532 S. 25th W. Ave. Tulsa OK 74107 United States;X-APPLE-RADIUS=500;X-TITLE=4532 S. 25th W. Ave.:geo:-96.0216659,36.0981774
END:VEVENT
BEGIN:VEVENT
DTSTART;TZID=America/Chicago:20190111T081000
DTEND;TZID=America/Chicago:20190111T090000
DTSTAMP:20260424T210902
CREATED:20180801T175923Z
LAST-MODIFIED:20180801T175923Z
UID:10007251-1547194200-1547197200@www.saintcatherineschool.org
SUMMARY:Mass
DESCRIPTION:The school Mass begins at 8:10 in the church.
URL:https://www.saintcatherineschool.org/event/mass-14/2019-01-11
LOCATION:Saint Catherine Church\, 4532 S. 25th W. Ave.\, Tulsa\, OK\, 74107\, United States
CATEGORIES:Church of Saint Catherine,Saint Catherine School
ORGANIZER;CN="Michelle Anthamatten":MAILTO:manthamatten@saint-catherine.org
GEO:36.0981774;-96.0216659
X-APPLE-STRUCTURED-LOCATION;VALUE=URI;X-ADDRESS=Saint Catherine Church 4532 S. 25th W. Ave. Tulsa OK 74107 United States;X-APPLE-RADIUS=500;X-TITLE=4532 S. 25th W. Ave.:geo:-96.0216659,36.0981774
END:VEVENT
BEGIN:VEVENT
DTSTART;TZID=America/Chicago:20190109T080000
DTEND;TZID=America/Chicago:20190109T090000
DTSTAMP:20260424T210902
CREATED:20190110T191230Z
LAST-MODIFIED:20190123T205711Z
UID:10005382-1547020800-1547024400@www.saintcatherineschool.org
SUMMARY:Student Confessions
DESCRIPTION:Student Confessions will be heard on Wednesdays in the morning.
URL:https://www.saintcatherineschool.org/event/student-confessions/2019-01-09
LOCATION:Saint Catherine Church\, 4532 S. 25th W. Ave.\, Tulsa\, OK\, 74107\, United States
CATEGORIES:Church of Saint Catherine,Saint Catherine School
ORGANIZER;CN="Michelle Anthamatten":MAILTO:manthamatten@saint-catherine.org
GEO:36.0981774;-96.0216659
X-APPLE-STRUCTURED-LOCATION;VALUE=URI;X-ADDRESS=Saint Catherine Church 4532 S. 25th W. Ave. Tulsa OK 74107 United States;X-APPLE-RADIUS=500;X-TITLE=4532 S. 25th W. Ave.:geo:-96.0216659,36.0981774
END:VEVENT
BEGIN:VEVENT
DTSTART;TZID=America/Chicago:20190108T081000
DTEND;TZID=America/Chicago:20190108T090000
DTSTAMP:20260424T210902
CREATED:20180801T175923Z
LAST-MODIFIED:20180801T175923Z
UID:10007250-1546935000-1546938000@www.saintcatherineschool.org
SUMMARY:Mass
DESCRIPTION:The school Mass begins at 8:10 in the church.
URL:https://www.saintcatherineschool.org/event/mass-14/2019-01-08
LOCATION:Saint Catherine Church\, 4532 S. 25th W. Ave.\, Tulsa\, OK\, 74107\, United States
CATEGORIES:Church of Saint Catherine,Saint Catherine School
ORGANIZER;CN="Michelle Anthamatten":MAILTO:manthamatten@saint-catherine.org
GEO:36.0981774;-96.0216659
X-APPLE-STRUCTURED-LOCATION;VALUE=URI;X-ADDRESS=Saint Catherine Church 4532 S. 25th W. Ave. Tulsa OK 74107 United States;X-APPLE-RADIUS=500;X-TITLE=4532 S. 25th W. Ave.:geo:-96.0216659,36.0981774
END:VEVENT
BEGIN:VEVENT
DTSTART;TZID=America/Chicago:20190104T081000
DTEND;TZID=America/Chicago:20190104T090000
DTSTAMP:20260424T210902
CREATED:20180801T175923Z
LAST-MODIFIED:20180801T175923Z
UID:10007249-1546589400-1546592400@www.saintcatherineschool.org
SUMMARY:Mass
DESCRIPTION:The school Mass begins at 8:10 in the church.
URL:https://www.saintcatherineschool.org/event/mass-14/2019-01-04
LOCATION:Saint Catherine Church\, 4532 S. 25th W. Ave.\, Tulsa\, OK\, 74107\, United States
CATEGORIES:Church of Saint Catherine,Saint Catherine School
ORGANIZER;CN="Michelle Anthamatten":MAILTO:manthamatten@saint-catherine.org
GEO:36.0981774;-96.0216659
X-APPLE-STRUCTURED-LOCATION;VALUE=URI;X-ADDRESS=Saint Catherine Church 4532 S. 25th W. Ave. Tulsa OK 74107 United States;X-APPLE-RADIUS=500;X-TITLE=4532 S. 25th W. Ave.:geo:-96.0216659,36.0981774
END:VEVENT
BEGIN:VEVENT
DTSTART;TZID=America/Chicago:20190101T081000
DTEND;TZID=America/Chicago:20190101T090000
DTSTAMP:20260424T210902
CREATED:20180801T175923Z
LAST-MODIFIED:20180801T175923Z
UID:10007248-1546330200-1546333200@www.saintcatherineschool.org
SUMMARY:Mass
DESCRIPTION:The school Mass begins at 8:10 in the church.
URL:https://www.saintcatherineschool.org/event/mass-14/2019-01-01
LOCATION:Saint Catherine Church\, 4532 S. 25th W. Ave.\, Tulsa\, OK\, 74107\, United States
CATEGORIES:Church of Saint Catherine,Saint Catherine School
ORGANIZER;CN="Michelle Anthamatten":MAILTO:manthamatten@saint-catherine.org
GEO:36.0981774;-96.0216659
X-APPLE-STRUCTURED-LOCATION;VALUE=URI;X-ADDRESS=Saint Catherine Church 4532 S. 25th W. Ave. Tulsa OK 74107 United States;X-APPLE-RADIUS=500;X-TITLE=4532 S. 25th W. Ave.:geo:-96.0216659,36.0981774
END:VEVENT
BEGIN:VEVENT
DTSTART;TZID=America/Chicago:20181228T081000
DTEND;TZID=America/Chicago:20181228T090000
DTSTAMP:20260424T210902
CREATED:20180801T175923Z
LAST-MODIFIED:20180801T175923Z
UID:10007247-1545984600-1545987600@www.saintcatherineschool.org
SUMMARY:Mass
DESCRIPTION:The school Mass begins at 8:10 in the church.
URL:https://www.saintcatherineschool.org/event/mass-14/2018-12-28
LOCATION:Saint Catherine Church\, 4532 S. 25th W. Ave.\, Tulsa\, OK\, 74107\, United States
CATEGORIES:Church of Saint Catherine,Saint Catherine School
ORGANIZER;CN="Michelle Anthamatten":MAILTO:manthamatten@saint-catherine.org
GEO:36.0981774;-96.0216659
X-APPLE-STRUCTURED-LOCATION;VALUE=URI;X-ADDRESS=Saint Catherine Church 4532 S. 25th W. Ave. Tulsa OK 74107 United States;X-APPLE-RADIUS=500;X-TITLE=4532 S. 25th W. Ave.:geo:-96.0216659,36.0981774
END:VEVENT
BEGIN:VEVENT
DTSTART;TZID=America/Chicago:20181225T081000
DTEND;TZID=America/Chicago:20181225T090000
DTSTAMP:20260424T210902
CREATED:20180801T175923Z
LAST-MODIFIED:20180801T175923Z
UID:10007246-1545725400-1545728400@www.saintcatherineschool.org
SUMMARY:Mass
DESCRIPTION:The school Mass begins at 8:10 in the church.
URL:https://www.saintcatherineschool.org/event/mass-14/2018-12-25
LOCATION:Saint Catherine Church\, 4532 S. 25th W. Ave.\, Tulsa\, OK\, 74107\, United States
CATEGORIES:Church of Saint Catherine,Saint Catherine School
ORGANIZER;CN="Michelle Anthamatten":MAILTO:manthamatten@saint-catherine.org
GEO:36.0981774;-96.0216659
X-APPLE-STRUCTURED-LOCATION;VALUE=URI;X-ADDRESS=Saint Catherine Church 4532 S. 25th W. Ave. Tulsa OK 74107 United States;X-APPLE-RADIUS=500;X-TITLE=4532 S. 25th W. Ave.:geo:-96.0216659,36.0981774
END:VEVENT
BEGIN:VEVENT
DTSTART;TZID=America/Chicago:20181221T081000
DTEND;TZID=America/Chicago:20181221T090000
DTSTAMP:20260424T210902
CREATED:20180801T175923Z
LAST-MODIFIED:20180801T175923Z
UID:10007245-1545379800-1545382800@www.saintcatherineschool.org
SUMMARY:Mass
DESCRIPTION:The school Mass begins at 8:10 in the church.
URL:https://www.saintcatherineschool.org/event/mass-14/2018-12-21
LOCATION:Saint Catherine Church\, 4532 S. 25th W. Ave.\, Tulsa\, OK\, 74107\, United States
CATEGORIES:Church of Saint Catherine,Saint Catherine School
ORGANIZER;CN="Michelle Anthamatten":MAILTO:manthamatten@saint-catherine.org
GEO:36.0981774;-96.0216659
X-APPLE-STRUCTURED-LOCATION;VALUE=URI;X-ADDRESS=Saint Catherine Church 4532 S. 25th W. Ave. Tulsa OK 74107 United States;X-APPLE-RADIUS=500;X-TITLE=4532 S. 25th W. Ave.:geo:-96.0216659,36.0981774
END:VEVENT
BEGIN:VEVENT
DTSTART;TZID=America/Chicago:20181218T180000
DTEND;TZID=America/Chicago:20181218T190000
DTSTAMP:20260424T210902
CREATED:20181029T235723Z
LAST-MODIFIED:20181029T235723Z
UID:10007595-1545156000-1545159600@www.saintcatherineschool.org
SUMMARY:Christmas Program
DESCRIPTION:The Christmas program will begin at 6pm.  The children need to be in their classrooms by 5:30.
URL:https://www.saintcatherineschool.org/event/christmas-program
LOCATION:Saint Catherine Church\, 4532 S. 25th W. Ave.\, Tulsa\, OK\, 74107\, United States
CATEGORIES:Saint Catherine School
ORGANIZER;CN="Michelle Anthamatten":MAILTO:manthamatten@saint-catherine.org
GEO:36.0981774;-96.0216659
X-APPLE-STRUCTURED-LOCATION;VALUE=URI;X-ADDRESS=Saint Catherine Church 4532 S. 25th W. Ave. Tulsa OK 74107 United States;X-APPLE-RADIUS=500;X-TITLE=4532 S. 25th W. Ave.:geo:-96.0216659,36.0981774
END:VEVENT
BEGIN:VEVENT
DTSTART;TZID=America/Chicago:20181218T081000
DTEND;TZID=America/Chicago:20181218T090000
DTSTAMP:20260424T210902
CREATED:20180801T175923Z
LAST-MODIFIED:20180801T175923Z
UID:10007244-1545120600-1545123600@www.saintcatherineschool.org
SUMMARY:Mass
DESCRIPTION:The school Mass begins at 8:10 in the church.
URL:https://www.saintcatherineschool.org/event/mass-14/2018-12-18
LOCATION:Saint Catherine Church\, 4532 S. 25th W. Ave.\, Tulsa\, OK\, 74107\, United States
CATEGORIES:Church of Saint Catherine,Saint Catherine School
ORGANIZER;CN="Michelle Anthamatten":MAILTO:manthamatten@saint-catherine.org
GEO:36.0981774;-96.0216659
X-APPLE-STRUCTURED-LOCATION;VALUE=URI;X-ADDRESS=Saint Catherine Church 4532 S. 25th W. Ave. Tulsa OK 74107 United States;X-APPLE-RADIUS=500;X-TITLE=4532 S. 25th W. Ave.:geo:-96.0216659,36.0981774
END:VEVENT
BEGIN:VEVENT
DTSTART;TZID=America/Chicago:20181215T180000
DTEND;TZID=America/Chicago:20181215T200000
DTSTAMP:20260424T210902
CREATED:20181210T155238Z
LAST-MODIFIED:20181210T155254Z
UID:10007567-1544896800-1544904000@www.saintcatherineschool.org
SUMMARY:Faculty Christmas Party
DESCRIPTION:
URL:https://www.saintcatherineschool.org/event/faculty-christttttmas-party
LOCATION:Saint Catherine Church\, 4532 S. 25th W. Ave.\, Tulsa\, OK\, 74107\, United States
CATEGORIES:Church of Saint Catherine,Saint Catherine School
ORGANIZER;CN="Michelle Anthamatten":MAILTO:manthamatten@saint-catherine.org
GEO:36.0981774;-96.0216659
X-APPLE-STRUCTURED-LOCATION;VALUE=URI;X-ADDRESS=Saint Catherine Church 4532 S. 25th W. Ave. Tulsa OK 74107 United States;X-APPLE-RADIUS=500;X-TITLE=4532 S. 25th W. Ave.:geo:-96.0216659,36.0981774
END:VEVENT
BEGIN:VEVENT
DTSTART;TZID=America/Chicago:20181214T081000
DTEND;TZID=America/Chicago:20181214T090000
DTSTAMP:20260424T210902
CREATED:20180801T175923Z
LAST-MODIFIED:20180801T175923Z
UID:10007243-1544775000-1544778000@www.saintcatherineschool.org
SUMMARY:Mass
DESCRIPTION:The school Mass begins at 8:10 in the church.
URL:https://www.saintcatherineschool.org/event/mass-14/2018-12-14
LOCATION:Saint Catherine Church\, 4532 S. 25th W. Ave.\, Tulsa\, OK\, 74107\, United States
CATEGORIES:Church of Saint Catherine,Saint Catherine School
ORGANIZER;CN="Michelle Anthamatten":MAILTO:manthamatten@saint-catherine.org
GEO:36.0981774;-96.0216659
X-APPLE-STRUCTURED-LOCATION;VALUE=URI;X-ADDRESS=Saint Catherine Church 4532 S. 25th W. Ave. Tulsa OK 74107 United States;X-APPLE-RADIUS=500;X-TITLE=4532 S. 25th W. Ave.:geo:-96.0216659,36.0981774
END:VEVENT
BEGIN:VEVENT
DTSTART;TZID=America/Chicago:20181211T081000
DTEND;TZID=America/Chicago:20181211T090000
DTSTAMP:20260424T210902
CREATED:20180801T175923Z
LAST-MODIFIED:20180801T175923Z
UID:10007242-1544515800-1544518800@www.saintcatherineschool.org
SUMMARY:Mass
DESCRIPTION:The school Mass begins at 8:10 in the church.
URL:https://www.saintcatherineschool.org/event/mass-14/2018-12-11
LOCATION:Saint Catherine Church\, 4532 S. 25th W. Ave.\, Tulsa\, OK\, 74107\, United States
CATEGORIES:Church of Saint Catherine,Saint Catherine School
ORGANIZER;CN="Michelle Anthamatten":MAILTO:manthamatten@saint-catherine.org
GEO:36.0981774;-96.0216659
X-APPLE-STRUCTURED-LOCATION;VALUE=URI;X-ADDRESS=Saint Catherine Church 4532 S. 25th W. Ave. Tulsa OK 74107 United States;X-APPLE-RADIUS=500;X-TITLE=4532 S. 25th W. Ave.:geo:-96.0216659,36.0981774
END:VEVENT
BEGIN:VEVENT
DTSTART;TZID=America/Chicago:20181207T081000
DTEND;TZID=America/Chicago:20181207T090000
DTSTAMP:20260424T210902
CREATED:20180801T175923Z
LAST-MODIFIED:20180801T175923Z
UID:10007241-1544170200-1544173200@www.saintcatherineschool.org
SUMMARY:Mass
DESCRIPTION:The school Mass begins at 8:10 in the church.
URL:https://www.saintcatherineschool.org/event/mass-14/2018-12-07
LOCATION:Saint Catherine Church\, 4532 S. 25th W. Ave.\, Tulsa\, OK\, 74107\, United States
CATEGORIES:Church of Saint Catherine,Saint Catherine School
ORGANIZER;CN="Michelle Anthamatten":MAILTO:manthamatten@saint-catherine.org
GEO:36.0981774;-96.0216659
X-APPLE-STRUCTURED-LOCATION;VALUE=URI;X-ADDRESS=Saint Catherine Church 4532 S. 25th W. Ave. Tulsa OK 74107 United States;X-APPLE-RADIUS=500;X-TITLE=4532 S. 25th W. Ave.:geo:-96.0216659,36.0981774
END:VEVENT
BEGIN:VEVENT
DTSTART;TZID=America/Chicago:20181204T081000
DTEND;TZID=America/Chicago:20181204T090000
DTSTAMP:20260424T210902
CREATED:20180801T175923Z
LAST-MODIFIED:20180801T175923Z
UID:10007240-1543911000-1543914000@www.saintcatherineschool.org
SUMMARY:Mass
DESCRIPTION:The school Mass begins at 8:10 in the church.
URL:https://www.saintcatherineschool.org/event/mass-14/2018-12-04
LOCATION:Saint Catherine Church\, 4532 S. 25th W. Ave.\, Tulsa\, OK\, 74107\, United States
CATEGORIES:Church of Saint Catherine,Saint Catherine School
ORGANIZER;CN="Michelle Anthamatten":MAILTO:manthamatten@saint-catherine.org
GEO:36.0981774;-96.0216659
X-APPLE-STRUCTURED-LOCATION;VALUE=URI;X-ADDRESS=Saint Catherine Church 4532 S. 25th W. Ave. Tulsa OK 74107 United States;X-APPLE-RADIUS=500;X-TITLE=4532 S. 25th W. Ave.:geo:-96.0216659,36.0981774
END:VEVENT
BEGIN:VEVENT
DTSTART;TZID=America/Chicago:20181201T090000
DTEND;TZID=America/Chicago:20181201T103000
DTSTAMP:20260424T210902
CREATED:20180917T141159Z
LAST-MODIFIED:20180917T141159Z
UID:10007429-1543654800-1543660200@www.saintcatherineschool.org
SUMMARY:First Reconciliation
DESCRIPTION:First Reconciliation will be at 9am in the church.
URL:https://www.saintcatherineschool.org/event/first-reconciliation
LOCATION:Saint Catherine Church\, 4532 S. 25th W. Ave.\, Tulsa\, OK\, 74107\, United States
CATEGORIES:Church of Saint Catherine,Saint Catherine School
GEO:36.0981774;-96.0216659
X-APPLE-STRUCTURED-LOCATION;VALUE=URI;X-ADDRESS=Saint Catherine Church 4532 S. 25th W. Ave. Tulsa OK 74107 United States;X-APPLE-RADIUS=500;X-TITLE=4532 S. 25th W. Ave.:geo:-96.0216659,36.0981774
END:VEVENT
BEGIN:VEVENT
DTSTART;TZID=America/Chicago:20181130T081000
DTEND;TZID=America/Chicago:20181130T090000
DTSTAMP:20260424T210902
CREATED:20180801T175923Z
LAST-MODIFIED:20180801T175923Z
UID:10007239-1543565400-1543568400@www.saintcatherineschool.org
SUMMARY:Mass
DESCRIPTION:The school Mass begins at 8:10 in the church.
URL:https://www.saintcatherineschool.org/event/mass-14/2018-11-30
LOCATION:Saint Catherine Church\, 4532 S. 25th W. Ave.\, Tulsa\, OK\, 74107\, United States
CATEGORIES:Church of Saint Catherine,Saint Catherine School
ORGANIZER;CN="Michelle Anthamatten":MAILTO:manthamatten@saint-catherine.org
GEO:36.0981774;-96.0216659
X-APPLE-STRUCTURED-LOCATION;VALUE=URI;X-ADDRESS=Saint Catherine Church 4532 S. 25th W. Ave. Tulsa OK 74107 United States;X-APPLE-RADIUS=500;X-TITLE=4532 S. 25th W. Ave.:geo:-96.0216659,36.0981774
END:VEVENT
BEGIN:VEVENT
DTSTART;TZID=America/Chicago:20181127T081000
DTEND;TZID=America/Chicago:20181127T090000
DTSTAMP:20260424T210902
CREATED:20180801T175923Z
LAST-MODIFIED:20180801T175923Z
UID:10007238-1543306200-1543309200@www.saintcatherineschool.org
SUMMARY:Mass
DESCRIPTION:The school Mass begins at 8:10 in the church.
URL:https://www.saintcatherineschool.org/event/mass-14/2018-11-27
LOCATION:Saint Catherine Church\, 4532 S. 25th W. Ave.\, Tulsa\, OK\, 74107\, United States
CATEGORIES:Church of Saint Catherine,Saint Catherine School
ORGANIZER;CN="Michelle Anthamatten":MAILTO:manthamatten@saint-catherine.org
GEO:36.0981774;-96.0216659
X-APPLE-STRUCTURED-LOCATION;VALUE=URI;X-ADDRESS=Saint Catherine Church 4532 S. 25th W. Ave. Tulsa OK 74107 United States;X-APPLE-RADIUS=500;X-TITLE=4532 S. 25th W. Ave.:geo:-96.0216659,36.0981774
END:VEVENT
END:VCALENDAR