BEGIN:VCALENDAR
VERSION:2.0
PRODID:-//Saint Catherine of Alexandria School - ECPv6.15.20//NONSGML v1.0//EN
CALSCALE:GREGORIAN
METHOD:PUBLISH
X-WR-CALNAME:Saint Catherine of Alexandria School
X-ORIGINAL-URL:https://www.saintcatherineschool.org
X-WR-CALDESC:Events for Saint Catherine of Alexandria School
REFRESH-INTERVAL;VALUE=DURATION:PT1H
X-Robots-Tag:noindex
X-PUBLISHED-TTL:PT1H
BEGIN:VTIMEZONE
TZID:America/Chicago
BEGIN:DAYLIGHT
TZOFFSETFROM:-0600
TZOFFSETTO:-0500
TZNAME:CDT
DTSTART:20160313T080000
END:DAYLIGHT
BEGIN:STANDARD
TZOFFSETFROM:-0500
TZOFFSETTO:-0600
TZNAME:CST
DTSTART:20161106T070000
END:STANDARD
BEGIN:DAYLIGHT
TZOFFSETFROM:-0600
TZOFFSETTO:-0500
TZNAME:CDT
DTSTART:20170312T080000
END:DAYLIGHT
BEGIN:STANDARD
TZOFFSETFROM:-0500
TZOFFSETTO:-0600
TZNAME:CST
DTSTART:20171105T070000
END:STANDARD
BEGIN:DAYLIGHT
TZOFFSETFROM:-0600
TZOFFSETTO:-0500
TZNAME:CDT
DTSTART:20180311T080000
END:DAYLIGHT
BEGIN:STANDARD
TZOFFSETFROM:-0500
TZOFFSETTO:-0600
TZNAME:CST
DTSTART:20181104T070000
END:STANDARD
END:VTIMEZONE
BEGIN:VEVENT
DTSTART;TZID=America/Chicago:20171004T103000
DTEND;TZID=America/Chicago:20171004T113000
DTSTAMP:20260424T074657
CREATED:20170927T060037Z
LAST-MODIFIED:20170927T060037Z
UID:10005339-1507113000-1507116600@www.saintcatherineschool.org
SUMMARY:Middle School Lego Club
DESCRIPTION:The middle school Lego Club will meet in Sr. Margaret’s room at 3:30.
URL:https://www.saintcatherineschool.org/event/middle-school-lego-club-6
LOCATION:Sr. Margaret’s classroom
CATEGORIES:Saint Catherine School
ORGANIZER;CN="Sister Margaret":MAILTO:mgibbons@saint-catherine.org
END:VEVENT
BEGIN:VEVENT
DTSTART;TZID=America/Chicago:20170920T103000
DTEND;TZID=America/Chicago:20170920T113000
DTSTAMP:20260424T074657
CREATED:20170822T003407Z
LAST-MODIFIED:20170822T003407Z
UID:10005319-1505903400-1505907000@www.saintcatherineschool.org
SUMMARY:Middle School Lego Club
DESCRIPTION:
URL:https://www.saintcatherineschool.org/event/middle-school-lego-club-4
LOCATION:Sr. Margaret’s classroom
CATEGORIES:Saint Catherine School
END:VEVENT
BEGIN:VEVENT
DTSTART;TZID=America/Chicago:20170913T030000
DTEND;TZID=America/Chicago:20170913T120000
DTSTAMP:20260424T074657
CREATED:20170822T003102Z
LAST-MODIFIED:20170822T003102Z
UID:10005302-1505271600-1505304000@www.saintcatherineschool.org
SUMMARY:Middle School Lego Club
DESCRIPTION:
URL:https://www.saintcatherineschool.org/event/middle-school-lego-club-3
LOCATION:Sr. Margaret’s classroom
CATEGORIES:Saint Catherine School
END:VEVENT
BEGIN:VEVENT
DTSTART;TZID=America/Chicago:20170906T103000
DTEND;TZID=America/Chicago:20170906T113000
DTSTAMP:20260424T074657
CREATED:20170821T194706Z
LAST-MODIFIED:20170821T194706Z
UID:10005035-1504693800-1504697400@www.saintcatherineschool.org
SUMMARY:Middle School Lego
DESCRIPTION:
URL:https://www.saintcatherineschool.org/event/middle-school-lego
LOCATION:Sr. Margaret’s classroom
CATEGORIES:Saint Catherine School
END:VEVENT
BEGIN:VEVENT
DTSTART;TZID=America/Chicago:20170830T103000
DTEND;TZID=America/Chicago:20170830T113000
DTSTAMP:20260424T074657
CREATED:20170821T194111Z
LAST-MODIFIED:20170821T194111Z
UID:10005033-1504089000-1504092600@www.saintcatherineschool.org
SUMMARY:Middle School Lego Club
DESCRIPTION:
URL:https://www.saintcatherineschool.org/event/middle-school-lego-club-2
LOCATION:Sr. Margaret’s classroom
END:VEVENT
END:VCALENDAR