BEGIN:VCALENDAR
VERSION:2.0
PRODID:-//Saint Catherine of Alexandria School - ECPv6.15.20//NONSGML v1.0//EN
CALSCALE:GREGORIAN
METHOD:PUBLISH
X-ORIGINAL-URL:https://www.saintcatherineschool.org
X-WR-CALDESC:Events for Saint Catherine of Alexandria School
REFRESH-INTERVAL;VALUE=DURATION:PT1H
X-Robots-Tag:noindex
X-PUBLISHED-TTL:PT1H
BEGIN:VTIMEZONE
TZID:America/Chicago
BEGIN:DAYLIGHT
TZOFFSETFROM:-0600
TZOFFSETTO:-0500
TZNAME:CDT
DTSTART:20170312T080000
END:DAYLIGHT
BEGIN:STANDARD
TZOFFSETFROM:-0500
TZOFFSETTO:-0600
TZNAME:CST
DTSTART:20171105T070000
END:STANDARD
BEGIN:DAYLIGHT
TZOFFSETFROM:-0600
TZOFFSETTO:-0500
TZNAME:CDT
DTSTART:20180311T080000
END:DAYLIGHT
BEGIN:STANDARD
TZOFFSETFROM:-0500
TZOFFSETTO:-0600
TZNAME:CST
DTSTART:20181104T070000
END:STANDARD
BEGIN:DAYLIGHT
TZOFFSETFROM:-0600
TZOFFSETTO:-0500
TZNAME:CDT
DTSTART:20190310T080000
END:DAYLIGHT
BEGIN:STANDARD
TZOFFSETFROM:-0500
TZOFFSETTO:-0600
TZNAME:CST
DTSTART:20191103T070000
END:STANDARD
BEGIN:DAYLIGHT
TZOFFSETFROM:-0600
TZOFFSETTO:-0500
TZNAME:CDT
DTSTART:20200308T080000
END:DAYLIGHT
BEGIN:STANDARD
TZOFFSETFROM:-0500
TZOFFSETTO:-0600
TZNAME:CST
DTSTART:20201101T070000
END:STANDARD
BEGIN:DAYLIGHT
TZOFFSETFROM:-0600
TZOFFSETTO:-0500
TZNAME:CDT
DTSTART:20210314T080000
END:DAYLIGHT
BEGIN:STANDARD
TZOFFSETFROM:-0500
TZOFFSETTO:-0600
TZNAME:CST
DTSTART:20211107T070000
END:STANDARD
END:VTIMEZONE
BEGIN:VEVENT
DTSTART;TZID=America/Chicago:20200506T153000
DTEND;TZID=America/Chicago:20200506T163000
DTSTAMP:20260424T035108
CREATED:20190626T034244Z
LAST-MODIFIED:20191023T181917Z
UID:10005582-1588779000-1588782600@www.saintcatherineschool.org
SUMMARY:Little Flowers and Little Women
DESCRIPTION:Little Flowers will be after school in Sr. M. Vianney’s room and Little Women will meet in Sr. Margaret’s room.
URL:https://www.saintcatherineschool.org/event/little-flowers-46
LOCATION:Sr. Vianney’s classroom
CATEGORIES:Saint Catherine School
END:VEVENT
BEGIN:VEVENT
DTSTART;TZID=America/Chicago:20200415T153000
DTEND;TZID=America/Chicago:20200415T163000
DTSTAMP:20260424T035108
CREATED:20190626T033722Z
LAST-MODIFIED:20191023T181958Z
UID:10005567-1586964600-1586968200@www.saintcatherineschool.org
SUMMARY:Little Flowers and Little Women
DESCRIPTION:Little Flowers will be after school in Sr. M. Vianney’s room and Little Women will meet in Sr. Margaret’s room.
URL:https://www.saintcatherineschool.org/event/little-flowers-45
LOCATION:Sr. Vianney’s classroom
CATEGORIES:Saint Catherine School
END:VEVENT
BEGIN:VEVENT
DTSTART;TZID=America/Chicago:20200304T080000
DTEND;TZID=America/Chicago:20200304T170000
DTSTAMP:20260424T035108
CREATED:20190626T032453Z
LAST-MODIFIED:20191023T182240Z
UID:10008219-1583308800-1583341200@www.saintcatherineschool.org
SUMMARY:Little Flowers and Little Women
DESCRIPTION:Little Flowers will be after school in Sr. M. Vianney’s room and Little Women will meet in Sr. Margaret’s room.
URL:https://www.saintcatherineschool.org/event/little-flowers-43
LOCATION:Sr. Vianney’s classroom
CATEGORIES:Saint Catherine School
END:VEVENT
BEGIN:VEVENT
DTSTART;TZID=America/Chicago:20200219T153000
DTEND;TZID=America/Chicago:20200219T163000
DTSTAMP:20260424T035108
CREATED:20190626T030321Z
LAST-MODIFIED:20191023T182317Z
UID:10008139-1582126200-1582129800@www.saintcatherineschool.org
SUMMARY:Little Flowers and Little Women
DESCRIPTION:Little Flowers will be after school in Sr. M. Vianney’s room and Little Women will meet in Sr. Margaret’s room.
URL:https://www.saintcatherineschool.org/event/little-flowers-42
LOCATION:Sr. Vianney’s classroom
CATEGORIES:Saint Catherine School
END:VEVENT
BEGIN:VEVENT
DTSTART;TZID=America/Chicago:20200205T153000
DTEND;TZID=America/Chicago:20200205T163000
DTSTAMP:20260424T035108
CREATED:20190626T030153Z
LAST-MODIFIED:20191023T182157Z
UID:10008141-1580916600-1580920200@www.saintcatherineschool.org
SUMMARY:Little Flowers and Little Women
DESCRIPTION:Little Flowers will be after school in Sr. M. Vianney’s room and Little Women will meet in Sr. Margaret’s room.
URL:https://www.saintcatherineschool.org/event/little-flowers-41
LOCATION:Sr. Vianney’s classroom
CATEGORIES:Saint Catherine School
END:VEVENT
BEGIN:VEVENT
DTSTART;TZID=America/Chicago:20200122T153000
DTEND;TZID=America/Chicago:20200122T163000
DTSTAMP:20260424T035108
CREATED:20190626T025224Z
LAST-MODIFIED:20191023T181844Z
UID:10008127-1579707000-1579710600@www.saintcatherineschool.org
SUMMARY:Little Flowers and Little Women
DESCRIPTION:Little Flowers will be after school in Sr. M. Vianney’s room and Little Women will meet in Sr. Margaret’s room.
URL:https://www.saintcatherineschool.org/event/little-flowers-40
LOCATION:Sr. Vianney’s classroom
CATEGORIES:Saint Catherine School
END:VEVENT
BEGIN:VEVENT
DTSTART;TZID=America/Chicago:20200108T153000
DTEND;TZID=America/Chicago:20200108T163000
DTSTAMP:20260424T035108
CREATED:20190626T025103Z
LAST-MODIFIED:20191023T181805Z
UID:10008165-1578497400-1578501000@www.saintcatherineschool.org
SUMMARY:Little Flowers and Little Women
DESCRIPTION:Little Flowers will be after school in Sr. M. Vianney’s room and Little Women will meet in Sr. Margaret’s room.
URL:https://www.saintcatherineschool.org/event/little-flowers-39
LOCATION:Sr. Vianney’s classroom
CATEGORIES:Saint Catherine School
END:VEVENT
BEGIN:VEVENT
DTSTART;TZID=America/Chicago:20191218T153000
DTEND;TZID=America/Chicago:20191218T163000
DTSTAMP:20260424T035108
CREATED:20190626T024346Z
LAST-MODIFIED:20191023T181724Z
UID:10005542-1576683000-1576686600@www.saintcatherineschool.org
SUMMARY:Little Flowers and Little Women
DESCRIPTION:Little Flowers will be after school in Sr. M. Vianney’s room and Little Women will meet in Sr. Margaret’s room.
URL:https://www.saintcatherineschool.org/event/little-flowers-38
LOCATION:Sr. Vianney’s classroom
CATEGORIES:Saint Catherine School
END:VEVENT
BEGIN:VEVENT
DTSTART;TZID=America/Chicago:20191204T153000
DTEND;TZID=America/Chicago:20191204T163000
DTSTAMP:20260424T035108
CREATED:20190626T024231Z
LAST-MODIFIED:20191023T181647Z
UID:10005540-1575473400-1575477000@www.saintcatherineschool.org
SUMMARY:Little Flowers and Little Women
DESCRIPTION:Little Flowers will be after school in Sr. M. Vianney’s room and Little Women will meet in Sr. Margaret’s room.
URL:https://www.saintcatherineschool.org/event/little-flowers-37
LOCATION:Sr. Vianney’s classroom
CATEGORIES:Saint Catherine School
END:VEVENT
BEGIN:VEVENT
DTSTART;TZID=America/Chicago:20191120T153000
DTEND;TZID=America/Chicago:20191120T163000
DTSTAMP:20260424T035108
CREATED:20190626T023529Z
LAST-MODIFIED:20191023T181607Z
UID:10005526-1574263800-1574267400@www.saintcatherineschool.org
SUMMARY:Little Flowers and Little Women
DESCRIPTION:Little Flowers will be after school in Sr. M. Vianney’s room and Little Women will meet in Sr. Margaret’s room.
URL:https://www.saintcatherineschool.org/event/little-flowers-36
LOCATION:Sr. Vianney’s classroom
CATEGORIES:Saint Catherine School
END:VEVENT
BEGIN:VEVENT
DTSTART;TZID=America/Chicago:20191106T153000
DTEND;TZID=America/Chicago:20191106T163000
DTSTAMP:20260424T035108
CREATED:20190626T023426Z
LAST-MODIFIED:20191023T181520Z
UID:10008362-1573054200-1573057800@www.saintcatherineschool.org
SUMMARY:Little Flowers and Little Women
DESCRIPTION:Little Flowers will be after school in Sr. M. Vianney’s room and Little Women will meet in Sr. Margaret’s room.
URL:https://www.saintcatherineschool.org/event/little-flowers-35
LOCATION:Sr. Vianney’s classroom
CATEGORIES:Saint Catherine School
END:VEVENT
BEGIN:VEVENT
DTSTART;TZID=America/Chicago:20191002T080000
DTEND;TZID=America/Chicago:20191002T170000
DTSTAMP:20260424T035108
CREATED:20190626T015811Z
LAST-MODIFIED:20190827T141053Z
UID:10008087-1570003200-1570035600@www.saintcatherineschool.org
SUMMARY:Little Flowers and Little Women
DESCRIPTION:Little Flowers and Little Women will meet after school at 3:30 – Little Flowers in Sr. Vianney’s room and Little Women in Sr. Margaret’s room.
URL:https://www.saintcatherineschool.org/event/little-flowers-33
LOCATION:Sr. Vianney’s classroom
CATEGORIES:Saint Catherine School
END:VEVENT
BEGIN:VEVENT
DTSTART;TZID=America/Chicago:20190501T153000
DTEND;TZID=America/Chicago:20190501T163000
DTSTAMP:20260424T035108
CREATED:20190430T134022Z
LAST-MODIFIED:20190430T134022Z
UID:10005462-1556724600-1556728200@www.saintcatherineschool.org
SUMMARY:Little Flowers
DESCRIPTION:Little Flowers will meet in Sr. Vianney’s Room at 3:30.
URL:https://www.saintcatherineschool.org/event/little-flowers-28
LOCATION:Sr. Vianney’s classroom
CATEGORIES:Saint Catherine School
END:VEVENT
BEGIN:VEVENT
DTSTART;TZID=America/Chicago:20190417T153000
DTEND;TZID=America/Chicago:20190417T163000
DTSTAMP:20260424T035108
CREATED:20190401T145330Z
LAST-MODIFIED:20190401T145330Z
UID:10007946-1555515000-1555518600@www.saintcatherineschool.org
SUMMARY:Little Flowers
DESCRIPTION:Little Flowers will meet after school in Sr. Vianney’s classroom.
URL:https://www.saintcatherineschool.org/event/little-flowers-27
LOCATION:Sr. Vianney’s classroom
CATEGORIES:Saint Catherine School
END:VEVENT
BEGIN:VEVENT
DTSTART;TZID=America/Chicago:20190403T153000
DTEND;TZID=America/Chicago:20190403T163000
DTSTAMP:20260424T035108
CREATED:20190401T145216Z
LAST-MODIFIED:20190401T145216Z
UID:10007894-1554305400-1554309000@www.saintcatherineschool.org
SUMMARY:Little Flowers
DESCRIPTION:Little Flowers will meet today at 3:30 in Sr. Vianney’s Classroom.
URL:https://www.saintcatherineschool.org/event/little-flowers-26
LOCATION:Sr. Vianney’s classroom
CATEGORIES:Saint Catherine School
END:VEVENT
BEGIN:VEVENT
DTSTART;TZID=America/Chicago:20190306T153000
DTEND;TZID=America/Chicago:20190306T163000
DTSTAMP:20260424T035108
CREATED:20190228T175059Z
LAST-MODIFIED:20190228T175059Z
UID:10007741-1551886200-1551889800@www.saintcatherineschool.org
SUMMARY:Little Flowers
DESCRIPTION:Today will be the only Little Flowers for the month of March.  It begins at 3:30.
URL:https://www.saintcatherineschool.org/event/little-flowers-25
LOCATION:Sr. Vianney’s classroom
CATEGORIES:Saint Catherine School
END:VEVENT
BEGIN:VEVENT
DTSTART;TZID=America/Chicago:20190220T153000
DTEND;TZID=America/Chicago:20190220T163000
DTSTAMP:20260424T035108
CREATED:20190123T193020Z
LAST-MODIFIED:20190123T193020Z
UID:10005400-1550676600-1550680200@www.saintcatherineschool.org
SUMMARY:Little Flowers
DESCRIPTION:Little Flowers will meet in Sr. Vianney’s classroom at 3:30.
URL:https://www.saintcatherineschool.org/event/little-flowers-24
LOCATION:Sr. Vianney’s classroom
CATEGORIES:Saint Catherine School
END:VEVENT
BEGIN:VEVENT
DTSTART;TZID=America/Chicago:20190206T153000
DTEND;TZID=America/Chicago:20190206T163000
DTSTAMP:20260424T035108
CREATED:20190123T192934Z
LAST-MODIFIED:20190123T192934Z
UID:10005398-1549467000-1549470600@www.saintcatherineschool.org
SUMMARY:Little Flowers
DESCRIPTION:Little Flowers will meet in Sr. Vianney’s classroom at 3:30.
URL:https://www.saintcatherineschool.org/event/little-flowers-23
LOCATION:Sr. Vianney’s classroom
CATEGORIES:Saint Catherine School
END:VEVENT
BEGIN:VEVENT
DTSTART;TZID=America/Chicago:20190123T153000
DTEND;TZID=America/Chicago:20190123T163000
DTSTAMP:20260424T035108
CREATED:20190110T202447Z
LAST-MODIFIED:20190110T202447Z
UID:10007709-1548257400-1548261000@www.saintcatherineschool.org
SUMMARY:Little Flowers
DESCRIPTION:Little Flowers will meet in Sr. Vianney’s classroom after school at 3:30.
URL:https://www.saintcatherineschool.org/event/little-flowers-22
LOCATION:Sr. Vianney’s classroom
CATEGORIES:Saint Catherine School
END:VEVENT
BEGIN:VEVENT
DTSTART;TZID=America/Chicago:20181219T153000
DTEND;TZID=America/Chicago:20181219T163000
DTSTAMP:20260424T035108
CREATED:20181030T000054Z
LAST-MODIFIED:20181030T000602Z
UID:10005326-1545233400-1545237000@www.saintcatherineschool.org
SUMMARY:Little Flowers
DESCRIPTION:Little Flowers will meet in Sr. Vianney’s classroom at 3:30.
URL:https://www.saintcatherineschool.org/event/little-flowers-20
LOCATION:Sr. Vianney’s classroom
CATEGORIES:Saint Catherine School
END:VEVENT
BEGIN:VEVENT
DTSTART;TZID=America/Chicago:20181205T153000
DTEND;TZID=America/Chicago:20181205T163000
DTSTAMP:20260424T035108
CREATED:20181029T235951Z
LAST-MODIFIED:20181029T235951Z
UID:10005324-1544023800-1544027400@www.saintcatherineschool.org
SUMMARY:Little Flowers
DESCRIPTION:Little Flowers will meet in Sr. Vianney’s room at 3:30.
URL:https://www.saintcatherineschool.org/event/little-flowers-19
LOCATION:Sr. Vianney’s classroom
CATEGORIES:Saint Catherine School
END:VEVENT
BEGIN:VEVENT
DTSTART;TZID=America/Chicago:20181114T153000
DTEND;TZID=America/Chicago:20181114T163000
DTSTAMP:20260424T035108
CREATED:20180816T221128Z
LAST-MODIFIED:20180816T221128Z
UID:10005283-1542209400-1542213000@www.saintcatherineschool.org
SUMMARY:Little Flowers
DESCRIPTION:Little Flowers will meet in Sr. Vianney’s classroom from 3:30-4:30.
URL:https://www.saintcatherineschool.org/event/little-flowers-18/2018-11-14
LOCATION:Sr. Vianney’s classroom
CATEGORIES:Church of Saint Catherine,Saint Catherine School
END:VEVENT
BEGIN:VEVENT
DTSTART;TZID=America/Chicago:20181107T153000
DTEND;TZID=America/Chicago:20181107T163000
DTSTAMP:20260424T035108
CREATED:20180816T221128Z
LAST-MODIFIED:20180816T221128Z
UID:10005282-1541604600-1541608200@www.saintcatherineschool.org
SUMMARY:Little Flowers
DESCRIPTION:Little Flowers will meet in Sr. Vianney’s classroom from 3:30-4:30.
URL:https://www.saintcatherineschool.org/event/little-flowers-18/2018-11-07
LOCATION:Sr. Vianney’s classroom
CATEGORIES:Church of Saint Catherine,Saint Catherine School
END:VEVENT
BEGIN:VEVENT
DTSTART;TZID=America/Chicago:20181017T153000
DTEND;TZID=America/Chicago:20181017T163000
DTSTAMP:20260424T035108
CREATED:20180816T215914Z
LAST-MODIFIED:20180816T215914Z
UID:10005270-1539790200-1539793800@www.saintcatherineschool.org
SUMMARY:Little Flowers
DESCRIPTION:Little Flowers will meet in Sr. Vianney’s classroom from 3:30-4:30.
URL:https://www.saintcatherineschool.org/event/little-flowers-17
LOCATION:Sr. Vianney’s classroom
CATEGORIES:Church of Saint Catherine,Saint Catherine School
END:VEVENT
BEGIN:VEVENT
DTSTART;TZID=America/Chicago:20181003T153000
DTEND;TZID=America/Chicago:20181003T163000
DTSTAMP:20260424T035108
CREATED:20180816T215518Z
LAST-MODIFIED:20180816T215518Z
UID:10005265-1538580600-1538584200@www.saintcatherineschool.org
SUMMARY:Little Flowers
DESCRIPTION:Little Flowers will have their meeting in Sr. Vianney’s classroom from 3:30-4:30.
URL:https://www.saintcatherineschool.org/event/little-flowers-16
LOCATION:Sr. Vianney’s classroom
CATEGORIES:Church of Saint Catherine,Saint Catherine School
END:VEVENT
BEGIN:VEVENT
DTSTART;TZID=America/Chicago:20180919T153000
DTEND;TZID=America/Chicago:20180919T163000
DTSTAMP:20260424T035108
CREATED:20180816T213420Z
LAST-MODIFIED:20180816T213420Z
UID:10007346-1537371000-1537374600@www.saintcatherineschool.org
SUMMARY:Little Flowers
DESCRIPTION:Little Flowers will have their meeting in Sr. Vianney’s classroom from 3:30-4:30.
URL:https://www.saintcatherineschool.org/event/little-flowers-15/2018-09-19
LOCATION:Sr. Vianney’s classroom
CATEGORIES:Church of Saint Catherine,Saint Catherine School
END:VEVENT
BEGIN:VEVENT
DTSTART;TZID=America/Chicago:20180912T153000
DTEND;TZID=America/Chicago:20180912T163000
DTSTAMP:20260424T035108
CREATED:20180816T213420Z
LAST-MODIFIED:20180816T213420Z
UID:10007345-1536766200-1536769800@www.saintcatherineschool.org
SUMMARY:Little Flowers
DESCRIPTION:Little Flowers will have their meeting in Sr. Vianney’s classroom from 3:30-4:30.
URL:https://www.saintcatherineschool.org/event/little-flowers-15/2018-09-12
LOCATION:Sr. Vianney’s classroom
CATEGORIES:Church of Saint Catherine,Saint Catherine School
END:VEVENT
BEGIN:VEVENT
DTSTART;TZID=America/Chicago:20180822T153000
DTEND;TZID=America/Chicago:20180822T163000
DTSTAMP:20260424T035108
CREATED:20180816T211545Z
LAST-MODIFIED:20180816T211545Z
UID:10007204-1534951800-1534955400@www.saintcatherineschool.org
SUMMARY:Little Flowers
DESCRIPTION:Little Flowers will meet after school at 3:30 in Sr. Vianney’s classroom.
URL:https://www.saintcatherineschool.org/event/little-flowers-14
LOCATION:Sr. Vianney’s classroom
CATEGORIES:Church of Saint Catherine,Saint Catherine School
END:VEVENT
BEGIN:VEVENT
DTSTART;TZID=America/Chicago:20180516T033000
DTEND;TZID=America/Chicago:20180516T163000
DTSTAMP:20260424T035108
CREATED:20180502T174211Z
LAST-MODIFIED:20180502T174211Z
UID:10007177-1526441400-1526488200@www.saintcatherineschool.org
SUMMARY:Little Flowers
DESCRIPTION:Little Flowers will meet in Sr. Vianney’s room.
URL:https://www.saintcatherineschool.org/event/little-flowers-13
LOCATION:Sr. Vianney’s classroom
CATEGORIES:Saint Catherine School
END:VEVENT
BEGIN:VEVENT
DTSTART;TZID=America/Chicago:20180502T153000
DTEND;TZID=America/Chicago:20180502T163000
DTSTAMP:20260424T035108
CREATED:20180502T173835Z
LAST-MODIFIED:20180502T173835Z
UID:10007182-1525275000-1525278600@www.saintcatherineschool.org
SUMMARY:Little Flowers
DESCRIPTION:Little Flowers will meet in Sr. Vianney’s room.
URL:https://www.saintcatherineschool.org/event/little-flowers-12
LOCATION:Sr. Vianney’s classroom
CATEGORIES:Saint Catherine School
END:VEVENT
END:VCALENDAR