BEGIN:VCALENDAR
VERSION:2.0
PRODID:-//Saint Catherine of Alexandria School - ECPv6.15.20//NONSGML v1.0//EN
CALSCALE:GREGORIAN
METHOD:PUBLISH
X-WR-CALNAME:Saint Catherine of Alexandria School
X-ORIGINAL-URL:https://www.saintcatherineschool.org
X-WR-CALDESC:Events for Saint Catherine of Alexandria School
REFRESH-INTERVAL;VALUE=DURATION:PT1H
X-Robots-Tag:noindex
X-PUBLISHED-TTL:PT1H
BEGIN:VTIMEZONE
TZID:America/Chicago
BEGIN:DAYLIGHT
TZOFFSETFROM:-0600
TZOFFSETTO:-0500
TZNAME:CDT
DTSTART:20200308T080000
END:DAYLIGHT
BEGIN:STANDARD
TZOFFSETFROM:-0500
TZOFFSETTO:-0600
TZNAME:CST
DTSTART:20201101T070000
END:STANDARD
BEGIN:DAYLIGHT
TZOFFSETFROM:-0600
TZOFFSETTO:-0500
TZNAME:CDT
DTSTART:20210314T080000
END:DAYLIGHT
BEGIN:STANDARD
TZOFFSETFROM:-0500
TZOFFSETTO:-0600
TZNAME:CST
DTSTART:20211107T070000
END:STANDARD
BEGIN:DAYLIGHT
TZOFFSETFROM:-0600
TZOFFSETTO:-0500
TZNAME:CDT
DTSTART:20220313T080000
END:DAYLIGHT
BEGIN:STANDARD
TZOFFSETFROM:-0500
TZOFFSETTO:-0600
TZNAME:CST
DTSTART:20221106T070000
END:STANDARD
BEGIN:DAYLIGHT
TZOFFSETFROM:-0600
TZOFFSETTO:-0500
TZNAME:CDT
DTSTART:20230312T080000
END:DAYLIGHT
BEGIN:STANDARD
TZOFFSETFROM:-0500
TZOFFSETTO:-0600
TZNAME:CST
DTSTART:20231105T070000
END:STANDARD
BEGIN:DAYLIGHT
TZOFFSETFROM:-0600
TZOFFSETTO:-0500
TZNAME:CDT
DTSTART:20240310T080000
END:DAYLIGHT
BEGIN:STANDARD
TZOFFSETFROM:-0500
TZOFFSETTO:-0600
TZNAME:CST
DTSTART:20241103T070000
END:STANDARD
END:VTIMEZONE
BEGIN:VEVENT
DTSTART;TZID=America/Chicago:20230930T100000
DTEND;TZID=America/Chicago:20230930T113000
DTSTAMP:20260423T181310
CREATED:20230907T174553Z
LAST-MODIFIED:20230928T161059Z
UID:10011307-1696068000-1696073400@www.saintcatherineschool.org
SUMMARY:1st-4th Grade Soccer Game
DESCRIPTION:
URL:https://www.saintcatherineschool.org/event/1s-4th-grade-soccer-game/2023-09-30
LOCATION:St. Augustine\, 1720 E Apache St\, Tulsa\, OK\, 74110\, United States
CATEGORIES:Church of Saint Catherine,Saint Catherine School
ORGANIZER;CN="Sam Naab":MAILTO:snaab@saint-catherine.org
GEO:36.1911097;-95.965663
X-APPLE-STRUCTURED-LOCATION;VALUE=URI;X-ADDRESS=St. Augustine 1720 E Apache St Tulsa OK 74110 United States;X-APPLE-RADIUS=500;X-TITLE=1720 E Apache St:geo:-95.965663,36.1911097
END:VEVENT
BEGIN:VEVENT
DTSTART;TZID=America/Chicago:20230923T100000
DTEND;TZID=America/Chicago:20230923T113000
DTSTAMP:20260423T181310
CREATED:20230907T174553Z
LAST-MODIFIED:20230928T161059Z
UID:10011306-1695463200-1695468600@www.saintcatherineschool.org
SUMMARY:1st-4th Grade Soccer Game
DESCRIPTION:
URL:https://www.saintcatherineschool.org/event/1s-4th-grade-soccer-game/2023-09-23
LOCATION:St. Augustine\, 1720 E Apache St\, Tulsa\, OK\, 74110\, United States
CATEGORIES:Church of Saint Catherine,Saint Catherine School
ORGANIZER;CN="Sam Naab":MAILTO:snaab@saint-catherine.org
GEO:36.1911097;-95.965663
X-APPLE-STRUCTURED-LOCATION;VALUE=URI;X-ADDRESS=St. Augustine 1720 E Apache St Tulsa OK 74110 United States;X-APPLE-RADIUS=500;X-TITLE=1720 E Apache St:geo:-95.965663,36.1911097
END:VEVENT
BEGIN:VEVENT
DTSTART;TZID=America/Chicago:20230916T100000
DTEND;TZID=America/Chicago:20230916T113000
DTSTAMP:20260423T181310
CREATED:20230907T174553Z
LAST-MODIFIED:20230928T161059Z
UID:10011305-1694858400-1694863800@www.saintcatherineschool.org
SUMMARY:1st-4th Grade Soccer Game
DESCRIPTION:
URL:https://www.saintcatherineschool.org/event/1s-4th-grade-soccer-game/2023-09-16
LOCATION:St. Augustine\, 1720 E Apache St\, Tulsa\, OK\, 74110\, United States
CATEGORIES:Church of Saint Catherine,Saint Catherine School
ORGANIZER;CN="Sam Naab":MAILTO:snaab@saint-catherine.org
GEO:36.1911097;-95.965663
X-APPLE-STRUCTURED-LOCATION;VALUE=URI;X-ADDRESS=St. Augustine 1720 E Apache St Tulsa OK 74110 United States;X-APPLE-RADIUS=500;X-TITLE=1720 E Apache St:geo:-95.965663,36.1911097
END:VEVENT
BEGIN:VEVENT
DTSTART;TZID=America/Chicago:20230909T100000
DTEND;TZID=America/Chicago:20230909T120000
DTSTAMP:20260423T181310
CREATED:20230829T154110Z
LAST-MODIFIED:20230829T154110Z
UID:10011278-1694253600-1694260800@www.saintcatherineschool.org
SUMMARY:Soccer Uniform Pick Up
DESCRIPTION:Players will pick up their uniforms at St. Augustine today.
URL:https://www.saintcatherineschool.org/event/soccer-uniform-pick-up
LOCATION:St. Augustine\, 1720 E Apache St\, Tulsa\, OK\, 74110\, United States
CATEGORIES:Church of Saint Catherine,Saint Catherine School
ORGANIZER;CN="Sam Naab":MAILTO:snaab@saint-catherine.org
GEO:36.1911097;-95.965663
X-APPLE-STRUCTURED-LOCATION;VALUE=URI;X-ADDRESS=St. Augustine 1720 E Apache St Tulsa OK 74110 United States;X-APPLE-RADIUS=500;X-TITLE=1720 E Apache St:geo:-95.965663,36.1911097
END:VEVENT
BEGIN:VEVENT
DTSTART;TZID=America/Chicago:20230429T100000
DTEND;TZID=America/Chicago:20230429T110000
DTSTAMP:20260423T181310
CREATED:20230418T162247Z
LAST-MODIFIED:20230418T162612Z
UID:10008203-1682762400-1682766000@www.saintcatherineschool.org
SUMMARY:Elementary Soccer Games
DESCRIPTION:
URL:https://www.saintcatherineschool.org/event/elementary-soccer-games/2023-04-29
LOCATION:St. Augustine\, 1720 E Apache St\, Tulsa\, OK\, 74110\, United States
CATEGORIES:Church of Saint Catherine,Saint Catherine School
ORGANIZER;CN="Sam Naab":MAILTO:snaab@saint-catherine.org
GEO:36.1911097;-95.965663
X-APPLE-STRUCTURED-LOCATION;VALUE=URI;X-ADDRESS=St. Augustine 1720 E Apache St Tulsa OK 74110 United States;X-APPLE-RADIUS=500;X-TITLE=1720 E Apache St:geo:-95.965663,36.1911097
END:VEVENT
BEGIN:VEVENT
DTSTART;TZID=America/Chicago:20230429T100000
DTEND;TZID=America/Chicago:20230429T110000
DTSTAMP:20260423T181310
CREATED:20230418T161713Z
LAST-MODIFIED:20230418T161713Z
UID:10008200-1682762400-1682766000@www.saintcatherineschool.org
SUMMARY:Elementary Soccer Game
DESCRIPTION:
URL:https://www.saintcatherineschool.org/event/elementary-soccer-game/2023-04-29
LOCATION:St. Augustine\, 1720 E Apache St\, Tulsa\, OK\, 74110\, United States
ORGANIZER;CN="Sam Naab":MAILTO:snaab@saint-catherine.org
GEO:36.1911097;-95.965663
X-APPLE-STRUCTURED-LOCATION;VALUE=URI;X-ADDRESS=St. Augustine 1720 E Apache St Tulsa OK 74110 United States;X-APPLE-RADIUS=500;X-TITLE=1720 E Apache St:geo:-95.965663,36.1911097
END:VEVENT
BEGIN:VEVENT
DTSTART;TZID=America/Chicago:20230422T100000
DTEND;TZID=America/Chicago:20230422T110000
DTSTAMP:20260423T181310
CREATED:20230418T162247Z
LAST-MODIFIED:20230418T162612Z
UID:10008202-1682157600-1682161200@www.saintcatherineschool.org
SUMMARY:Elementary Soccer Games
DESCRIPTION:
URL:https://www.saintcatherineschool.org/event/elementary-soccer-games/2023-04-22
LOCATION:St. Augustine\, 1720 E Apache St\, Tulsa\, OK\, 74110\, United States
CATEGORIES:Church of Saint Catherine,Saint Catherine School
ORGANIZER;CN="Sam Naab":MAILTO:snaab@saint-catherine.org
GEO:36.1911097;-95.965663
X-APPLE-STRUCTURED-LOCATION;VALUE=URI;X-ADDRESS=St. Augustine 1720 E Apache St Tulsa OK 74110 United States;X-APPLE-RADIUS=500;X-TITLE=1720 E Apache St:geo:-95.965663,36.1911097
END:VEVENT
BEGIN:VEVENT
DTSTART;TZID=America/Chicago:20230422T100000
DTEND;TZID=America/Chicago:20230422T110000
DTSTAMP:20260423T181310
CREATED:20230418T161713Z
LAST-MODIFIED:20230418T161713Z
UID:10008199-1682157600-1682161200@www.saintcatherineschool.org
SUMMARY:Elementary Soccer Game
DESCRIPTION:
URL:https://www.saintcatherineschool.org/event/elementary-soccer-game/2023-04-22
LOCATION:St. Augustine\, 1720 E Apache St\, Tulsa\, OK\, 74110\, United States
ORGANIZER;CN="Sam Naab":MAILTO:snaab@saint-catherine.org
GEO:36.1911097;-95.965663
X-APPLE-STRUCTURED-LOCATION;VALUE=URI;X-ADDRESS=St. Augustine 1720 E Apache St Tulsa OK 74110 United States;X-APPLE-RADIUS=500;X-TITLE=1720 E Apache St:geo:-95.965663,36.1911097
END:VEVENT
BEGIN:VEVENT
DTSTART;TZID=America/Chicago:20230401T100000
DTEND;TZID=America/Chicago:20230401T110000
DTSTAMP:20260423T181310
CREATED:20230307T152531Z
LAST-MODIFIED:20230307T152711Z
UID:10009699-1680343200-1680346800@www.saintcatherineschool.org
SUMMARY:1st - 4th grade soccer game
DESCRIPTION:.
URL:https://www.saintcatherineschool.org/event/1st-4th-grade-soccer-game/2023-04-01
LOCATION:St. Augustine\, 1720 E Apache St\, Tulsa\, OK\, 74110\, United States
CATEGORIES:Church of Saint Catherine,Saint Catherine School
ORGANIZER;CN="Sam Naab":MAILTO:snaab@saint-catherine.org
GEO:36.1911097;-95.965663
X-APPLE-STRUCTURED-LOCATION;VALUE=URI;X-ADDRESS=St. Augustine 1720 E Apache St Tulsa OK 74110 United States;X-APPLE-RADIUS=500;X-TITLE=1720 E Apache St:geo:-95.965663,36.1911097
END:VEVENT
BEGIN:VEVENT
DTSTART;TZID=America/Chicago:20230325T100000
DTEND;TZID=America/Chicago:20230325T110000
DTSTAMP:20260423T181310
CREATED:20230307T152531Z
LAST-MODIFIED:20230307T152711Z
UID:10009698-1679738400-1679742000@www.saintcatherineschool.org
SUMMARY:1st - 4th grade soccer game
DESCRIPTION:.
URL:https://www.saintcatherineschool.org/event/1st-4th-grade-soccer-game/2023-03-25
LOCATION:St. Augustine\, 1720 E Apache St\, Tulsa\, OK\, 74110\, United States
CATEGORIES:Church of Saint Catherine,Saint Catherine School
ORGANIZER;CN="Sam Naab":MAILTO:snaab@saint-catherine.org
GEO:36.1911097;-95.965663
X-APPLE-STRUCTURED-LOCATION;VALUE=URI;X-ADDRESS=St. Augustine 1720 E Apache St Tulsa OK 74110 United States;X-APPLE-RADIUS=500;X-TITLE=1720 E Apache St:geo:-95.965663,36.1911097
END:VEVENT
BEGIN:VEVENT
DTSTART;TZID=America/Chicago:20230318T100000
DTEND;TZID=America/Chicago:20230318T110000
DTSTAMP:20260423T181310
CREATED:20230307T152423Z
LAST-MODIFIED:20230307T152423Z
UID:10009696-1679133600-1679137200@www.saintcatherineschool.org
SUMMARY:Soccer uniform pickup
DESCRIPTION:The students playing soccer will meet at St. Augustine’s church to pick up their uniforms.
URL:https://www.saintcatherineschool.org/event/soccer-uniform-pickup
LOCATION:St. Augustine\, 1720 E Apache St\, Tulsa\, OK\, 74110\, United States
CATEGORIES:Church of Saint Catherine,Saint Catherine School
ORGANIZER;CN="Sam Naab":MAILTO:snaab@saint-catherine.org
GEO:36.1911097;-95.965663
X-APPLE-STRUCTURED-LOCATION;VALUE=URI;X-ADDRESS=St. Augustine 1720 E Apache St Tulsa OK 74110 United States;X-APPLE-RADIUS=500;X-TITLE=1720 E Apache St:geo:-95.965663,36.1911097
END:VEVENT
BEGIN:VEVENT
DTSTART;TZID=America/Chicago:20221022T100000
DTEND;TZID=America/Chicago:20221022T110000
DTSTAMP:20260423T181310
CREATED:20221004T180959Z
LAST-MODIFIED:20221004T181033Z
UID:10009242-1666432800-1666436400@www.saintcatherineschool.org
SUMMARY:1st - 4th Soccer Games
DESCRIPTION:
URL:https://www.saintcatherineschool.org/event/1st-4th-soccer-games/2022-10-22
LOCATION:St. Augustine\, 1720 E Apache St\, Tulsa\, OK\, 74110\, United States
CATEGORIES:Church of Saint Catherine,Saint Catherine School
ORGANIZER;CN="Sam Naab":MAILTO:snaab@saint-catherine.org
GEO:36.1911097;-95.965663
X-APPLE-STRUCTURED-LOCATION;VALUE=URI;X-ADDRESS=St. Augustine 1720 E Apache St Tulsa OK 74110 United States;X-APPLE-RADIUS=500;X-TITLE=1720 E Apache St:geo:-95.965663,36.1911097
END:VEVENT
BEGIN:VEVENT
DTSTART;TZID=America/Chicago:20221015T100000
DTEND;TZID=America/Chicago:20221015T110000
DTSTAMP:20260423T181310
CREATED:20221004T180959Z
LAST-MODIFIED:20221004T181033Z
UID:10009241-1665828000-1665831600@www.saintcatherineschool.org
SUMMARY:1st - 4th Soccer Games
DESCRIPTION:
URL:https://www.saintcatherineschool.org/event/1st-4th-soccer-games/2022-10-15
LOCATION:St. Augustine\, 1720 E Apache St\, Tulsa\, OK\, 74110\, United States
CATEGORIES:Church of Saint Catherine,Saint Catherine School
ORGANIZER;CN="Sam Naab":MAILTO:snaab@saint-catherine.org
GEO:36.1911097;-95.965663
X-APPLE-STRUCTURED-LOCATION;VALUE=URI;X-ADDRESS=St. Augustine 1720 E Apache St Tulsa OK 74110 United States;X-APPLE-RADIUS=500;X-TITLE=1720 E Apache St:geo:-95.965663,36.1911097
END:VEVENT
BEGIN:VEVENT
DTSTART;TZID=America/Chicago:20221008T100000
DTEND;TZID=America/Chicago:20221008T110000
DTSTAMP:20260423T181310
CREATED:20221004T180959Z
LAST-MODIFIED:20221004T181033Z
UID:10009240-1665223200-1665226800@www.saintcatherineschool.org
SUMMARY:1st - 4th Soccer Games
DESCRIPTION:
URL:https://www.saintcatherineschool.org/event/1st-4th-soccer-games/2022-10-08
LOCATION:St. Augustine\, 1720 E Apache St\, Tulsa\, OK\, 74110\, United States
CATEGORIES:Church of Saint Catherine,Saint Catherine School
ORGANIZER;CN="Sam Naab":MAILTO:snaab@saint-catherine.org
GEO:36.1911097;-95.965663
X-APPLE-STRUCTURED-LOCATION;VALUE=URI;X-ADDRESS=St. Augustine 1720 E Apache St Tulsa OK 74110 United States;X-APPLE-RADIUS=500;X-TITLE=1720 E Apache St:geo:-95.965663,36.1911097
END:VEVENT
BEGIN:VEVENT
DTSTART;TZID=America/Chicago:20221001T100000
DTEND;TZID=America/Chicago:20221001T110000
DTSTAMP:20260423T181310
CREATED:20221004T180959Z
LAST-MODIFIED:20221004T181033Z
UID:10009239-1664618400-1664622000@www.saintcatherineschool.org
SUMMARY:1st - 4th Soccer Games
DESCRIPTION:
URL:https://www.saintcatherineschool.org/event/1st-4th-soccer-games/2022-10-01
LOCATION:St. Augustine\, 1720 E Apache St\, Tulsa\, OK\, 74110\, United States
CATEGORIES:Church of Saint Catherine,Saint Catherine School
ORGANIZER;CN="Sam Naab":MAILTO:snaab@saint-catherine.org
GEO:36.1911097;-95.965663
X-APPLE-STRUCTURED-LOCATION;VALUE=URI;X-ADDRESS=St. Augustine 1720 E Apache St Tulsa OK 74110 United States;X-APPLE-RADIUS=500;X-TITLE=1720 E Apache St:geo:-95.965663,36.1911097
END:VEVENT
BEGIN:VEVENT
DTSTART;TZID=America/Chicago:20220521T100000
DTEND;TZID=America/Chicago:20220521T113000
DTSTAMP:20260423T181310
CREATED:20220331T195303Z
LAST-MODIFIED:20220331T195303Z
UID:10009092-1653127200-1653132600@www.saintcatherineschool.org
SUMMARY:Red/Blue Soccer game
DESCRIPTION:
URL:https://www.saintcatherineschool.org/event/red-blue-soccer-game/2022-05-21
LOCATION:St. Augustine\, 1720 E Apache St\, Tulsa\, OK\, 74110\, United States
CATEGORIES:Church of Saint Catherine,Saint Catherine School
ORGANIZER;CN="Sam Naab":MAILTO:snaab@saint-catherine.org
GEO:36.1911097;-95.965663
X-APPLE-STRUCTURED-LOCATION;VALUE=URI;X-ADDRESS=St. Augustine 1720 E Apache St Tulsa OK 74110 United States;X-APPLE-RADIUS=500;X-TITLE=1720 E Apache St:geo:-95.965663,36.1911097
END:VEVENT
BEGIN:VEVENT
DTSTART;TZID=America/Chicago:20220514T100000
DTEND;TZID=America/Chicago:20220514T113000
DTSTAMP:20260423T181310
CREATED:20220331T195303Z
LAST-MODIFIED:20220331T195303Z
UID:10009091-1652522400-1652527800@www.saintcatherineschool.org
SUMMARY:Red/Blue Soccer game
DESCRIPTION:
URL:https://www.saintcatherineschool.org/event/red-blue-soccer-game/2022-05-14
LOCATION:St. Augustine\, 1720 E Apache St\, Tulsa\, OK\, 74110\, United States
CATEGORIES:Church of Saint Catherine,Saint Catherine School
ORGANIZER;CN="Sam Naab":MAILTO:snaab@saint-catherine.org
GEO:36.1911097;-95.965663
X-APPLE-STRUCTURED-LOCATION;VALUE=URI;X-ADDRESS=St. Augustine 1720 E Apache St Tulsa OK 74110 United States;X-APPLE-RADIUS=500;X-TITLE=1720 E Apache St:geo:-95.965663,36.1911097
END:VEVENT
BEGIN:VEVENT
DTSTART;TZID=America/Chicago:20220507T100000
DTEND;TZID=America/Chicago:20220507T113000
DTSTAMP:20260423T181310
CREATED:20220331T195303Z
LAST-MODIFIED:20220331T195303Z
UID:10009090-1651917600-1651923000@www.saintcatherineschool.org
SUMMARY:Red/Blue Soccer game
DESCRIPTION:
URL:https://www.saintcatherineschool.org/event/red-blue-soccer-game/2022-05-07
LOCATION:St. Augustine\, 1720 E Apache St\, Tulsa\, OK\, 74110\, United States
CATEGORIES:Church of Saint Catherine,Saint Catherine School
ORGANIZER;CN="Sam Naab":MAILTO:snaab@saint-catherine.org
GEO:36.1911097;-95.965663
X-APPLE-STRUCTURED-LOCATION;VALUE=URI;X-ADDRESS=St. Augustine 1720 E Apache St Tulsa OK 74110 United States;X-APPLE-RADIUS=500;X-TITLE=1720 E Apache St:geo:-95.965663,36.1911097
END:VEVENT
BEGIN:VEVENT
DTSTART;TZID=America/Chicago:20220430T100000
DTEND;TZID=America/Chicago:20220430T113000
DTSTAMP:20260423T181310
CREATED:20220331T195303Z
LAST-MODIFIED:20220331T195303Z
UID:10009089-1651312800-1651318200@www.saintcatherineschool.org
SUMMARY:Red/Blue Soccer game
DESCRIPTION:
URL:https://www.saintcatherineschool.org/event/red-blue-soccer-game/2022-04-30
LOCATION:St. Augustine\, 1720 E Apache St\, Tulsa\, OK\, 74110\, United States
CATEGORIES:Church of Saint Catherine,Saint Catherine School
ORGANIZER;CN="Sam Naab":MAILTO:snaab@saint-catherine.org
GEO:36.1911097;-95.965663
X-APPLE-STRUCTURED-LOCATION;VALUE=URI;X-ADDRESS=St. Augustine 1720 E Apache St Tulsa OK 74110 United States;X-APPLE-RADIUS=500;X-TITLE=1720 E Apache St:geo:-95.965663,36.1911097
END:VEVENT
BEGIN:VEVENT
DTSTART;TZID=America/Chicago:20220423T100000
DTEND;TZID=America/Chicago:20220423T113000
DTSTAMP:20260423T181310
CREATED:20220331T195303Z
LAST-MODIFIED:20220331T195303Z
UID:10009088-1650708000-1650713400@www.saintcatherineschool.org
SUMMARY:Red/Blue Soccer game
DESCRIPTION:
URL:https://www.saintcatherineschool.org/event/red-blue-soccer-game/2022-04-23
LOCATION:St. Augustine\, 1720 E Apache St\, Tulsa\, OK\, 74110\, United States
CATEGORIES:Church of Saint Catherine,Saint Catherine School
ORGANIZER;CN="Sam Naab":MAILTO:snaab@saint-catherine.org
GEO:36.1911097;-95.965663
X-APPLE-STRUCTURED-LOCATION;VALUE=URI;X-ADDRESS=St. Augustine 1720 E Apache St Tulsa OK 74110 United States;X-APPLE-RADIUS=500;X-TITLE=1720 E Apache St:geo:-95.965663,36.1911097
END:VEVENT
BEGIN:VEVENT
DTSTART;TZID=America/Chicago:20220416T100000
DTEND;TZID=America/Chicago:20220416T110000
DTSTAMP:20260423T181310
CREATED:20220401T142702Z
LAST-MODIFIED:20220401T142702Z
UID:10009136-1650103200-1650106800@www.saintcatherineschool.org
SUMMARY:Red/Blue Soccer game
DESCRIPTION:
URL:https://www.saintcatherineschool.org/event/red-blue-soccer-game-2
LOCATION:St. Augustine\, 1720 E Apache St\, Tulsa\, OK\, 74110\, United States
CATEGORIES:Church of Saint Catherine,Saint Catherine School
ORGANIZER;CN="Sam Naab":MAILTO:snaab@saint-catherine.org
GEO:36.1911097;-95.965663
X-APPLE-STRUCTURED-LOCATION;VALUE=URI;X-ADDRESS=St. Augustine 1720 E Apache St Tulsa OK 74110 United States;X-APPLE-RADIUS=500;X-TITLE=1720 E Apache St:geo:-95.965663,36.1911097
END:VEVENT
BEGIN:VEVENT
DTSTART;TZID=America/Chicago:20220402T100000
DTEND;TZID=America/Chicago:20220402T120000
DTSTAMP:20260423T181310
CREATED:20220331T195056Z
LAST-MODIFIED:20220331T195331Z
UID:10007811-1648893600-1648900800@www.saintcatherineschool.org
SUMMARY:Red/Blue Soccer practice
DESCRIPTION:The players need to be there at 10am to get shoes and uniforms.
URL:https://www.saintcatherineschool.org/event/red-blue-soccer-practice
LOCATION:St. Augustine\, 1720 E Apache St\, Tulsa\, OK\, 74110\, United States
CATEGORIES:Church of Saint Catherine,Saint Catherine School
ORGANIZER;CN="Sam Naab":MAILTO:snaab@saint-catherine.org
GEO:36.1911097;-95.965663
X-APPLE-STRUCTURED-LOCATION;VALUE=URI;X-ADDRESS=St. Augustine 1720 E Apache St Tulsa OK 74110 United States;X-APPLE-RADIUS=500;X-TITLE=1720 E Apache St:geo:-95.965663,36.1911097
END:VEVENT
BEGIN:VEVENT
DTSTART;TZID=America/Chicago:20211030T100000
DTEND;TZID=America/Chicago:20211030T110000
DTSTAMP:20260423T181310
CREATED:20210930T191558Z
LAST-MODIFIED:20210930T191558Z
UID:10008964-1635588000-1635591600@www.saintcatherineschool.org
SUMMARY:3rd and 4th Soccer games
DESCRIPTION:
URL:https://www.saintcatherineschool.org/event/3rd-and-4th-soccer-games-2/2021-10-30
LOCATION:St. Augustine\, 1720 E Apache St\, Tulsa\, OK\, 74110\, United States
CATEGORIES:Church of Saint Catherine,Saint Catherine School
ORGANIZER;CN="Sam Naab":MAILTO:snaab@saint-catherine.org
GEO:36.1911097;-95.965663
X-APPLE-STRUCTURED-LOCATION;VALUE=URI;X-ADDRESS=St. Augustine 1720 E Apache St Tulsa OK 74110 United States;X-APPLE-RADIUS=500;X-TITLE=1720 E Apache St:geo:-95.965663,36.1911097
END:VEVENT
BEGIN:VEVENT
DTSTART;TZID=America/Chicago:20211023T100000
DTEND;TZID=America/Chicago:20211023T110000
DTSTAMP:20260423T181310
CREATED:20210930T191558Z
LAST-MODIFIED:20210930T191558Z
UID:10008963-1634983200-1634986800@www.saintcatherineschool.org
SUMMARY:3rd and 4th Soccer games
DESCRIPTION:
URL:https://www.saintcatherineschool.org/event/3rd-and-4th-soccer-games-2/2021-10-23
LOCATION:St. Augustine\, 1720 E Apache St\, Tulsa\, OK\, 74110\, United States
CATEGORIES:Church of Saint Catherine,Saint Catherine School
ORGANIZER;CN="Sam Naab":MAILTO:snaab@saint-catherine.org
GEO:36.1911097;-95.965663
X-APPLE-STRUCTURED-LOCATION;VALUE=URI;X-ADDRESS=St. Augustine 1720 E Apache St Tulsa OK 74110 United States;X-APPLE-RADIUS=500;X-TITLE=1720 E Apache St:geo:-95.965663,36.1911097
END:VEVENT
BEGIN:VEVENT
DTSTART;TZID=America/Chicago:20211009T100000
DTEND;TZID=America/Chicago:20211009T110000
DTSTAMP:20260423T181310
CREATED:20210930T191116Z
LAST-MODIFIED:20210930T191242Z
UID:10008948-1633773600-1633777200@www.saintcatherineschool.org
SUMMARY:3rd and 4th Soccer games
DESCRIPTION:
URL:https://www.saintcatherineschool.org/event/3rd-and-4th-soccer-games/2021-10-09
LOCATION:St. Augustine\, 1720 E Apache St\, Tulsa\, OK\, 74110\, United States
CATEGORIES:Church of Saint Catherine,Saint Catherine School
ORGANIZER;CN="Sam Naab":MAILTO:snaab@saint-catherine.org
GEO:36.1911097;-95.965663
X-APPLE-STRUCTURED-LOCATION;VALUE=URI;X-ADDRESS=St. Augustine 1720 E Apache St Tulsa OK 74110 United States;X-APPLE-RADIUS=500;X-TITLE=1720 E Apache St:geo:-95.965663,36.1911097
END:VEVENT
BEGIN:VEVENT
DTSTART;TZID=America/Chicago:20211002T100000
DTEND;TZID=America/Chicago:20211002T110000
DTSTAMP:20260423T181310
CREATED:20210930T191116Z
LAST-MODIFIED:20210930T191242Z
UID:10008947-1633168800-1633172400@www.saintcatherineschool.org
SUMMARY:3rd and 4th Soccer games
DESCRIPTION:
URL:https://www.saintcatherineschool.org/event/3rd-and-4th-soccer-games/2021-10-02
LOCATION:St. Augustine\, 1720 E Apache St\, Tulsa\, OK\, 74110\, United States
CATEGORIES:Church of Saint Catherine,Saint Catherine School
ORGANIZER;CN="Sam Naab":MAILTO:snaab@saint-catherine.org
GEO:36.1911097;-95.965663
X-APPLE-STRUCTURED-LOCATION;VALUE=URI;X-ADDRESS=St. Augustine 1720 E Apache St Tulsa OK 74110 United States;X-APPLE-RADIUS=500;X-TITLE=1720 E Apache St:geo:-95.965663,36.1911097
END:VEVENT
END:VCALENDAR