BEGIN:VCALENDAR
VERSION:2.0
PRODID:-//Saint Catherine of Alexandria School - ECPv6.15.20//NONSGML v1.0//EN
CALSCALE:GREGORIAN
METHOD:PUBLISH
X-WR-CALNAME:Saint Catherine of Alexandria School
X-ORIGINAL-URL:https://www.saintcatherineschool.org
X-WR-CALDESC:Events for Saint Catherine of Alexandria School
REFRESH-INTERVAL;VALUE=DURATION:PT1H
X-Robots-Tag:noindex
X-PUBLISHED-TTL:PT1H
BEGIN:VTIMEZONE
TZID:America/Chicago
BEGIN:DAYLIGHT
TZOFFSETFROM:-0600
TZOFFSETTO:-0500
TZNAME:CDT
DTSTART:20210314T080000
END:DAYLIGHT
BEGIN:STANDARD
TZOFFSETFROM:-0500
TZOFFSETTO:-0600
TZNAME:CST
DTSTART:20211107T070000
END:STANDARD
BEGIN:DAYLIGHT
TZOFFSETFROM:-0600
TZOFFSETTO:-0500
TZNAME:CDT
DTSTART:20220313T080000
END:DAYLIGHT
BEGIN:STANDARD
TZOFFSETFROM:-0500
TZOFFSETTO:-0600
TZNAME:CST
DTSTART:20221106T070000
END:STANDARD
BEGIN:DAYLIGHT
TZOFFSETFROM:-0600
TZOFFSETTO:-0500
TZNAME:CDT
DTSTART:20230312T080000
END:DAYLIGHT
BEGIN:STANDARD
TZOFFSETFROM:-0500
TZOFFSETTO:-0600
TZNAME:CST
DTSTART:20231105T070000
END:STANDARD
BEGIN:DAYLIGHT
TZOFFSETFROM:-0600
TZOFFSETTO:-0500
TZNAME:CDT
DTSTART:20240310T080000
END:DAYLIGHT
BEGIN:STANDARD
TZOFFSETFROM:-0500
TZOFFSETTO:-0600
TZNAME:CST
DTSTART:20241103T070000
END:STANDARD
END:VTIMEZONE
BEGIN:VEVENT
DTSTART;TZID=America/Chicago:20231002T180000
DTEND;TZID=America/Chicago:20231002T193000
DTSTAMP:20260423T184315
CREATED:20230928T161445Z
LAST-MODIFIED:20230928T161445Z
UID:10011311-1696269600-1696275000@www.saintcatherineschool.org
SUMMARY:High School Information Night
DESCRIPTION:Bishop Kelley and Cascia Hall Representatives will be here to talk our parents through the process for applying to their respective school.  There will also be information about Vouchers at this meeting.  You all will meet in the activity center.
URL:https://www.saintcatherineschool.org/event/high-school-information-night
LOCATION:St. Catherine Activity Center\, 2515 West 46th Street\, Tulsa\, 74107-6629\, United States
CATEGORIES:Church of Saint Catherine,Saint Catherine School
ORGANIZER;CN="Sam Naab":MAILTO:snaab@saint-catherine.org
GEO:36.0981282;-96.0219361
X-APPLE-STRUCTURED-LOCATION;VALUE=URI;X-ADDRESS=St. Catherine Activity Center 2515 West 46th Street Tulsa 74107-6629 United States;X-APPLE-RADIUS=500;X-TITLE=2515 West 46th Street:geo:-96.0219361,36.0981282
END:VEVENT
BEGIN:VEVENT
DTSTART;TZID=America/Chicago:20230522T153000
DTEND;TZID=America/Chicago:20230522T170000
DTSTAMP:20260423T184315
CREATED:20230418T182001Z
LAST-MODIFIED:20230418T182001Z
UID:10009757-1684769400-1684774800@www.saintcatherineschool.org
SUMMARY:Volleyball Club
DESCRIPTION:
URL:https://www.saintcatherineschool.org/event/volleyball-club-6/2023-05-22
LOCATION:St. Catherine Activity Center\, 2515 West 46th Street\, Tulsa\, 74107-6629\, United States
CATEGORIES:Church of Saint Catherine,Saint Catherine School
ORGANIZER;CN="Kayley Anthamatten":MAILTO:kayleya@saint-catherine.org
GEO:36.0981282;-96.0219361
X-APPLE-STRUCTURED-LOCATION;VALUE=URI;X-ADDRESS=St. Catherine Activity Center 2515 West 46th Street Tulsa 74107-6629 United States;X-APPLE-RADIUS=500;X-TITLE=2515 West 46th Street:geo:-96.0219361,36.0981282
END:VEVENT
BEGIN:VEVENT
DTSTART;TZID=America/Chicago:20230515T153000
DTEND;TZID=America/Chicago:20230515T170000
DTSTAMP:20260423T184315
CREATED:20230418T182001Z
LAST-MODIFIED:20230418T182001Z
UID:10009756-1684164600-1684170000@www.saintcatherineschool.org
SUMMARY:Volleyball Club
DESCRIPTION:
URL:https://www.saintcatherineschool.org/event/volleyball-club-6/2023-05-15
LOCATION:St. Catherine Activity Center\, 2515 West 46th Street\, Tulsa\, 74107-6629\, United States
CATEGORIES:Church of Saint Catherine,Saint Catherine School
ORGANIZER;CN="Kayley Anthamatten":MAILTO:kayleya@saint-catherine.org
GEO:36.0981282;-96.0219361
X-APPLE-STRUCTURED-LOCATION;VALUE=URI;X-ADDRESS=St. Catherine Activity Center 2515 West 46th Street Tulsa 74107-6629 United States;X-APPLE-RADIUS=500;X-TITLE=2515 West 46th Street:geo:-96.0219361,36.0981282
END:VEVENT
BEGIN:VEVENT
DTSTART;TZID=America/Chicago:20230508T153000
DTEND;TZID=America/Chicago:20230508T170000
DTSTAMP:20260423T184315
CREATED:20230418T182001Z
LAST-MODIFIED:20230418T182001Z
UID:10009755-1683559800-1683565200@www.saintcatherineschool.org
SUMMARY:Volleyball Club
DESCRIPTION:
URL:https://www.saintcatherineschool.org/event/volleyball-club-6/2023-05-08
LOCATION:St. Catherine Activity Center\, 2515 West 46th Street\, Tulsa\, 74107-6629\, United States
CATEGORIES:Church of Saint Catherine,Saint Catherine School
ORGANIZER;CN="Kayley Anthamatten":MAILTO:kayleya@saint-catherine.org
GEO:36.0981282;-96.0219361
X-APPLE-STRUCTURED-LOCATION;VALUE=URI;X-ADDRESS=St. Catherine Activity Center 2515 West 46th Street Tulsa 74107-6629 United States;X-APPLE-RADIUS=500;X-TITLE=2515 West 46th Street:geo:-96.0219361,36.0981282
END:VEVENT
BEGIN:VEVENT
DTSTART;TZID=America/Chicago:20230501T153000
DTEND;TZID=America/Chicago:20230501T170000
DTSTAMP:20260423T184315
CREATED:20230418T182001Z
LAST-MODIFIED:20230418T182001Z
UID:10009754-1682955000-1682960400@www.saintcatherineschool.org
SUMMARY:Volleyball Club
DESCRIPTION:
URL:https://www.saintcatherineschool.org/event/volleyball-club-6/2023-05-01
LOCATION:St. Catherine Activity Center\, 2515 West 46th Street\, Tulsa\, 74107-6629\, United States
CATEGORIES:Church of Saint Catherine,Saint Catherine School
ORGANIZER;CN="Kayley Anthamatten":MAILTO:kayleya@saint-catherine.org
GEO:36.0981282;-96.0219361
X-APPLE-STRUCTURED-LOCATION;VALUE=URI;X-ADDRESS=St. Catherine Activity Center 2515 West 46th Street Tulsa 74107-6629 United States;X-APPLE-RADIUS=500;X-TITLE=2515 West 46th Street:geo:-96.0219361,36.0981282
END:VEVENT
BEGIN:VEVENT
DTSTART;TZID=America/Chicago:20230424T153000
DTEND;TZID=America/Chicago:20230424T170000
DTSTAMP:20260423T184315
CREATED:20230307T145247Z
LAST-MODIFIED:20230307T145247Z
UID:10009492-1682350200-1682355600@www.saintcatherineschool.org
SUMMARY:Volleyball Club
DESCRIPTION:Volleyball Club will meet on Mondays unless Ms. Anthamatten sends you an emails saying that it is cancelled.
URL:https://www.saintcatherineschool.org/event/volleyball-club-5/2023-04-24
LOCATION:St. Catherine Activity Center\, 2515 West 46th Street\, Tulsa\, 74107-6629\, United States
CATEGORIES:Church of Saint Catherine,Saint Catherine School
ORGANIZER;CN="Kayley Anthamatten":MAILTO:kayleya@saint-catherine.org
GEO:36.0981282;-96.0219361
X-APPLE-STRUCTURED-LOCATION;VALUE=URI;X-ADDRESS=St. Catherine Activity Center 2515 West 46th Street Tulsa 74107-6629 United States;X-APPLE-RADIUS=500;X-TITLE=2515 West 46th Street:geo:-96.0219361,36.0981282
END:VEVENT
BEGIN:VEVENT
DTSTART;TZID=America/Chicago:20230418T180000
DTEND;TZID=America/Chicago:20230418T190000
DTSTAMP:20260423T184315
CREATED:20230418T161023Z
LAST-MODIFIED:20230418T161023Z
UID:10009705-1681840800-1681844400@www.saintcatherineschool.org
SUMMARY:Spring Concert
DESCRIPTION:The Spring Concert will be in the activity center at 6pm.  All students need to be in their classrooms at 5:45 dressed in nice Easter/Spring like clothes.
URL:https://www.saintcatherineschool.org/event/spring-concert
LOCATION:St. Catherine Activity Center\, 2515 West 46th Street\, Tulsa\, 74107-6629\, United States
CATEGORIES:Church of Saint Catherine,Saint Catherine School
ORGANIZER;CN="Michelle Anthamatten":MAILTO:manthamatten@saint-catherine.org
GEO:36.0981282;-96.0219361
X-APPLE-STRUCTURED-LOCATION;VALUE=URI;X-ADDRESS=St. Catherine Activity Center 2515 West 46th Street Tulsa 74107-6629 United States;X-APPLE-RADIUS=500;X-TITLE=2515 West 46th Street:geo:-96.0219361,36.0981282
END:VEVENT
BEGIN:VEVENT
DTSTART;TZID=America/Chicago:20230417T153000
DTEND;TZID=America/Chicago:20230417T170000
DTSTAMP:20260423T184315
CREATED:20230307T145247Z
LAST-MODIFIED:20230307T145247Z
UID:10009491-1681745400-1681750800@www.saintcatherineschool.org
SUMMARY:Volleyball Club
DESCRIPTION:Volleyball Club will meet on Mondays unless Ms. Anthamatten sends you an emails saying that it is cancelled.
URL:https://www.saintcatherineschool.org/event/volleyball-club-5/2023-04-17
LOCATION:St. Catherine Activity Center\, 2515 West 46th Street\, Tulsa\, 74107-6629\, United States
CATEGORIES:Church of Saint Catherine,Saint Catherine School
ORGANIZER;CN="Kayley Anthamatten":MAILTO:kayleya@saint-catherine.org
GEO:36.0981282;-96.0219361
X-APPLE-STRUCTURED-LOCATION;VALUE=URI;X-ADDRESS=St. Catherine Activity Center 2515 West 46th Street Tulsa 74107-6629 United States;X-APPLE-RADIUS=500;X-TITLE=2515 West 46th Street:geo:-96.0219361,36.0981282
END:VEVENT
BEGIN:VEVENT
DTSTART;TZID=America/Chicago:20230403T153000
DTEND;TZID=America/Chicago:20230403T170000
DTSTAMP:20260423T184315
CREATED:20230307T145247Z
LAST-MODIFIED:20230307T145247Z
UID:10009490-1680535800-1680541200@www.saintcatherineschool.org
SUMMARY:Volleyball Club
DESCRIPTION:Volleyball Club will meet on Mondays unless Ms. Anthamatten sends you an emails saying that it is cancelled.
URL:https://www.saintcatherineschool.org/event/volleyball-club-5/2023-04-03
LOCATION:St. Catherine Activity Center\, 2515 West 46th Street\, Tulsa\, 74107-6629\, United States
CATEGORIES:Church of Saint Catherine,Saint Catherine School
ORGANIZER;CN="Kayley Anthamatten":MAILTO:kayleya@saint-catherine.org
GEO:36.0981282;-96.0219361
X-APPLE-STRUCTURED-LOCATION;VALUE=URI;X-ADDRESS=St. Catherine Activity Center 2515 West 46th Street Tulsa 74107-6629 United States;X-APPLE-RADIUS=500;X-TITLE=2515 West 46th Street:geo:-96.0219361,36.0981282
END:VEVENT
BEGIN:VEVENT
DTSTART;TZID=America/Chicago:20230327T153000
DTEND;TZID=America/Chicago:20230327T170000
DTSTAMP:20260423T184315
CREATED:20230307T145247Z
LAST-MODIFIED:20230307T145247Z
UID:10009489-1679931000-1679936400@www.saintcatherineschool.org
SUMMARY:Volleyball Club
DESCRIPTION:Volleyball Club will meet on Mondays unless Ms. Anthamatten sends you an emails saying that it is cancelled.
URL:https://www.saintcatherineschool.org/event/volleyball-club-5/2023-03-27
LOCATION:St. Catherine Activity Center\, 2515 West 46th Street\, Tulsa\, 74107-6629\, United States
CATEGORIES:Church of Saint Catherine,Saint Catherine School
ORGANIZER;CN="Kayley Anthamatten":MAILTO:kayleya@saint-catherine.org
GEO:36.0981282;-96.0219361
X-APPLE-STRUCTURED-LOCATION;VALUE=URI;X-ADDRESS=St. Catherine Activity Center 2515 West 46th Street Tulsa 74107-6629 United States;X-APPLE-RADIUS=500;X-TITLE=2515 West 46th Street:geo:-96.0219361,36.0981282
END:VEVENT
BEGIN:VEVENT
DTSTART;TZID=America/Chicago:20230320T153000
DTEND;TZID=America/Chicago:20230320T170000
DTSTAMP:20260423T184315
CREATED:20230307T145247Z
LAST-MODIFIED:20230307T145247Z
UID:10009488-1679326200-1679331600@www.saintcatherineschool.org
SUMMARY:Volleyball Club
DESCRIPTION:Volleyball Club will meet on Mondays unless Ms. Anthamatten sends you an emails saying that it is cancelled.
URL:https://www.saintcatherineschool.org/event/volleyball-club-5/2023-03-20
LOCATION:St. Catherine Activity Center\, 2515 West 46th Street\, Tulsa\, 74107-6629\, United States
CATEGORIES:Church of Saint Catherine,Saint Catherine School
ORGANIZER;CN="Kayley Anthamatten":MAILTO:kayleya@saint-catherine.org
GEO:36.0981282;-96.0219361
X-APPLE-STRUCTURED-LOCATION;VALUE=URI;X-ADDRESS=St. Catherine Activity Center 2515 West 46th Street Tulsa 74107-6629 United States;X-APPLE-RADIUS=500;X-TITLE=2515 West 46th Street:geo:-96.0219361,36.0981282
END:VEVENT
BEGIN:VEVENT
DTSTART;TZID=America/Chicago:20230227T153000
DTEND;TZID=America/Chicago:20230227T173000
DTSTAMP:20260423T184315
CREATED:20230120T151710Z
LAST-MODIFIED:20230120T151710Z
UID:10009358-1677511800-1677519000@www.saintcatherineschool.org
SUMMARY:Volleyball Club
DESCRIPTION:
URL:https://www.saintcatherineschool.org/event/volleyball-club-4/2023-02-27
LOCATION:St. Catherine Activity Center\, 2515 West 46th Street\, Tulsa\, 74107-6629\, United States
CATEGORIES:Church of Saint Catherine,Saint Catherine School
ORGANIZER;CN="Kayley Anthamatten":MAILTO:kayleya@saint-catherine.org
GEO:36.0981282;-96.0219361
X-APPLE-STRUCTURED-LOCATION;VALUE=URI;X-ADDRESS=St. Catherine Activity Center 2515 West 46th Street Tulsa 74107-6629 United States;X-APPLE-RADIUS=500;X-TITLE=2515 West 46th Street:geo:-96.0219361,36.0981282
END:VEVENT
BEGIN:VEVENT
DTSTART;TZID=America/Chicago:20230220T153000
DTEND;TZID=America/Chicago:20230220T173000
DTSTAMP:20260423T184315
CREATED:20230120T151710Z
LAST-MODIFIED:20230120T151710Z
UID:10009357-1676907000-1676914200@www.saintcatherineschool.org
SUMMARY:Volleyball Club
DESCRIPTION:
URL:https://www.saintcatherineschool.org/event/volleyball-club-4/2023-02-20
LOCATION:St. Catherine Activity Center\, 2515 West 46th Street\, Tulsa\, 74107-6629\, United States
CATEGORIES:Church of Saint Catherine,Saint Catherine School
ORGANIZER;CN="Kayley Anthamatten":MAILTO:kayleya@saint-catherine.org
GEO:36.0981282;-96.0219361
X-APPLE-STRUCTURED-LOCATION;VALUE=URI;X-ADDRESS=St. Catherine Activity Center 2515 West 46th Street Tulsa 74107-6629 United States;X-APPLE-RADIUS=500;X-TITLE=2515 West 46th Street:geo:-96.0219361,36.0981282
END:VEVENT
BEGIN:VEVENT
DTSTART;TZID=America/Chicago:20230213T153000
DTEND;TZID=America/Chicago:20230213T173000
DTSTAMP:20260423T184315
CREATED:20230120T151710Z
LAST-MODIFIED:20230120T151710Z
UID:10009356-1676302200-1676309400@www.saintcatherineschool.org
SUMMARY:Volleyball Club
DESCRIPTION:
URL:https://www.saintcatherineschool.org/event/volleyball-club-4/2023-02-13
LOCATION:St. Catherine Activity Center\, 2515 West 46th Street\, Tulsa\, 74107-6629\, United States
CATEGORIES:Church of Saint Catherine,Saint Catherine School
ORGANIZER;CN="Kayley Anthamatten":MAILTO:kayleya@saint-catherine.org
GEO:36.0981282;-96.0219361
X-APPLE-STRUCTURED-LOCATION;VALUE=URI;X-ADDRESS=St. Catherine Activity Center 2515 West 46th Street Tulsa 74107-6629 United States;X-APPLE-RADIUS=500;X-TITLE=2515 West 46th Street:geo:-96.0219361,36.0981282
END:VEVENT
BEGIN:VEVENT
DTSTART;TZID=America/Chicago:20230206T153000
DTEND;TZID=America/Chicago:20230206T173000
DTSTAMP:20260423T184315
CREATED:20230120T151710Z
LAST-MODIFIED:20230120T151710Z
UID:10009355-1675697400-1675704600@www.saintcatherineschool.org
SUMMARY:Volleyball Club
DESCRIPTION:
URL:https://www.saintcatherineschool.org/event/volleyball-club-4/2023-02-06
LOCATION:St. Catherine Activity Center\, 2515 West 46th Street\, Tulsa\, 74107-6629\, United States
CATEGORIES:Church of Saint Catherine,Saint Catherine School
ORGANIZER;CN="Kayley Anthamatten":MAILTO:kayleya@saint-catherine.org
GEO:36.0981282;-96.0219361
X-APPLE-STRUCTURED-LOCATION;VALUE=URI;X-ADDRESS=St. Catherine Activity Center 2515 West 46th Street Tulsa 74107-6629 United States;X-APPLE-RADIUS=500;X-TITLE=2515 West 46th Street:geo:-96.0219361,36.0981282
END:VEVENT
BEGIN:VEVENT
DTSTART;TZID=America/Chicago:20221007T153000
DTEND;TZID=America/Chicago:20221007T170000
DTSTAMP:20260423T184315
CREATED:20221004T180731Z
LAST-MODIFIED:20221004T180731Z
UID:10009235-1665156600-1665162000@www.saintcatherineschool.org
SUMMARY:6th Grade Volleyball Practice
DESCRIPTION:
URL:https://www.saintcatherineschool.org/event/6th-grade-volleyball-practice
LOCATION:St. Catherine Activity Center\, 2515 West 46th Street\, Tulsa\, 74107-6629\, United States
CATEGORIES:Church of Saint Catherine,Saint Catherine School
ORGANIZER;CN="Kayley Anthamatten":MAILTO:kayleya@saint-catherine.org
GEO:36.0981282;-96.0219361
X-APPLE-STRUCTURED-LOCATION;VALUE=URI;X-ADDRESS=St. Catherine Activity Center 2515 West 46th Street Tulsa 74107-6629 United States;X-APPLE-RADIUS=500;X-TITLE=2515 West 46th Street:geo:-96.0219361,36.0981282
END:VEVENT
BEGIN:VEVENT
DTSTART;TZID=America/Chicago:20221006T153000
DTEND;TZID=America/Chicago:20221006T170000
DTSTAMP:20260423T184315
CREATED:20221004T180036Z
LAST-MODIFIED:20221004T180036Z
UID:10009223-1665070200-1665075600@www.saintcatherineschool.org
SUMMARY:Boys Volleyball Practice
DESCRIPTION:
URL:https://www.saintcatherineschool.org/event/boys-volleyball-practice
LOCATION:St. Catherine Activity Center\, 2515 West 46th Street\, Tulsa\, 74107-6629\, United States
CATEGORIES:Church of Saint Catherine,Saint Catherine School
ORGANIZER;CN="Kayley Anthamatten":MAILTO:kayleya@saint-catherine.org
GEO:36.0981282;-96.0219361
X-APPLE-STRUCTURED-LOCATION;VALUE=URI;X-ADDRESS=St. Catherine Activity Center 2515 West 46th Street Tulsa 74107-6629 United States;X-APPLE-RADIUS=500;X-TITLE=2515 West 46th Street:geo:-96.0219361,36.0981282
END:VEVENT
BEGIN:VEVENT
DTSTART;TZID=America/Chicago:20221006T141500
DTEND;TZID=America/Chicago:20221006T173000
DTSTAMP:20260423T184315
CREATED:20221004T180253Z
LAST-MODIFIED:20221004T180253Z
UID:10009229-1665065700-1665077400@www.saintcatherineschool.org
SUMMARY:Blue and Gold Pickup
DESCRIPTION:
URL:https://www.saintcatherineschool.org/event/blue-and-gold-pickup
LOCATION:St. Catherine Activity Center\, 2515 West 46th Street\, Tulsa\, 74107-6629\, United States
CATEGORIES:Church of Saint Catherine,Saint Catherine School
ORGANIZER;CN="Michelle Anthamatten":MAILTO:manthamatten@saint-catherine.org
GEO:36.0981282;-96.0219361
X-APPLE-STRUCTURED-LOCATION;VALUE=URI;X-ADDRESS=St. Catherine Activity Center 2515 West 46th Street Tulsa 74107-6629 United States;X-APPLE-RADIUS=500;X-TITLE=2515 West 46th Street:geo:-96.0219361,36.0981282
END:VEVENT
BEGIN:VEVENT
DTSTART;TZID=America/Chicago:20220523T153000
DTEND;TZID=America/Chicago:20220523T170000
DTSTAMP:20260423T184315
CREATED:20220506T151711Z
LAST-MODIFIED:20220506T151711Z
UID:10009114-1653319800-1653325200@www.saintcatherineschool.org
SUMMARY:Volleyball Club
DESCRIPTION:
URL:https://www.saintcatherineschool.org/event/volleyball-club-3/2022-05-23
LOCATION:St. Catherine Activity Center\, 2515 West 46th Street\, Tulsa\, 74107-6629\, United States
CATEGORIES:Church of Saint Catherine,Saint Catherine School
ORGANIZER;CN="Kayley Anthamatten":MAILTO:kayleya@saint-catherine.org
GEO:36.0981282;-96.0219361
X-APPLE-STRUCTURED-LOCATION;VALUE=URI;X-ADDRESS=St. Catherine Activity Center 2515 West 46th Street Tulsa 74107-6629 United States;X-APPLE-RADIUS=500;X-TITLE=2515 West 46th Street:geo:-96.0219361,36.0981282
END:VEVENT
BEGIN:VEVENT
DTSTART;TZID=America/Chicago:20220516T153000
DTEND;TZID=America/Chicago:20220516T170000
DTSTAMP:20260423T184315
CREATED:20220506T151711Z
LAST-MODIFIED:20220506T151711Z
UID:10009113-1652715000-1652720400@www.saintcatherineschool.org
SUMMARY:Volleyball Club
DESCRIPTION:
URL:https://www.saintcatherineschool.org/event/volleyball-club-3/2022-05-16
LOCATION:St. Catherine Activity Center\, 2515 West 46th Street\, Tulsa\, 74107-6629\, United States
CATEGORIES:Church of Saint Catherine,Saint Catherine School
ORGANIZER;CN="Kayley Anthamatten":MAILTO:kayleya@saint-catherine.org
GEO:36.0981282;-96.0219361
X-APPLE-STRUCTURED-LOCATION;VALUE=URI;X-ADDRESS=St. Catherine Activity Center 2515 West 46th Street Tulsa 74107-6629 United States;X-APPLE-RADIUS=500;X-TITLE=2515 West 46th Street:geo:-96.0219361,36.0981282
END:VEVENT
BEGIN:VEVENT
DTSTART;TZID=America/Chicago:20220509T153000
DTEND;TZID=America/Chicago:20220509T170000
DTSTAMP:20260423T184315
CREATED:20220506T151711Z
LAST-MODIFIED:20220506T151711Z
UID:10009112-1652110200-1652115600@www.saintcatherineschool.org
SUMMARY:Volleyball Club
DESCRIPTION:
URL:https://www.saintcatherineschool.org/event/volleyball-club-3/2022-05-09
LOCATION:St. Catherine Activity Center\, 2515 West 46th Street\, Tulsa\, 74107-6629\, United States
CATEGORIES:Church of Saint Catherine,Saint Catherine School
ORGANIZER;CN="Kayley Anthamatten":MAILTO:kayleya@saint-catherine.org
GEO:36.0981282;-96.0219361
X-APPLE-STRUCTURED-LOCATION;VALUE=URI;X-ADDRESS=St. Catherine Activity Center 2515 West 46th Street Tulsa 74107-6629 United States;X-APPLE-RADIUS=500;X-TITLE=2515 West 46th Street:geo:-96.0219361,36.0981282
END:VEVENT
BEGIN:VEVENT
DTSTART;TZID=America/Chicago:20220502T153000
DTEND;TZID=America/Chicago:20220502T170000
DTSTAMP:20260423T184315
CREATED:20220506T151711Z
LAST-MODIFIED:20220506T151711Z
UID:10009111-1651505400-1651510800@www.saintcatherineschool.org
SUMMARY:Volleyball Club
DESCRIPTION:
URL:https://www.saintcatherineschool.org/event/volleyball-club-3/2022-05-02
LOCATION:St. Catherine Activity Center\, 2515 West 46th Street\, Tulsa\, 74107-6629\, United States
CATEGORIES:Church of Saint Catherine,Saint Catherine School
ORGANIZER;CN="Kayley Anthamatten":MAILTO:kayleya@saint-catherine.org
GEO:36.0981282;-96.0219361
X-APPLE-STRUCTURED-LOCATION;VALUE=URI;X-ADDRESS=St. Catherine Activity Center 2515 West 46th Street Tulsa 74107-6629 United States;X-APPLE-RADIUS=500;X-TITLE=2515 West 46th Street:geo:-96.0219361,36.0981282
END:VEVENT
BEGIN:VEVENT
DTSTART;TZID=America/Chicago:20220428T173000
DTEND;TZID=America/Chicago:20220428T190000
DTSTAMP:20260423T184315
CREATED:20220331T194130Z
LAST-MODIFIED:20220331T194206Z
UID:10009104-1651167000-1651172400@www.saintcatherineschool.org
SUMMARY:Community Meal
DESCRIPTION:Come and join us for a free hot meal and fun fellowship.
URL:https://www.saintcatherineschool.org/event/community-meal-42
LOCATION:St. Catherine Activity Center\, 2515 West 46th Street\, Tulsa\, 74107-6629\, United States
CATEGORIES:Church of Saint Catherine,Saint Catherine School
ORGANIZER;CN="Amy Zvacek":MAILTO:azvacek@saint-catherine.org
GEO:36.0981282;-96.0219361
X-APPLE-STRUCTURED-LOCATION;VALUE=URI;X-ADDRESS=St. Catherine Activity Center 2515 West 46th Street Tulsa 74107-6629 United States;X-APPLE-RADIUS=500;X-TITLE=2515 West 46th Street:geo:-96.0219361,36.0981282
END:VEVENT
BEGIN:VEVENT
DTSTART;TZID=America/Chicago:20220426T153000
DTEND;TZID=America/Chicago:20220426T170000
DTSTAMP:20260423T184315
CREATED:20220408T140732Z
LAST-MODIFIED:20220408T140732Z
UID:10009132-1650987000-1650992400@www.saintcatherineschool.org
SUMMARY:Taekwondo
DESCRIPTION:
URL:https://www.saintcatherineschool.org/event/taekwondo-15/2022-04-26
LOCATION:St. Catherine Activity Center\, 2515 West 46th Street\, Tulsa\, 74107-6629\, United States
CATEGORIES:Church of Saint Catherine,Saint Catherine School
ORGANIZER;CN="Carla Victor":MAILTO:cvictor@saint-catherine.org
GEO:36.0981282;-96.0219361
X-APPLE-STRUCTURED-LOCATION;VALUE=URI;X-ADDRESS=St. Catherine Activity Center 2515 West 46th Street Tulsa 74107-6629 United States;X-APPLE-RADIUS=500;X-TITLE=2515 West 46th Street:geo:-96.0219361,36.0981282
END:VEVENT
BEGIN:VEVENT
DTSTART;TZID=America/Chicago:20220425T153000
DTEND;TZID=America/Chicago:20220425T170000
DTSTAMP:20260423T184315
CREATED:20220331T192235Z
LAST-MODIFIED:20220331T192235Z
UID:10009079-1650900600-1650906000@www.saintcatherineschool.org
SUMMARY:Volleyball Club
DESCRIPTION:
URL:https://www.saintcatherineschool.org/event/volleyball-club-2
LOCATION:St. Catherine Activity Center\, 2515 West 46th Street\, Tulsa\, 74107-6629\, United States
CATEGORIES:Church of Saint Catherine,Saint Catherine School
ORGANIZER;CN="Kayley Anthamatten":MAILTO:kayleya@saint-catherine.org
GEO:36.0981282;-96.0219361
X-APPLE-STRUCTURED-LOCATION;VALUE=URI;X-ADDRESS=St. Catherine Activity Center 2515 West 46th Street Tulsa 74107-6629 United States;X-APPLE-RADIUS=500;X-TITLE=2515 West 46th Street:geo:-96.0219361,36.0981282
END:VEVENT
BEGIN:VEVENT
DTSTART;TZID=America/Chicago:20220419T153000
DTEND;TZID=America/Chicago:20220419T170000
DTSTAMP:20260423T184315
CREATED:20220408T140732Z
LAST-MODIFIED:20220408T140732Z
UID:10009131-1650382200-1650387600@www.saintcatherineschool.org
SUMMARY:Taekwondo
DESCRIPTION:
URL:https://www.saintcatherineschool.org/event/taekwondo-15/2022-04-19
LOCATION:St. Catherine Activity Center\, 2515 West 46th Street\, Tulsa\, 74107-6629\, United States
CATEGORIES:Church of Saint Catherine,Saint Catherine School
ORGANIZER;CN="Carla Victor":MAILTO:cvictor@saint-catherine.org
GEO:36.0981282;-96.0219361
X-APPLE-STRUCTURED-LOCATION;VALUE=URI;X-ADDRESS=St. Catherine Activity Center 2515 West 46th Street Tulsa 74107-6629 United States;X-APPLE-RADIUS=500;X-TITLE=2515 West 46th Street:geo:-96.0219361,36.0981282
END:VEVENT
BEGIN:VEVENT
DTSTART;TZID=America/Chicago:20220411T153000
DTEND;TZID=America/Chicago:20220411T170000
DTSTAMP:20260423T184315
CREATED:20220331T192138Z
LAST-MODIFIED:20220331T192138Z
UID:10007782-1649691000-1649696400@www.saintcatherineschool.org
SUMMARY:Volleyball Club
DESCRIPTION:
URL:https://www.saintcatherineschool.org/event/volleyball-club/2022-04-11
LOCATION:St. Catherine Activity Center\, 2515 West 46th Street\, Tulsa\, 74107-6629\, United States
CATEGORIES:Church of Saint Catherine,Saint Catherine School
ORGANIZER;CN="Kayley Anthamatten":MAILTO:kayleya@saint-catherine.org
GEO:36.0981282;-96.0219361
X-APPLE-STRUCTURED-LOCATION;VALUE=URI;X-ADDRESS=St. Catherine Activity Center 2515 West 46th Street Tulsa 74107-6629 United States;X-APPLE-RADIUS=500;X-TITLE=2515 West 46th Street:geo:-96.0219361,36.0981282
END:VEVENT
BEGIN:VEVENT
DTSTART;TZID=America/Chicago:20220404T153000
DTEND;TZID=America/Chicago:20220404T170000
DTSTAMP:20260423T184315
CREATED:20220331T192138Z
LAST-MODIFIED:20220331T192138Z
UID:10007781-1649086200-1649091600@www.saintcatherineschool.org
SUMMARY:Volleyball Club
DESCRIPTION:
URL:https://www.saintcatherineschool.org/event/volleyball-club/2022-04-04
LOCATION:St. Catherine Activity Center\, 2515 West 46th Street\, Tulsa\, 74107-6629\, United States
CATEGORIES:Church of Saint Catherine,Saint Catherine School
ORGANIZER;CN="Kayley Anthamatten":MAILTO:kayleya@saint-catherine.org
GEO:36.0981282;-96.0219361
X-APPLE-STRUCTURED-LOCATION;VALUE=URI;X-ADDRESS=St. Catherine Activity Center 2515 West 46th Street Tulsa 74107-6629 United States;X-APPLE-RADIUS=500;X-TITLE=2515 West 46th Street:geo:-96.0219361,36.0981282
END:VEVENT
BEGIN:VEVENT
DTSTART;TZID=America/Chicago:20220222T153000
DTEND;TZID=America/Chicago:20220222T170000
DTSTAMP:20260423T184315
CREATED:20220121T182338Z
LAST-MODIFIED:20220121T182338Z
UID:10009025-1645543800-1645549200@www.saintcatherineschool.org
SUMMARY:Taekwondo
DESCRIPTION:Taekwondo will be in the activity center after dismissal.
URL:https://www.saintcatherineschool.org/event/taekwondo-14/2022-02-22
LOCATION:St. Catherine Activity Center\, 2515 West 46th Street\, Tulsa\, 74107-6629\, United States
CATEGORIES:Church of Saint Catherine,Saint Catherine School
ORGANIZER;CN="Carla Victor":MAILTO:cvictor@saint-catherine.org
GEO:36.0981282;-96.0219361
X-APPLE-STRUCTURED-LOCATION;VALUE=URI;X-ADDRESS=St. Catherine Activity Center 2515 West 46th Street Tulsa 74107-6629 United States;X-APPLE-RADIUS=500;X-TITLE=2515 West 46th Street:geo:-96.0219361,36.0981282
END:VEVENT
BEGIN:VEVENT
DTSTART;TZID=America/Chicago:20220215T153000
DTEND;TZID=America/Chicago:20220215T170000
DTSTAMP:20260423T184315
CREATED:20220121T182338Z
LAST-MODIFIED:20220121T182338Z
UID:10009024-1644939000-1644944400@www.saintcatherineschool.org
SUMMARY:Taekwondo
DESCRIPTION:Taekwondo will be in the activity center after dismissal.
URL:https://www.saintcatherineschool.org/event/taekwondo-14/2022-02-15
LOCATION:St. Catherine Activity Center\, 2515 West 46th Street\, Tulsa\, 74107-6629\, United States
CATEGORIES:Church of Saint Catherine,Saint Catherine School
ORGANIZER;CN="Carla Victor":MAILTO:cvictor@saint-catherine.org
GEO:36.0981282;-96.0219361
X-APPLE-STRUCTURED-LOCATION;VALUE=URI;X-ADDRESS=St. Catherine Activity Center 2515 West 46th Street Tulsa 74107-6629 United States;X-APPLE-RADIUS=500;X-TITLE=2515 West 46th Street:geo:-96.0219361,36.0981282
END:VEVENT
END:VCALENDAR