BEGIN:VCALENDAR
VERSION:2.0
PRODID:-//Saint Catherine of Alexandria School - ECPv6.15.20//NONSGML v1.0//EN
CALSCALE:GREGORIAN
METHOD:PUBLISH
X-ORIGINAL-URL:https://www.saintcatherineschool.org
X-WR-CALDESC:Events for Saint Catherine of Alexandria School
REFRESH-INTERVAL;VALUE=DURATION:PT1H
X-Robots-Tag:noindex
X-PUBLISHED-TTL:PT1H
BEGIN:VTIMEZONE
TZID:America/Chicago
BEGIN:DAYLIGHT
TZOFFSETFROM:-0600
TZOFFSETTO:-0500
TZNAME:CDT
DTSTART:20180311T080000
END:DAYLIGHT
BEGIN:STANDARD
TZOFFSETFROM:-0500
TZOFFSETTO:-0600
TZNAME:CST
DTSTART:20181104T070000
END:STANDARD
BEGIN:DAYLIGHT
TZOFFSETFROM:-0600
TZOFFSETTO:-0500
TZNAME:CDT
DTSTART:20190310T080000
END:DAYLIGHT
BEGIN:STANDARD
TZOFFSETFROM:-0500
TZOFFSETTO:-0600
TZNAME:CST
DTSTART:20191103T070000
END:STANDARD
BEGIN:DAYLIGHT
TZOFFSETFROM:-0600
TZOFFSETTO:-0500
TZNAME:CDT
DTSTART:20200308T080000
END:DAYLIGHT
BEGIN:STANDARD
TZOFFSETFROM:-0500
TZOFFSETTO:-0600
TZNAME:CST
DTSTART:20201101T070000
END:STANDARD
END:VTIMEZONE
BEGIN:VEVENT
DTSTART;TZID=America/Chicago:20191202T153000
DTEND;TZID=America/Chicago:20191202T163000
DTSTAMP:20260424T222447
CREATED:20191202T160021Z
LAST-MODIFIED:20191202T163442Z
UID:10008334-1575300600-1575304200@www.saintcatherineschool.org
SUMMARY:4th grade basketball practice
DESCRIPTION:The 4th grade basketball team will practice in the gym from 3:30-4:30.
URL:https://www.saintcatherineschool.org/event/4th-grade-basketball-practice/2019-12-02
LOCATION:St. Catherine Activity Center\, 2515 West 46th Street\, Tulsa\, 74107-6629\, United States
CATEGORIES:Saint Catherine School
ORGANIZER;CN="Craig Torkleson":MAILTO:craigt2@hotmail.com
GEO:36.0981282;-96.0219361
X-APPLE-STRUCTURED-LOCATION;VALUE=URI;X-ADDRESS=St. Catherine Activity Center 2515 West 46th Street Tulsa 74107-6629 United States;X-APPLE-RADIUS=500;X-TITLE=2515 West 46th Street:geo:-96.0219361,36.0981282
END:VEVENT
BEGIN:VEVENT
DTSTART;TZID=America/Chicago:20191121T173000
DTEND;TZID=America/Chicago:20191121T190000
DTSTAMP:20260424T222447
CREATED:20190626T023647Z
LAST-MODIFIED:20190626T023647Z
UID:10005528-1574357400-1574362800@www.saintcatherineschool.org
SUMMARY:Community Meal
DESCRIPTION:Saint Catherine of Alexandria hosts a free meal for anyone who wants a hot meal and good fellowship.  The meal is in the activity center and begins at 5:30.
URL:https://www.saintcatherineschool.org/event/community-meal-19
LOCATION:St. Catherine Activity Center\, 2515 West 46th Street\, Tulsa\, 74107-6629\, United States
CATEGORIES:Church of Saint Catherine,Saint Catherine School
ORGANIZER;CN="Janice Hoss":MAILTO:jhoss@saint-catherine.org
GEO:36.0981282;-96.0219361
X-APPLE-STRUCTURED-LOCATION;VALUE=URI;X-ADDRESS=St. Catherine Activity Center 2515 West 46th Street Tulsa 74107-6629 United States;X-APPLE-RADIUS=500;X-TITLE=2515 West 46th Street:geo:-96.0219361,36.0981282
END:VEVENT
BEGIN:VEVENT
DTSTART;TZID=America/Chicago:20191114T153000
DTEND;TZID=America/Chicago:20191114T170000
DTSTAMP:20260424T222447
CREATED:20191023T183322Z
LAST-MODIFIED:20191023T183356Z
UID:10008315-1573745400-1573750800@www.saintcatherineschool.org
SUMMARY:Taekwondo
DESCRIPTION:TKD will meet in Mrs. Victor’s room at 3:30. \n 
URL:https://www.saintcatherineschool.org/event/taekwondo-4/2019-11-14
LOCATION:St. Catherine Activity Center\, 2515 West 46th Street\, Tulsa\, 74107-6629\, United States
CATEGORIES:Saint Catherine School
ORGANIZER;CN="Carla Victor":MAILTO:cvictor@saint-catherine.org
GEO:36.0981282;-96.0219361
X-APPLE-STRUCTURED-LOCATION;VALUE=URI;X-ADDRESS=St. Catherine Activity Center 2515 West 46th Street Tulsa 74107-6629 United States;X-APPLE-RADIUS=500;X-TITLE=2515 West 46th Street:geo:-96.0219361,36.0981282
END:VEVENT
BEGIN:VEVENT
DTSTART;TZID=America/Chicago:20191107T153000
DTEND;TZID=America/Chicago:20191107T170000
DTSTAMP:20260424T222447
CREATED:20191023T183322Z
LAST-MODIFIED:20191023T183356Z
UID:10008314-1573140600-1573146000@www.saintcatherineschool.org
SUMMARY:Taekwondo
DESCRIPTION:TKD will meet in Mrs. Victor’s room at 3:30. \n 
URL:https://www.saintcatherineschool.org/event/taekwondo-4/2019-11-07
LOCATION:St. Catherine Activity Center\, 2515 West 46th Street\, Tulsa\, 74107-6629\, United States
CATEGORIES:Saint Catherine School
ORGANIZER;CN="Carla Victor":MAILTO:cvictor@saint-catherine.org
GEO:36.0981282;-96.0219361
X-APPLE-STRUCTURED-LOCATION;VALUE=URI;X-ADDRESS=St. Catherine Activity Center 2515 West 46th Street Tulsa 74107-6629 United States;X-APPLE-RADIUS=500;X-TITLE=2515 West 46th Street:geo:-96.0219361,36.0981282
END:VEVENT
BEGIN:VEVENT
DTSTART;TZID=America/Chicago:20191031T153000
DTEND;TZID=America/Chicago:20191031T170000
DTSTAMP:20260424T222447
CREATED:20190925T163716Z
LAST-MODIFIED:20190925T163716Z
UID:10008326-1572535800-1572541200@www.saintcatherineschool.org
SUMMARY:Taekwondo
DESCRIPTION:TKD students will meet with Mrs. Victor after school at 3:30.
URL:https://www.saintcatherineschool.org/event/taekwondo-3
LOCATION:St. Catherine Activity Center\, 2515 West 46th Street\, Tulsa\, 74107-6629\, United States
CATEGORIES:Saint Catherine School
ORGANIZER;CN="Carla Victor":MAILTO:cvictor@saint-catherine.org
GEO:36.0981282;-96.0219361
X-APPLE-STRUCTURED-LOCATION;VALUE=URI;X-ADDRESS=St. Catherine Activity Center 2515 West 46th Street Tulsa 74107-6629 United States;X-APPLE-RADIUS=500;X-TITLE=2515 West 46th Street:geo:-96.0219361,36.0981282
END:VEVENT
BEGIN:VEVENT
DTSTART;TZID=America/Chicago:20191025T153000
DTEND;TZID=America/Chicago:20191025T163000
DTSTAMP:20260424T222447
CREATED:20190925T164931Z
LAST-MODIFIED:20190925T164931Z
UID:10007095-1572017400-1572021000@www.saintcatherineschool.org
SUMMARY:MS Volleyball Practice
DESCRIPTION:The volleyball team will have practice after school in the activity center.
URL:https://www.saintcatherineschool.org/event/ms-volleyball-practice-5
LOCATION:St. Catherine Activity Center\, 2515 West 46th Street\, Tulsa\, 74107-6629\, United States
CATEGORIES:Saint Catherine School
ORGANIZER;CN="Kayley Anthamatten":MAILTO:kayleya@saint-catherine.org
GEO:36.0981282;-96.0219361
X-APPLE-STRUCTURED-LOCATION;VALUE=URI;X-ADDRESS=St. Catherine Activity Center 2515 West 46th Street Tulsa 74107-6629 United States;X-APPLE-RADIUS=500;X-TITLE=2515 West 46th Street:geo:-96.0219361,36.0981282
END:VEVENT
BEGIN:VEVENT
DTSTART;TZID=America/Chicago:20191024T173000
DTEND;TZID=America/Chicago:20191024T190000
DTSTAMP:20260424T222447
CREATED:20190626T021600Z
LAST-MODIFIED:20190626T021600Z
UID:10008079-1571938200-1571943600@www.saintcatherineschool.org
SUMMARY:Community Meal
DESCRIPTION:Saint Catherine of Alexandria hosts a free meal for anyone who wants a hot meal and good fellowship.  The meal is in the activity center and begins at 5:30.
URL:https://www.saintcatherineschool.org/event/community-meal-18
LOCATION:St. Catherine Activity Center\, 2515 West 46th Street\, Tulsa\, 74107-6629\, United States
CATEGORIES:Church of Saint Catherine,Saint Catherine School
ORGANIZER;CN="Janice Hoss":MAILTO:jhoss@saint-catherine.org
GEO:36.0981282;-96.0219361
X-APPLE-STRUCTURED-LOCATION;VALUE=URI;X-ADDRESS=St. Catherine Activity Center 2515 West 46th Street Tulsa 74107-6629 United States;X-APPLE-RADIUS=500;X-TITLE=2515 West 46th Street:geo:-96.0219361,36.0981282
END:VEVENT
BEGIN:VEVENT
DTSTART;VALUE=DATE:20191023
DTEND;VALUE=DATE:20191024
DTSTAMP:20260424T222447
CREATED:20190924T203556Z
LAST-MODIFIED:20190924T203556Z
UID:10008281-1571788800-1571875199@www.saintcatherineschool.org
SUMMARY:NO Volleyball Practice
DESCRIPTION:No Practice Today.
URL:https://www.saintcatherineschool.org/event/no-volleyball-practice
LOCATION:St. Catherine Activity Center\, 2515 West 46th Street\, Tulsa\, 74107-6629\, United States
CATEGORIES:Saint Catherine School
ORGANIZER;CN="Kayley Anthamatten":MAILTO:kayleya@saint-catherine.org
GEO:36.0981282;-96.0219361
X-APPLE-STRUCTURED-LOCATION;VALUE=URI;X-ADDRESS=St. Catherine Activity Center 2515 West 46th Street Tulsa 74107-6629 United States;X-APPLE-RADIUS=500;X-TITLE=2515 West 46th Street:geo:-96.0219361,36.0981282
END:VEVENT
BEGIN:VEVENT
DTSTART;TZID=America/Chicago:20191021T153000
DTEND;TZID=America/Chicago:20191021T163000
DTSTAMP:20260424T222447
CREATED:20190924T203208Z
LAST-MODIFIED:20190924T203208Z
UID:10008287-1571671800-1571675400@www.saintcatherineschool.org
SUMMARY:MS Volleyball Practice
DESCRIPTION:The volleyball team will practice after school at 3:30-4:30.
URL:https://www.saintcatherineschool.org/event/ms-volleyball-practice-2
LOCATION:St. Catherine Activity Center\, 2515 West 46th Street\, Tulsa\, 74107-6629\, United States
CATEGORIES:Saint Catherine School
ORGANIZER;CN="Kayley Anthamatten":MAILTO:kayleya@saint-catherine.org
GEO:36.0981282;-96.0219361
X-APPLE-STRUCTURED-LOCATION;VALUE=URI;X-ADDRESS=St. Catherine Activity Center 2515 West 46th Street Tulsa 74107-6629 United States;X-APPLE-RADIUS=500;X-TITLE=2515 West 46th Street:geo:-96.0219361,36.0981282
END:VEVENT
BEGIN:VEVENT
DTSTART;TZID=America/Chicago:20191016T153000
DTEND;TZID=America/Chicago:20191016T163000
DTSTAMP:20260424T222447
CREATED:20190924T203256Z
LAST-MODIFIED:20190924T203406Z
UID:10008285-1571239800-1571243400@www.saintcatherineschool.org
SUMMARY:MS Volleyball Practice
DESCRIPTION:The volleyball team will practice after school at 3:30-4:30.
URL:https://www.saintcatherineschool.org/event/ms-volleyball-practice-3/2019-10-16
LOCATION:St. Catherine Activity Center\, 2515 West 46th Street\, Tulsa\, 74107-6629\, United States
CATEGORIES:Saint Catherine School
ORGANIZER;CN="Kayley Anthamatten":MAILTO:kayleya@saint-catherine.org
GEO:36.0981282;-96.0219361
X-APPLE-STRUCTURED-LOCATION;VALUE=URI;X-ADDRESS=St. Catherine Activity Center 2515 West 46th Street Tulsa 74107-6629 United States;X-APPLE-RADIUS=500;X-TITLE=2515 West 46th Street:geo:-96.0219361,36.0981282
END:VEVENT
BEGIN:VEVENT
DTSTART;TZID=America/Chicago:20191011T153000
DTEND;TZID=America/Chicago:20191011T163000
DTSTAMP:20260424T222447
CREATED:20190925T164353Z
LAST-MODIFIED:20190925T164353Z
UID:10008322-1570807800-1570811400@www.saintcatherineschool.org
SUMMARY:MS Volleyball Practice
DESCRIPTION:The volleyball team will practice after school in the activity center.
URL:https://www.saintcatherineschool.org/event/ms-volleyball-practice-4/2019-10-11
LOCATION:St. Catherine Activity Center\, 2515 West 46th Street\, Tulsa\, 74107-6629\, United States
CATEGORIES:Saint Catherine School
ORGANIZER;CN="Kayley Anthamatten":MAILTO:kayleya@saint-catherine.org
GEO:36.0981282;-96.0219361
X-APPLE-STRUCTURED-LOCATION;VALUE=URI;X-ADDRESS=St. Catherine Activity Center 2515 West 46th Street Tulsa 74107-6629 United States;X-APPLE-RADIUS=500;X-TITLE=2515 West 46th Street:geo:-96.0219361,36.0981282
END:VEVENT
BEGIN:VEVENT
DTSTART;TZID=America/Chicago:20191009T153000
DTEND;TZID=America/Chicago:20191009T163000
DTSTAMP:20260424T222447
CREATED:20190924T203256Z
LAST-MODIFIED:20190924T203406Z
UID:10008284-1570635000-1570638600@www.saintcatherineschool.org
SUMMARY:MS Volleyball Practice
DESCRIPTION:The volleyball team will practice after school at 3:30-4:30.
URL:https://www.saintcatherineschool.org/event/ms-volleyball-practice-3/2019-10-09
LOCATION:St. Catherine Activity Center\, 2515 West 46th Street\, Tulsa\, 74107-6629\, United States
CATEGORIES:Saint Catherine School
ORGANIZER;CN="Kayley Anthamatten":MAILTO:kayleya@saint-catherine.org
GEO:36.0981282;-96.0219361
X-APPLE-STRUCTURED-LOCATION;VALUE=URI;X-ADDRESS=St. Catherine Activity Center 2515 West 46th Street Tulsa 74107-6629 United States;X-APPLE-RADIUS=500;X-TITLE=2515 West 46th Street:geo:-96.0219361,36.0981282
END:VEVENT
BEGIN:VEVENT
DTSTART;TZID=America/Chicago:20191007T153000
DTEND;TZID=America/Chicago:20191007T163000
DTSTAMP:20260424T222447
CREATED:20190924T203119Z
LAST-MODIFIED:20190924T203119Z
UID:10008289-1570462200-1570465800@www.saintcatherineschool.org
SUMMARY:MS Volleyball Practice
DESCRIPTION:The volleyball team will practice after school at 3:30-4:30.
URL:https://www.saintcatherineschool.org/event/ms-volleyball-practice
LOCATION:St. Catherine Activity Center\, 2515 West 46th Street\, Tulsa\, 74107-6629\, United States
CATEGORIES:Saint Catherine School
ORGANIZER;CN="Kayley Anthamatten":MAILTO:kayleya@saint-catherine.org
GEO:36.0981282;-96.0219361
X-APPLE-STRUCTURED-LOCATION;VALUE=URI;X-ADDRESS=St. Catherine Activity Center 2515 West 46th Street Tulsa 74107-6629 United States;X-APPLE-RADIUS=500;X-TITLE=2515 West 46th Street:geo:-96.0219361,36.0981282
END:VEVENT
BEGIN:VEVENT
DTSTART;TZID=America/Chicago:20191004T153000
DTEND;TZID=America/Chicago:20191004T163000
DTSTAMP:20260424T222447
CREATED:20190925T164353Z
LAST-MODIFIED:20190925T164353Z
UID:10008321-1570203000-1570206600@www.saintcatherineschool.org
SUMMARY:MS Volleyball Practice
DESCRIPTION:The volleyball team will practice after school in the activity center.
URL:https://www.saintcatherineschool.org/event/ms-volleyball-practice-4/2019-10-04
LOCATION:St. Catherine Activity Center\, 2515 West 46th Street\, Tulsa\, 74107-6629\, United States
CATEGORIES:Saint Catherine School
ORGANIZER;CN="Kayley Anthamatten":MAILTO:kayleya@saint-catherine.org
GEO:36.0981282;-96.0219361
X-APPLE-STRUCTURED-LOCATION;VALUE=URI;X-ADDRESS=St. Catherine Activity Center 2515 West 46th Street Tulsa 74107-6629 United States;X-APPLE-RADIUS=500;X-TITLE=2515 West 46th Street:geo:-96.0219361,36.0981282
END:VEVENT
BEGIN:VEVENT
DTSTART;TZID=America/Chicago:20191002T153000
DTEND;TZID=America/Chicago:20191002T163000
DTSTAMP:20260424T222447
CREATED:20190924T203256Z
LAST-MODIFIED:20190924T203406Z
UID:10008283-1570030200-1570033800@www.saintcatherineschool.org
SUMMARY:MS Volleyball Practice
DESCRIPTION:The volleyball team will practice after school at 3:30-4:30.
URL:https://www.saintcatherineschool.org/event/ms-volleyball-practice-3/2019-10-02
LOCATION:St. Catherine Activity Center\, 2515 West 46th Street\, Tulsa\, 74107-6629\, United States
CATEGORIES:Saint Catherine School
ORGANIZER;CN="Kayley Anthamatten":MAILTO:kayleya@saint-catherine.org
GEO:36.0981282;-96.0219361
X-APPLE-STRUCTURED-LOCATION;VALUE=URI;X-ADDRESS=St. Catherine Activity Center 2515 West 46th Street Tulsa 74107-6629 United States;X-APPLE-RADIUS=500;X-TITLE=2515 West 46th Street:geo:-96.0219361,36.0981282
END:VEVENT
BEGIN:VEVENT
DTSTART;TZID=America/Chicago:20190930T082000
DTEND;TZID=America/Chicago:20190930T090000
DTSTAMP:20260424T222447
CREATED:20190827T152142Z
LAST-MODIFIED:20190827T152142Z
UID:10008246-1569831600-1569834000@www.saintcatherineschool.org
SUMMARY:Windy City Players
DESCRIPTION:Windy City Players will be at school to perform Beauty and the Beast.
URL:https://www.saintcatherineschool.org/event/windy-city-players-3
LOCATION:St. Catherine Activity Center\, 2515 West 46th Street\, Tulsa\, 74107-6629\, United States
CATEGORIES:Saint Catherine School
ORGANIZER;CN="Michelle Anthamatten":MAILTO:manthamatten@saint-catherine.org
GEO:36.0981282;-96.0219361
X-APPLE-STRUCTURED-LOCATION;VALUE=URI;X-ADDRESS=St. Catherine Activity Center 2515 West 46th Street Tulsa 74107-6629 United States;X-APPLE-RADIUS=500;X-TITLE=2515 West 46th Street:geo:-96.0219361,36.0981282
END:VEVENT
BEGIN:VEVENT
DTSTART;TZID=America/Chicago:20190927T153000
DTEND;TZID=America/Chicago:20190927T163000
DTSTAMP:20260424T222447
CREATED:20190827T144619Z
LAST-MODIFIED:20190827T144619Z
UID:10008255-1569598200-1569601800@www.saintcatherineschool.org
SUMMARY:Volleyball Practice
DESCRIPTION:The volleyball team will practice in the activity center after school.
URL:https://www.saintcatherineschool.org/event/volleyball-practice-6/2019-09-27
LOCATION:St. Catherine Activity Center\, 2515 West 46th Street\, Tulsa\, 74107-6629\, United States
CATEGORIES:Saint Catherine School
ORGANIZER;CN="Kayley Anthamatten":MAILTO:kayleya@saint-catherine.org
GEO:36.0981282;-96.0219361
X-APPLE-STRUCTURED-LOCATION;VALUE=URI;X-ADDRESS=St. Catherine Activity Center 2515 West 46th Street Tulsa 74107-6629 United States;X-APPLE-RADIUS=500;X-TITLE=2515 West 46th Street:geo:-96.0219361,36.0981282
END:VEVENT
BEGIN:VEVENT
DTSTART;TZID=America/Chicago:20190925T153000
DTEND;TZID=America/Chicago:20190925T163000
DTSTAMP:20260424T222447
CREATED:20190827T135706Z
LAST-MODIFIED:20190827T135706Z
UID:10008191-1569425400-1569429000@www.saintcatherineschool.org
SUMMARY:Volleyball Practice
DESCRIPTION:The volleyball team will have practice in the activity center after school until 4:30.
URL:https://www.saintcatherineschool.org/event/volleyball-practice-3/2019-09-25
LOCATION:St. Catherine Activity Center\, 2515 West 46th Street\, Tulsa\, 74107-6629\, United States
CATEGORIES:Saint Catherine School
ORGANIZER;CN="Kayley Anthamatten":MAILTO:kayleya@saint-catherine.org
GEO:36.0981282;-96.0219361
X-APPLE-STRUCTURED-LOCATION;VALUE=URI;X-ADDRESS=St. Catherine Activity Center 2515 West 46th Street Tulsa 74107-6629 United States;X-APPLE-RADIUS=500;X-TITLE=2515 West 46th Street:geo:-96.0219361,36.0981282
END:VEVENT
BEGIN:VEVENT
DTSTART;TZID=America/Chicago:20190923T153000
DTEND;TZID=America/Chicago:20190923T163000
DTSTAMP:20260424T222447
CREATED:20190827T144157Z
LAST-MODIFIED:20190910T185044Z
UID:10008263-1569252600-1569256200@www.saintcatherineschool.org
SUMMARY:Volleyball Practice
DESCRIPTION:The volleyball team will practice in the activity center after school.
URL:https://www.saintcatherineschool.org/event/volleyball-practice-5/2019-09-23
LOCATION:St. Catherine Activity Center\, 2515 West 46th Street\, Tulsa\, 74107-6629\, United States
CATEGORIES:Saint Catherine School
ORGANIZER;CN="Kayley Anthamatten":MAILTO:kayleya@saint-catherine.org
GEO:36.0981282;-96.0219361
X-APPLE-STRUCTURED-LOCATION;VALUE=URI;X-ADDRESS=St. Catherine Activity Center 2515 West 46th Street Tulsa 74107-6629 United States;X-APPLE-RADIUS=500;X-TITLE=2515 West 46th Street:geo:-96.0219361,36.0981282
END:VEVENT
BEGIN:VEVENT
DTSTART;TZID=America/Chicago:20190920T153000
DTEND;TZID=America/Chicago:20190920T163000
DTSTAMP:20260424T222447
CREATED:20190827T144619Z
LAST-MODIFIED:20190827T144619Z
UID:10008254-1568993400-1568997000@www.saintcatherineschool.org
SUMMARY:Volleyball Practice
DESCRIPTION:The volleyball team will practice in the activity center after school.
URL:https://www.saintcatherineschool.org/event/volleyball-practice-6/2019-09-20
LOCATION:St. Catherine Activity Center\, 2515 West 46th Street\, Tulsa\, 74107-6629\, United States
CATEGORIES:Saint Catherine School
ORGANIZER;CN="Kayley Anthamatten":MAILTO:kayleya@saint-catherine.org
GEO:36.0981282;-96.0219361
X-APPLE-STRUCTURED-LOCATION;VALUE=URI;X-ADDRESS=St. Catherine Activity Center 2515 West 46th Street Tulsa 74107-6629 United States;X-APPLE-RADIUS=500;X-TITLE=2515 West 46th Street:geo:-96.0219361,36.0981282
END:VEVENT
BEGIN:VEVENT
DTSTART;TZID=America/Chicago:20190919T153000
DTEND;TZID=America/Chicago:20190919T170000
DTSTAMP:20260424T222447
CREATED:20190827T142427Z
LAST-MODIFIED:20190827T142427Z
UID:10008373-1568907000-1568912400@www.saintcatherineschool.org
SUMMARY:Taekwondo
DESCRIPTION:TKD will meet after school in the activity center after school.
URL:https://www.saintcatherineschool.org/event/taekwondo/2019-09-19
LOCATION:St. Catherine Activity Center\, 2515 West 46th Street\, Tulsa\, 74107-6629\, United States
CATEGORIES:Saint Catherine School
ORGANIZER;CN="Carla Victor":MAILTO:cvictor@saint-catherine.org
GEO:36.0981282;-96.0219361
X-APPLE-STRUCTURED-LOCATION;VALUE=URI;X-ADDRESS=St. Catherine Activity Center 2515 West 46th Street Tulsa 74107-6629 United States;X-APPLE-RADIUS=500;X-TITLE=2515 West 46th Street:geo:-96.0219361,36.0981282
END:VEVENT
BEGIN:VEVENT
DTSTART;TZID=America/Chicago:20190918T153000
DTEND;TZID=America/Chicago:20190918T163000
DTSTAMP:20260424T222447
CREATED:20190827T135706Z
LAST-MODIFIED:20190827T135706Z
UID:10008190-1568820600-1568824200@www.saintcatherineschool.org
SUMMARY:Volleyball Practice
DESCRIPTION:The volleyball team will have practice in the activity center after school until 4:30.
URL:https://www.saintcatherineschool.org/event/volleyball-practice-3/2019-09-18
LOCATION:St. Catherine Activity Center\, 2515 West 46th Street\, Tulsa\, 74107-6629\, United States
CATEGORIES:Saint Catherine School
ORGANIZER;CN="Kayley Anthamatten":MAILTO:kayleya@saint-catherine.org
GEO:36.0981282;-96.0219361
X-APPLE-STRUCTURED-LOCATION;VALUE=URI;X-ADDRESS=St. Catherine Activity Center 2515 West 46th Street Tulsa 74107-6629 United States;X-APPLE-RADIUS=500;X-TITLE=2515 West 46th Street:geo:-96.0219361,36.0981282
END:VEVENT
BEGIN:VEVENT
DTSTART;TZID=America/Chicago:20190916T153000
DTEND;TZID=America/Chicago:20190916T163000
DTSTAMP:20260424T222447
CREATED:20190827T144157Z
LAST-MODIFIED:20190910T185044Z
UID:10008262-1568647800-1568651400@www.saintcatherineschool.org
SUMMARY:Volleyball Practice
DESCRIPTION:The volleyball team will practice in the activity center after school.
URL:https://www.saintcatherineschool.org/event/volleyball-practice-5/2019-09-16
LOCATION:St. Catherine Activity Center\, 2515 West 46th Street\, Tulsa\, 74107-6629\, United States
CATEGORIES:Saint Catherine School
ORGANIZER;CN="Kayley Anthamatten":MAILTO:kayleya@saint-catherine.org
GEO:36.0981282;-96.0219361
X-APPLE-STRUCTURED-LOCATION;VALUE=URI;X-ADDRESS=St. Catherine Activity Center 2515 West 46th Street Tulsa 74107-6629 United States;X-APPLE-RADIUS=500;X-TITLE=2515 West 46th Street:geo:-96.0219361,36.0981282
END:VEVENT
BEGIN:VEVENT
DTSTART;TZID=America/Chicago:20190912T153000
DTEND;TZID=America/Chicago:20190912T170000
DTSTAMP:20260424T222447
CREATED:20190827T142427Z
LAST-MODIFIED:20190827T142427Z
UID:10008372-1568302200-1568307600@www.saintcatherineschool.org
SUMMARY:Taekwondo
DESCRIPTION:TKD will meet after school in the activity center after school.
URL:https://www.saintcatherineschool.org/event/taekwondo/2019-09-12
LOCATION:St. Catherine Activity Center\, 2515 West 46th Street\, Tulsa\, 74107-6629\, United States
CATEGORIES:Saint Catherine School
ORGANIZER;CN="Carla Victor":MAILTO:cvictor@saint-catherine.org
GEO:36.0981282;-96.0219361
X-APPLE-STRUCTURED-LOCATION;VALUE=URI;X-ADDRESS=St. Catherine Activity Center 2515 West 46th Street Tulsa 74107-6629 United States;X-APPLE-RADIUS=500;X-TITLE=2515 West 46th Street:geo:-96.0219361,36.0981282
END:VEVENT
BEGIN:VEVENT
DTSTART;TZID=America/Chicago:20190911T153000
DTEND;TZID=America/Chicago:20190911T163000
DTSTAMP:20260424T222447
CREATED:20190827T135706Z
LAST-MODIFIED:20190827T135706Z
UID:10008189-1568215800-1568219400@www.saintcatherineschool.org
SUMMARY:Volleyball Practice
DESCRIPTION:The volleyball team will have practice in the activity center after school until 4:30.
URL:https://www.saintcatherineschool.org/event/volleyball-practice-3/2019-09-11
LOCATION:St. Catherine Activity Center\, 2515 West 46th Street\, Tulsa\, 74107-6629\, United States
CATEGORIES:Saint Catherine School
ORGANIZER;CN="Kayley Anthamatten":MAILTO:kayleya@saint-catherine.org
GEO:36.0981282;-96.0219361
X-APPLE-STRUCTURED-LOCATION;VALUE=URI;X-ADDRESS=St. Catherine Activity Center 2515 West 46th Street Tulsa 74107-6629 United States;X-APPLE-RADIUS=500;X-TITLE=2515 West 46th Street:geo:-96.0219361,36.0981282
END:VEVENT
BEGIN:VEVENT
DTSTART;TZID=America/Chicago:20190909T153000
DTEND;TZID=America/Chicago:20190909T163000
DTSTAMP:20260424T222447
CREATED:20190827T144157Z
LAST-MODIFIED:20190910T185044Z
UID:10008261-1568043000-1568046600@www.saintcatherineschool.org
SUMMARY:Volleyball Practice
DESCRIPTION:The volleyball team will practice in the activity center after school.
URL:https://www.saintcatherineschool.org/event/volleyball-practice-5/2019-09-09
LOCATION:St. Catherine Activity Center\, 2515 West 46th Street\, Tulsa\, 74107-6629\, United States
CATEGORIES:Saint Catherine School
ORGANIZER;CN="Kayley Anthamatten":MAILTO:kayleya@saint-catherine.org
GEO:36.0981282;-96.0219361
X-APPLE-STRUCTURED-LOCATION;VALUE=URI;X-ADDRESS=St. Catherine Activity Center 2515 West 46th Street Tulsa 74107-6629 United States;X-APPLE-RADIUS=500;X-TITLE=2515 West 46th Street:geo:-96.0219361,36.0981282
END:VEVENT
BEGIN:VEVENT
DTSTART;TZID=America/Chicago:20190906T080000
DTEND;TZID=America/Chicago:20190906T170000
DTSTAMP:20260424T222447
CREATED:20190827T142625Z
LAST-MODIFIED:20190827T142625Z
UID:10008266-1567756800-1567789200@www.saintcatherineschool.org
SUMMARY:Volleyball Practice
DESCRIPTION:The volleyball team will practice after school in the activity center.
URL:https://www.saintcatherineschool.org/event/volleyball-practice-4
LOCATION:St. Catherine Activity Center\, 2515 West 46th Street\, Tulsa\, 74107-6629\, United States
CATEGORIES:Saint Catherine School
ORGANIZER;CN="Kayley Anthamatten":MAILTO:kayleya@saint-catherine.org
GEO:36.0981282;-96.0219361
X-APPLE-STRUCTURED-LOCATION;VALUE=URI;X-ADDRESS=St. Catherine Activity Center 2515 West 46th Street Tulsa 74107-6629 United States;X-APPLE-RADIUS=500;X-TITLE=2515 West 46th Street:geo:-96.0219361,36.0981282
END:VEVENT
BEGIN:VEVENT
DTSTART;TZID=America/Chicago:20190905T153000
DTEND;TZID=America/Chicago:20190905T170000
DTSTAMP:20260424T222447
CREATED:20190827T142427Z
LAST-MODIFIED:20190827T142427Z
UID:10008371-1567697400-1567702800@www.saintcatherineschool.org
SUMMARY:Taekwondo
DESCRIPTION:TKD will meet after school in the activity center after school.
URL:https://www.saintcatherineschool.org/event/taekwondo/2019-09-05
LOCATION:St. Catherine Activity Center\, 2515 West 46th Street\, Tulsa\, 74107-6629\, United States
CATEGORIES:Saint Catherine School
ORGANIZER;CN="Carla Victor":MAILTO:cvictor@saint-catherine.org
GEO:36.0981282;-96.0219361
X-APPLE-STRUCTURED-LOCATION;VALUE=URI;X-ADDRESS=St. Catherine Activity Center 2515 West 46th Street Tulsa 74107-6629 United States;X-APPLE-RADIUS=500;X-TITLE=2515 West 46th Street:geo:-96.0219361,36.0981282
END:VEVENT
BEGIN:VEVENT
DTSTART;TZID=America/Chicago:20190904T153000
DTEND;TZID=America/Chicago:20190904T163000
DTSTAMP:20260424T222447
CREATED:20190827T135706Z
LAST-MODIFIED:20190827T135706Z
UID:10008188-1567611000-1567614600@www.saintcatherineschool.org
SUMMARY:Volleyball Practice
DESCRIPTION:The volleyball team will have practice in the activity center after school until 4:30.
URL:https://www.saintcatherineschool.org/event/volleyball-practice-3/2019-09-04
LOCATION:St. Catherine Activity Center\, 2515 West 46th Street\, Tulsa\, 74107-6629\, United States
CATEGORIES:Saint Catherine School
ORGANIZER;CN="Kayley Anthamatten":MAILTO:kayleya@saint-catherine.org
GEO:36.0981282;-96.0219361
X-APPLE-STRUCTURED-LOCATION;VALUE=URI;X-ADDRESS=St. Catherine Activity Center 2515 West 46th Street Tulsa 74107-6629 United States;X-APPLE-RADIUS=500;X-TITLE=2515 West 46th Street:geo:-96.0219361,36.0981282
END:VEVENT
BEGIN:VEVENT
DTSTART;TZID=America/Chicago:20190822T053000
DTEND;TZID=America/Chicago:20190822T190000
DTSTAMP:20260424T222447
CREATED:20190626T013558Z
LAST-MODIFIED:20190626T021440Z
UID:10008031-1566451800-1566500400@www.saintcatherineschool.org
SUMMARY:Community Meal
DESCRIPTION:Saint Catherine of Alexandria provides a free meal for anyone who wants a hot meal and some good fellowship.  The meal is in the activity center beginning at 5:30.
URL:https://www.saintcatherineschool.org/event/community-meal-16
LOCATION:St. Catherine Activity Center\, 2515 West 46th Street\, Tulsa\, 74107-6629\, United States
CATEGORIES:Church of Saint Catherine,Saint Catherine School
ORGANIZER;CN="Janice Hoss":MAILTO:jhoss@saint-catherine.org
GEO:36.0981282;-96.0219361
X-APPLE-STRUCTURED-LOCATION;VALUE=URI;X-ADDRESS=St. Catherine Activity Center 2515 West 46th Street Tulsa 74107-6629 United States;X-APPLE-RADIUS=500;X-TITLE=2515 West 46th Street:geo:-96.0219361,36.0981282
END:VEVENT
END:VCALENDAR