BEGIN:VCALENDAR
VERSION:2.0
PRODID:-//Saint Catherine of Alexandria School - ECPv6.15.20//NONSGML v1.0//EN
CALSCALE:GREGORIAN
METHOD:PUBLISH
X-WR-CALNAME:Saint Catherine of Alexandria School
X-ORIGINAL-URL:https://www.saintcatherineschool.org
X-WR-CALDESC:Events for Saint Catherine of Alexandria School
REFRESH-INTERVAL;VALUE=DURATION:PT1H
X-Robots-Tag:noindex
X-PUBLISHED-TTL:PT1H
BEGIN:VTIMEZONE
TZID:America/Chicago
BEGIN:DAYLIGHT
TZOFFSETFROM:-0600
TZOFFSETTO:-0500
TZNAME:CDT
DTSTART:20190310T080000
END:DAYLIGHT
BEGIN:STANDARD
TZOFFSETFROM:-0500
TZOFFSETTO:-0600
TZNAME:CST
DTSTART:20191103T070000
END:STANDARD
BEGIN:DAYLIGHT
TZOFFSETFROM:-0600
TZOFFSETTO:-0500
TZNAME:CDT
DTSTART:20200308T080000
END:DAYLIGHT
BEGIN:STANDARD
TZOFFSETFROM:-0500
TZOFFSETTO:-0600
TZNAME:CST
DTSTART:20201101T070000
END:STANDARD
BEGIN:DAYLIGHT
TZOFFSETFROM:-0600
TZOFFSETTO:-0500
TZNAME:CDT
DTSTART:20210314T080000
END:DAYLIGHT
BEGIN:STANDARD
TZOFFSETFROM:-0500
TZOFFSETTO:-0600
TZNAME:CST
DTSTART:20211107T070000
END:STANDARD
BEGIN:DAYLIGHT
TZOFFSETFROM:-0600
TZOFFSETTO:-0500
TZNAME:CDT
DTSTART:20220313T080000
END:DAYLIGHT
BEGIN:STANDARD
TZOFFSETFROM:-0500
TZOFFSETTO:-0600
TZNAME:CST
DTSTART:20221106T070000
END:STANDARD
END:VTIMEZONE
BEGIN:VEVENT
DTSTART;TZID=America/Chicago:20211020T154500
DTEND;TZID=America/Chicago:20211020T170000
DTSTAMP:20260424T005153
CREATED:20210930T190435Z
LAST-MODIFIED:20210930T190435Z
UID:10008924-1634744700-1634749200@www.saintcatherineschool.org
SUMMARY:Volleyball Practice
DESCRIPTION:
URL:https://www.saintcatherineschool.org/event/volleyball-practice-8/2021-10-20
LOCATION:St. Catherine Activity Center\, 2515 West 46th Street\, Tulsa\, 74107-6629\, United States
CATEGORIES:Church of Saint Catherine,Saint Catherine School
ORGANIZER;CN="Sam Naab":MAILTO:snaab@saint-catherine.org
GEO:36.0981282;-96.0219361
X-APPLE-STRUCTURED-LOCATION;VALUE=URI;X-ADDRESS=St. Catherine Activity Center 2515 West 46th Street Tulsa 74107-6629 United States;X-APPLE-RADIUS=500;X-TITLE=2515 West 46th Street:geo:-96.0219361,36.0981282
END:VEVENT
BEGIN:VEVENT
DTSTART;TZID=America/Chicago:20211013T154500
DTEND;TZID=America/Chicago:20211013T170000
DTSTAMP:20260424T005153
CREATED:20210930T190435Z
LAST-MODIFIED:20210930T190435Z
UID:10008923-1634139900-1634144400@www.saintcatherineschool.org
SUMMARY:Volleyball Practice
DESCRIPTION:
URL:https://www.saintcatherineschool.org/event/volleyball-practice-8/2021-10-13
LOCATION:St. Catherine Activity Center\, 2515 West 46th Street\, Tulsa\, 74107-6629\, United States
CATEGORIES:Church of Saint Catherine,Saint Catherine School
ORGANIZER;CN="Sam Naab":MAILTO:snaab@saint-catherine.org
GEO:36.0981282;-96.0219361
X-APPLE-STRUCTURED-LOCATION;VALUE=URI;X-ADDRESS=St. Catherine Activity Center 2515 West 46th Street Tulsa 74107-6629 United States;X-APPLE-RADIUS=500;X-TITLE=2515 West 46th Street:geo:-96.0219361,36.0981282
END:VEVENT
BEGIN:VEVENT
DTSTART;TZID=America/Chicago:20211008T154500
DTEND;TZID=America/Chicago:20211008T170000
DTSTAMP:20260424T005153
CREATED:20210930T195001Z
LAST-MODIFIED:20210930T195001Z
UID:10007729-1633707900-1633712400@www.saintcatherineschool.org
SUMMARY:Volleyball Practice
DESCRIPTION:
URL:https://www.saintcatherineschool.org/event/volleyball-practice-9
LOCATION:St. Catherine Activity Center\, 2515 West 46th Street\, Tulsa\, 74107-6629\, United States
CATEGORIES:Church of Saint Catherine,Saint Catherine School
ORGANIZER;CN="Sam Naab":MAILTO:snaab@saint-catherine.org
GEO:36.0981282;-96.0219361
X-APPLE-STRUCTURED-LOCATION;VALUE=URI;X-ADDRESS=St. Catherine Activity Center 2515 West 46th Street Tulsa 74107-6629 United States;X-APPLE-RADIUS=500;X-TITLE=2515 West 46th Street:geo:-96.0219361,36.0981282
END:VEVENT
BEGIN:VEVENT
DTSTART;TZID=America/Chicago:20211006T154500
DTEND;TZID=America/Chicago:20211006T170000
DTSTAMP:20260424T005153
CREATED:20210930T190435Z
LAST-MODIFIED:20210930T190435Z
UID:10008922-1633535100-1633539600@www.saintcatherineschool.org
SUMMARY:Volleyball Practice
DESCRIPTION:
URL:https://www.saintcatherineschool.org/event/volleyball-practice-8/2021-10-06
LOCATION:St. Catherine Activity Center\, 2515 West 46th Street\, Tulsa\, 74107-6629\, United States
CATEGORIES:Church of Saint Catherine,Saint Catherine School
ORGANIZER;CN="Sam Naab":MAILTO:snaab@saint-catherine.org
GEO:36.0981282;-96.0219361
X-APPLE-STRUCTURED-LOCATION;VALUE=URI;X-ADDRESS=St. Catherine Activity Center 2515 West 46th Street Tulsa 74107-6629 United States;X-APPLE-RADIUS=500;X-TITLE=2515 West 46th Street:geo:-96.0219361,36.0981282
END:VEVENT
BEGIN:VEVENT
DTSTART;TZID=America/Chicago:20211005T154500
DTEND;TZID=America/Chicago:20211005T170000
DTSTAMP:20260424T005153
CREATED:20210930T192204Z
LAST-MODIFIED:20210930T192204Z
UID:10007723-1633448700-1633453200@www.saintcatherineschool.org
SUMMARY:Taekwondo
DESCRIPTION:
URL:https://www.saintcatherineschool.org/event/taekwondo-11
LOCATION:St. Catherine Activity Center\, 2515 West 46th Street\, Tulsa\, 74107-6629\, United States
CATEGORIES:Church of Saint Catherine,Saint Catherine School
ORGANIZER;CN="Carla Victor":MAILTO:cvictor@saint-catherine.org
GEO:36.0981282;-96.0219361
X-APPLE-STRUCTURED-LOCATION;VALUE=URI;X-ADDRESS=St. Catherine Activity Center 2515 West 46th Street Tulsa 74107-6629 United States;X-APPLE-RADIUS=500;X-TITLE=2515 West 46th Street:geo:-96.0219361,36.0981282
END:VEVENT
BEGIN:VEVENT
DTSTART;TZID=America/Chicago:20211004T154500
DTEND;TZID=America/Chicago:20211004T170000
DTSTAMP:20260424T005153
CREATED:20210930T185954Z
LAST-MODIFIED:20210930T190031Z
UID:10008920-1633362300-1633366800@www.saintcatherineschool.org
SUMMARY:Volleyball Practice
DESCRIPTION:
URL:https://www.saintcatherineschool.org/event/volleyball-practice-7
LOCATION:St. Catherine Activity Center\, 2515 West 46th Street\, Tulsa\, 74107-6629\, United States
CATEGORIES:Church of Saint Catherine,Saint Catherine School
ORGANIZER;CN="Sam Naab":MAILTO:snaab@saint-catherine.org
GEO:36.0981282;-96.0219361
X-APPLE-STRUCTURED-LOCATION;VALUE=URI;X-ADDRESS=St. Catherine Activity Center 2515 West 46th Street Tulsa 74107-6629 United States;X-APPLE-RADIUS=500;X-TITLE=2515 West 46th Street:geo:-96.0219361,36.0981282
END:VEVENT
BEGIN:VEVENT
DTSTART;TZID=America/Chicago:20210929T153000
DTEND;TZID=America/Chicago:20210929T170000
DTSTAMP:20260424T005153
CREATED:20210902T151712Z
LAST-MODIFIED:20210902T151712Z
UID:10008853-1632929400-1632934800@www.saintcatherineschool.org
SUMMARY:Middle School Volleyball Practice
DESCRIPTION:The middle school volleyball team will practice in the activity center from the end of school until 5:00pm.
URL:https://www.saintcatherineschool.org/event/middle-school-volleyball-practice-2/2021-09-29
LOCATION:St. Catherine Activity Center\, 2515 West 46th Street\, Tulsa\, 74107-6629\, United States
CATEGORIES:Church of Saint Catherine,Saint Catherine School
ORGANIZER;CN="Sam Naab":MAILTO:snaab@saint-catherine.org
GEO:36.0981282;-96.0219361
X-APPLE-STRUCTURED-LOCATION;VALUE=URI;X-ADDRESS=St. Catherine Activity Center 2515 West 46th Street Tulsa 74107-6629 United States;X-APPLE-RADIUS=500;X-TITLE=2515 West 46th Street:geo:-96.0219361,36.0981282
END:VEVENT
BEGIN:VEVENT
DTSTART;TZID=America/Chicago:20210928T153000
DTEND;TZID=America/Chicago:20210928T170000
DTSTAMP:20260424T005153
CREATED:20210902T151813Z
LAST-MODIFIED:20210902T151813Z
UID:10008848-1632843000-1632848400@www.saintcatherineschool.org
SUMMARY:Middle School Volleyball Practice
DESCRIPTION:The middle school volleyball team will practice in the activity center from the end of school until 5:00pm.
URL:https://www.saintcatherineschool.org/event/middle-school-volleyball-practice-3/2021-09-28
LOCATION:St. Catherine Activity Center\, 2515 West 46th Street\, Tulsa\, 74107-6629\, United States
CATEGORIES:Church of Saint Catherine,Saint Catherine School
ORGANIZER;CN="Sam Naab":MAILTO:snaab@saint-catherine.org
GEO:36.0981282;-96.0219361
X-APPLE-STRUCTURED-LOCATION;VALUE=URI;X-ADDRESS=St. Catherine Activity Center 2515 West 46th Street Tulsa 74107-6629 United States;X-APPLE-RADIUS=500;X-TITLE=2515 West 46th Street:geo:-96.0219361,36.0981282
END:VEVENT
BEGIN:VEVENT
DTSTART;TZID=America/Chicago:20210923T153000
DTEND;TZID=America/Chicago:20210923T170000
DTSTAMP:20260424T005153
CREATED:20210902T151346Z
LAST-MODIFIED:20210902T151346Z
UID:10008859-1632411000-1632416400@www.saintcatherineschool.org
SUMMARY:Middle School Volleyball Practice
DESCRIPTION:The middle school volleyball team will practice in the activity center from the end of school until 5:00pm.
URL:https://www.saintcatherineschool.org/event/middle-school-volleyball-practice/2021-09-23
LOCATION:St. Catherine Activity Center\, 2515 West 46th Street\, Tulsa\, 74107-6629\, United States
CATEGORIES:Church of Saint Catherine,Saint Catherine School
ORGANIZER;CN="Sam Naab":MAILTO:snaab@saint-catherine.org
GEO:36.0981282;-96.0219361
X-APPLE-STRUCTURED-LOCATION;VALUE=URI;X-ADDRESS=St. Catherine Activity Center 2515 West 46th Street Tulsa 74107-6629 United States;X-APPLE-RADIUS=500;X-TITLE=2515 West 46th Street:geo:-96.0219361,36.0981282
END:VEVENT
BEGIN:VEVENT
DTSTART;TZID=America/Chicago:20210922T153000
DTEND;TZID=America/Chicago:20210922T170000
DTSTAMP:20260424T005153
CREATED:20210902T151712Z
LAST-MODIFIED:20210902T151712Z
UID:10008852-1632324600-1632330000@www.saintcatherineschool.org
SUMMARY:Middle School Volleyball Practice
DESCRIPTION:The middle school volleyball team will practice in the activity center from the end of school until 5:00pm.
URL:https://www.saintcatherineschool.org/event/middle-school-volleyball-practice-2/2021-09-22
LOCATION:St. Catherine Activity Center\, 2515 West 46th Street\, Tulsa\, 74107-6629\, United States
CATEGORIES:Church of Saint Catherine,Saint Catherine School
ORGANIZER;CN="Sam Naab":MAILTO:snaab@saint-catherine.org
GEO:36.0981282;-96.0219361
X-APPLE-STRUCTURED-LOCATION;VALUE=URI;X-ADDRESS=St. Catherine Activity Center 2515 West 46th Street Tulsa 74107-6629 United States;X-APPLE-RADIUS=500;X-TITLE=2515 West 46th Street:geo:-96.0219361,36.0981282
END:VEVENT
BEGIN:VEVENT
DTSTART;TZID=America/Chicago:20210921T153000
DTEND;TZID=America/Chicago:20210921T170000
DTSTAMP:20260424T005153
CREATED:20210902T151813Z
LAST-MODIFIED:20210902T151813Z
UID:10008847-1632238200-1632243600@www.saintcatherineschool.org
SUMMARY:Middle School Volleyball Practice
DESCRIPTION:The middle school volleyball team will practice in the activity center from the end of school until 5:00pm.
URL:https://www.saintcatherineschool.org/event/middle-school-volleyball-practice-3/2021-09-21
LOCATION:St. Catherine Activity Center\, 2515 West 46th Street\, Tulsa\, 74107-6629\, United States
CATEGORIES:Church of Saint Catherine,Saint Catherine School
ORGANIZER;CN="Sam Naab":MAILTO:snaab@saint-catherine.org
GEO:36.0981282;-96.0219361
X-APPLE-STRUCTURED-LOCATION;VALUE=URI;X-ADDRESS=St. Catherine Activity Center 2515 West 46th Street Tulsa 74107-6629 United States;X-APPLE-RADIUS=500;X-TITLE=2515 West 46th Street:geo:-96.0219361,36.0981282
END:VEVENT
BEGIN:VEVENT
DTSTART;TZID=America/Chicago:20210916T153000
DTEND;TZID=America/Chicago:20210916T170000
DTSTAMP:20260424T005153
CREATED:20210902T151346Z
LAST-MODIFIED:20210902T151346Z
UID:10008858-1631806200-1631811600@www.saintcatherineschool.org
SUMMARY:Middle School Volleyball Practice
DESCRIPTION:The middle school volleyball team will practice in the activity center from the end of school until 5:00pm.
URL:https://www.saintcatherineschool.org/event/middle-school-volleyball-practice/2021-09-16
LOCATION:St. Catherine Activity Center\, 2515 West 46th Street\, Tulsa\, 74107-6629\, United States
CATEGORIES:Church of Saint Catherine,Saint Catherine School
ORGANIZER;CN="Sam Naab":MAILTO:snaab@saint-catherine.org
GEO:36.0981282;-96.0219361
X-APPLE-STRUCTURED-LOCATION;VALUE=URI;X-ADDRESS=St. Catherine Activity Center 2515 West 46th Street Tulsa 74107-6629 United States;X-APPLE-RADIUS=500;X-TITLE=2515 West 46th Street:geo:-96.0219361,36.0981282
END:VEVENT
BEGIN:VEVENT
DTSTART;TZID=America/Chicago:20210915T153000
DTEND;TZID=America/Chicago:20210915T170000
DTSTAMP:20260424T005153
CREATED:20210902T151712Z
LAST-MODIFIED:20210902T151712Z
UID:10008851-1631719800-1631725200@www.saintcatherineschool.org
SUMMARY:Middle School Volleyball Practice
DESCRIPTION:The middle school volleyball team will practice in the activity center from the end of school until 5:00pm.
URL:https://www.saintcatherineschool.org/event/middle-school-volleyball-practice-2/2021-09-15
LOCATION:St. Catherine Activity Center\, 2515 West 46th Street\, Tulsa\, 74107-6629\, United States
CATEGORIES:Church of Saint Catherine,Saint Catherine School
ORGANIZER;CN="Sam Naab":MAILTO:snaab@saint-catherine.org
GEO:36.0981282;-96.0219361
X-APPLE-STRUCTURED-LOCATION;VALUE=URI;X-ADDRESS=St. Catherine Activity Center 2515 West 46th Street Tulsa 74107-6629 United States;X-APPLE-RADIUS=500;X-TITLE=2515 West 46th Street:geo:-96.0219361,36.0981282
END:VEVENT
BEGIN:VEVENT
DTSTART;TZID=America/Chicago:20210914T153000
DTEND;TZID=America/Chicago:20210914T170000
DTSTAMP:20260424T005153
CREATED:20210902T151813Z
LAST-MODIFIED:20210902T151813Z
UID:10008846-1631633400-1631638800@www.saintcatherineschool.org
SUMMARY:Middle School Volleyball Practice
DESCRIPTION:The middle school volleyball team will practice in the activity center from the end of school until 5:00pm.
URL:https://www.saintcatherineschool.org/event/middle-school-volleyball-practice-3/2021-09-14
LOCATION:St. Catherine Activity Center\, 2515 West 46th Street\, Tulsa\, 74107-6629\, United States
CATEGORIES:Church of Saint Catherine,Saint Catherine School
ORGANIZER;CN="Sam Naab":MAILTO:snaab@saint-catherine.org
GEO:36.0981282;-96.0219361
X-APPLE-STRUCTURED-LOCATION;VALUE=URI;X-ADDRESS=St. Catherine Activity Center 2515 West 46th Street Tulsa 74107-6629 United States;X-APPLE-RADIUS=500;X-TITLE=2515 West 46th Street:geo:-96.0219361,36.0981282
END:VEVENT
BEGIN:VEVENT
DTSTART;TZID=America/Chicago:20210909T153000
DTEND;TZID=America/Chicago:20210909T170000
DTSTAMP:20260424T005153
CREATED:20210902T151346Z
LAST-MODIFIED:20210902T151346Z
UID:10008857-1631201400-1631206800@www.saintcatherineschool.org
SUMMARY:Middle School Volleyball Practice
DESCRIPTION:The middle school volleyball team will practice in the activity center from the end of school until 5:00pm.
URL:https://www.saintcatherineschool.org/event/middle-school-volleyball-practice/2021-09-09
LOCATION:St. Catherine Activity Center\, 2515 West 46th Street\, Tulsa\, 74107-6629\, United States
CATEGORIES:Church of Saint Catherine,Saint Catherine School
ORGANIZER;CN="Sam Naab":MAILTO:snaab@saint-catherine.org
GEO:36.0981282;-96.0219361
X-APPLE-STRUCTURED-LOCATION;VALUE=URI;X-ADDRESS=St. Catherine Activity Center 2515 West 46th Street Tulsa 74107-6629 United States;X-APPLE-RADIUS=500;X-TITLE=2515 West 46th Street:geo:-96.0219361,36.0981282
END:VEVENT
BEGIN:VEVENT
DTSTART;TZID=America/Chicago:20210908T153000
DTEND;TZID=America/Chicago:20210908T170000
DTSTAMP:20260424T005153
CREATED:20210902T151712Z
LAST-MODIFIED:20210902T151712Z
UID:10008850-1631115000-1631120400@www.saintcatherineschool.org
SUMMARY:Middle School Volleyball Practice
DESCRIPTION:The middle school volleyball team will practice in the activity center from the end of school until 5:00pm.
URL:https://www.saintcatherineschool.org/event/middle-school-volleyball-practice-2/2021-09-08
LOCATION:St. Catherine Activity Center\, 2515 West 46th Street\, Tulsa\, 74107-6629\, United States
CATEGORIES:Church of Saint Catherine,Saint Catherine School
ORGANIZER;CN="Sam Naab":MAILTO:snaab@saint-catherine.org
GEO:36.0981282;-96.0219361
X-APPLE-STRUCTURED-LOCATION;VALUE=URI;X-ADDRESS=St. Catherine Activity Center 2515 West 46th Street Tulsa 74107-6629 United States;X-APPLE-RADIUS=500;X-TITLE=2515 West 46th Street:geo:-96.0219361,36.0981282
END:VEVENT
BEGIN:VEVENT
DTSTART;TZID=America/Chicago:20210907T153000
DTEND;TZID=America/Chicago:20210907T170000
DTSTAMP:20260424T005153
CREATED:20210902T151813Z
LAST-MODIFIED:20210902T151813Z
UID:10008845-1631028600-1631034000@www.saintcatherineschool.org
SUMMARY:Middle School Volleyball Practice
DESCRIPTION:The middle school volleyball team will practice in the activity center from the end of school until 5:00pm.
URL:https://www.saintcatherineschool.org/event/middle-school-volleyball-practice-3/2021-09-07
LOCATION:St. Catherine Activity Center\, 2515 West 46th Street\, Tulsa\, 74107-6629\, United States
CATEGORIES:Church of Saint Catherine,Saint Catherine School
ORGANIZER;CN="Sam Naab":MAILTO:snaab@saint-catherine.org
GEO:36.0981282;-96.0219361
X-APPLE-STRUCTURED-LOCATION;VALUE=URI;X-ADDRESS=St. Catherine Activity Center 2515 West 46th Street Tulsa 74107-6629 United States;X-APPLE-RADIUS=500;X-TITLE=2515 West 46th Street:geo:-96.0219361,36.0981282
END:VEVENT
BEGIN:VEVENT
DTSTART;TZID=America/Chicago:20210902T153000
DTEND;TZID=America/Chicago:20210902T170000
DTSTAMP:20260424T005153
CREATED:20210902T151346Z
LAST-MODIFIED:20210902T151346Z
UID:10008856-1630596600-1630602000@www.saintcatherineschool.org
SUMMARY:Middle School Volleyball Practice
DESCRIPTION:The middle school volleyball team will practice in the activity center from the end of school until 5:00pm.
URL:https://www.saintcatherineschool.org/event/middle-school-volleyball-practice/2021-09-02
LOCATION:St. Catherine Activity Center\, 2515 West 46th Street\, Tulsa\, 74107-6629\, United States
CATEGORIES:Church of Saint Catherine,Saint Catherine School
ORGANIZER;CN="Sam Naab":MAILTO:snaab@saint-catherine.org
GEO:36.0981282;-96.0219361
X-APPLE-STRUCTURED-LOCATION;VALUE=URI;X-ADDRESS=St. Catherine Activity Center 2515 West 46th Street Tulsa 74107-6629 United States;X-APPLE-RADIUS=500;X-TITLE=2515 West 46th Street:geo:-96.0219361,36.0981282
END:VEVENT
BEGIN:VEVENT
DTSTART;TZID=America/Chicago:20210219T173000
DTEND;TZID=America/Chicago:20210219T183000
DTSTAMP:20260424T005153
CREATED:20210208T205255Z
LAST-MODIFIED:20210208T205255Z
UID:10008626-1613755800-1613759400@www.saintcatherineschool.org
SUMMARY:Basketball practice
DESCRIPTION:The middle school will have practice in the activity center.
URL:https://www.saintcatherineschool.org/event/basketball-practice-10
LOCATION:St. Catherine Activity Center\, 2515 West 46th Street\, Tulsa\, 74107-6629\, United States
CATEGORIES:Church of Saint Catherine,Saint Catherine School
GEO:36.0981282;-96.0219361
X-APPLE-STRUCTURED-LOCATION;VALUE=URI;X-ADDRESS=St. Catherine Activity Center 2515 West 46th Street Tulsa 74107-6629 United States;X-APPLE-RADIUS=500;X-TITLE=2515 West 46th Street:geo:-96.0219361,36.0981282
END:VEVENT
BEGIN:VEVENT
DTSTART;TZID=America/Chicago:20210217T173000
DTEND;TZID=America/Chicago:20210217T183000
DTSTAMP:20260424T005153
CREATED:20210208T195252Z
LAST-MODIFIED:20210208T195252Z
UID:10007583-1613583000-1613586600@www.saintcatherineschool.org
SUMMARY:Basketball practice
DESCRIPTION:The middle school will have practice in the activity center at 5;30.
URL:https://www.saintcatherineschool.org/event/basketball-practice-8/2021-02-17
LOCATION:St. Catherine Activity Center\, 2515 West 46th Street\, Tulsa\, 74107-6629\, United States
CATEGORIES:Church of Saint Catherine,Saint Catherine School
GEO:36.0981282;-96.0219361
X-APPLE-STRUCTURED-LOCATION;VALUE=URI;X-ADDRESS=St. Catherine Activity Center 2515 West 46th Street Tulsa 74107-6629 United States;X-APPLE-RADIUS=500;X-TITLE=2515 West 46th Street:geo:-96.0219361,36.0981282
END:VEVENT
BEGIN:VEVENT
DTSTART;TZID=America/Chicago:20210216T173000
DTEND;TZID=America/Chicago:20210216T183000
DTSTAMP:20260424T005153
CREATED:20210208T193439Z
LAST-MODIFIED:20210208T193439Z
UID:10008735-1613496600-1613500200@www.saintcatherineschool.org
SUMMARY:Basketball practice
DESCRIPTION:The middle school will have basketball practice in the activity center.
URL:https://www.saintcatherineschool.org/event/basketball-practice-7/2021-02-16
LOCATION:St. Catherine Activity Center\, 2515 West 46th Street\, Tulsa\, 74107-6629\, United States
CATEGORIES:Church of Saint Catherine,Saint Catherine School
GEO:36.0981282;-96.0219361
X-APPLE-STRUCTURED-LOCATION;VALUE=URI;X-ADDRESS=St. Catherine Activity Center 2515 West 46th Street Tulsa 74107-6629 United States;X-APPLE-RADIUS=500;X-TITLE=2515 West 46th Street:geo:-96.0219361,36.0981282
END:VEVENT
BEGIN:VEVENT
DTSTART;TZID=America/Chicago:20210210T173000
DTEND;TZID=America/Chicago:20210210T183000
DTSTAMP:20260424T005153
CREATED:20210208T195252Z
LAST-MODIFIED:20210208T195252Z
UID:10007582-1612978200-1612981800@www.saintcatherineschool.org
SUMMARY:Basketball practice
DESCRIPTION:The middle school will have practice in the activity center at 5;30.
URL:https://www.saintcatherineschool.org/event/basketball-practice-8/2021-02-10
LOCATION:St. Catherine Activity Center\, 2515 West 46th Street\, Tulsa\, 74107-6629\, United States
CATEGORIES:Church of Saint Catherine,Saint Catherine School
GEO:36.0981282;-96.0219361
X-APPLE-STRUCTURED-LOCATION;VALUE=URI;X-ADDRESS=St. Catherine Activity Center 2515 West 46th Street Tulsa 74107-6629 United States;X-APPLE-RADIUS=500;X-TITLE=2515 West 46th Street:geo:-96.0219361,36.0981282
END:VEVENT
BEGIN:VEVENT
DTSTART;TZID=America/Chicago:20210209T173000
DTEND;TZID=America/Chicago:20210209T183000
DTSTAMP:20260424T005153
CREATED:20210208T193439Z
LAST-MODIFIED:20210208T193439Z
UID:10008734-1612891800-1612895400@www.saintcatherineschool.org
SUMMARY:Basketball practice
DESCRIPTION:The middle school will have basketball practice in the activity center.
URL:https://www.saintcatherineschool.org/event/basketball-practice-7/2021-02-09
LOCATION:St. Catherine Activity Center\, 2515 West 46th Street\, Tulsa\, 74107-6629\, United States
CATEGORIES:Church of Saint Catherine,Saint Catherine School
GEO:36.0981282;-96.0219361
X-APPLE-STRUCTURED-LOCATION;VALUE=URI;X-ADDRESS=St. Catherine Activity Center 2515 West 46th Street Tulsa 74107-6629 United States;X-APPLE-RADIUS=500;X-TITLE=2515 West 46th Street:geo:-96.0219361,36.0981282
END:VEVENT
BEGIN:VEVENT
DTSTART;TZID=America/Chicago:20210205T173000
DTEND;TZID=America/Chicago:20210205T183000
DTSTAMP:20260424T005153
CREATED:20210208T201909Z
LAST-MODIFIED:20210208T201909Z
UID:10008671-1612546200-1612549800@www.saintcatherineschool.org
SUMMARY:Basketball practice
DESCRIPTION:The middle school will have practice in the activity center.
URL:https://www.saintcatherineschool.org/event/basketball-practice-9
LOCATION:St. Catherine Activity Center\, 2515 West 46th Street\, Tulsa\, 74107-6629\, United States
CATEGORIES:Church of Saint Catherine,Saint Catherine School
GEO:36.0981282;-96.0219361
X-APPLE-STRUCTURED-LOCATION;VALUE=URI;X-ADDRESS=St. Catherine Activity Center 2515 West 46th Street Tulsa 74107-6629 United States;X-APPLE-RADIUS=500;X-TITLE=2515 West 46th Street:geo:-96.0219361,36.0981282
END:VEVENT
BEGIN:VEVENT
DTSTART;TZID=America/Chicago:20210203T173000
DTEND;TZID=America/Chicago:20210203T183000
DTSTAMP:20260424T005153
CREATED:20210208T195252Z
LAST-MODIFIED:20210208T195252Z
UID:10007581-1612373400-1612377000@www.saintcatherineschool.org
SUMMARY:Basketball practice
DESCRIPTION:The middle school will have practice in the activity center at 5;30.
URL:https://www.saintcatherineschool.org/event/basketball-practice-8/2021-02-03
LOCATION:St. Catherine Activity Center\, 2515 West 46th Street\, Tulsa\, 74107-6629\, United States
CATEGORIES:Church of Saint Catherine,Saint Catherine School
GEO:36.0981282;-96.0219361
X-APPLE-STRUCTURED-LOCATION;VALUE=URI;X-ADDRESS=St. Catherine Activity Center 2515 West 46th Street Tulsa 74107-6629 United States;X-APPLE-RADIUS=500;X-TITLE=2515 West 46th Street:geo:-96.0219361,36.0981282
END:VEVENT
BEGIN:VEVENT
DTSTART;TZID=America/Chicago:20210202T173000
DTEND;TZID=America/Chicago:20210202T183000
DTSTAMP:20260424T005153
CREATED:20210208T193439Z
LAST-MODIFIED:20210208T193439Z
UID:10008733-1612287000-1612290600@www.saintcatherineschool.org
SUMMARY:Basketball practice
DESCRIPTION:The middle school will have basketball practice in the activity center.
URL:https://www.saintcatherineschool.org/event/basketball-practice-7/2021-02-02
LOCATION:St. Catherine Activity Center\, 2515 West 46th Street\, Tulsa\, 74107-6629\, United States
CATEGORIES:Church of Saint Catherine,Saint Catherine School
GEO:36.0981282;-96.0219361
X-APPLE-STRUCTURED-LOCATION;VALUE=URI;X-ADDRESS=St. Catherine Activity Center 2515 West 46th Street Tulsa 74107-6629 United States;X-APPLE-RADIUS=500;X-TITLE=2515 West 46th Street:geo:-96.0219361,36.0981282
END:VEVENT
BEGIN:VEVENT
DTSTART;TZID=America/Chicago:20201119T173000
DTEND;TZID=America/Chicago:20201119T190000
DTSTAMP:20260424T005153
CREATED:20201109T200231Z
LAST-MODIFIED:20201109T200413Z
UID:10008577-1605807000-1605812400@www.saintcatherineschool.org
SUMMARY:Community Meal
DESCRIPTION:Come to Saint Catherine Church on November 19th and enjoy a free.  All meals are served to-go style.  You will go around to the back of our activity center going from West to East and pick up your meal.
URL:https://www.saintcatherineschool.org/event/community-meal-25
LOCATION:St. Catherine Activity Center\, 2515 West 46th Street\, Tulsa\, 74107-6629\, United States
CATEGORIES:Church of Saint Catherine,Saint Catherine School
ORGANIZER;CN="Amy Zvacek":MAILTO:azvacek@saint-catherine.org
GEO:36.0981282;-96.0219361
X-APPLE-STRUCTURED-LOCATION;VALUE=URI;X-ADDRESS=St. Catherine Activity Center 2515 West 46th Street Tulsa 74107-6629 United States;X-APPLE-RADIUS=500;X-TITLE=2515 West 46th Street:geo:-96.0219361,36.0981282
END:VEVENT
BEGIN:VEVENT
DTSTART;TZID=America/Chicago:20200924T053000
DTEND;TZID=America/Chicago:20200924T190000
DTSTAMP:20260424T005153
CREATED:20200826T011757Z
LAST-MODIFIED:20200826T011757Z
UID:10007398-1600925400-1600974000@www.saintcatherineschool.org
SUMMARY:Community Meal
DESCRIPTION:Come to Saint Catherine and have a free and delicious meal on us.
URL:https://www.saintcatherineschool.org/event/community-meal-24
LOCATION:St. Catherine Activity Center\, 2515 West 46th Street\, Tulsa\, 74107-6629\, United States
CATEGORIES:Church of Saint Catherine,Saint Catherine School
ORGANIZER;CN="Fr. John Grant":MAILTO:fr.joh.grant@saint-catherine.org
GEO:36.0981282;-96.0219361
X-APPLE-STRUCTURED-LOCATION;VALUE=URI;X-ADDRESS=St. Catherine Activity Center 2515 West 46th Street Tulsa 74107-6629 United States;X-APPLE-RADIUS=500;X-TITLE=2515 West 46th Street:geo:-96.0219361,36.0981282
END:VEVENT
BEGIN:VEVENT
DTSTART;TZID=America/Chicago:20200326T173000
DTEND;TZID=America/Chicago:20200326T190000
DTSTAMP:20260424T005153
CREATED:20200301T222931Z
LAST-MODIFIED:20200301T222931Z
UID:10008491-1585243800-1585249200@www.saintcatherineschool.org
SUMMARY:Community Meal
DESCRIPTION:Please join us for a free meal tonight.  It is a great time for food and fellowship.
URL:https://www.saintcatherineschool.org/event/community-meal-23
LOCATION:St. Catherine Activity Center\, 2515 West 46th Street\, Tulsa\, 74107-6629\, United States
CATEGORIES:Church of Saint Catherine,Saint Catherine School
ORGANIZER;CN="Janice Hoss":MAILTO:jhoss@saint-catherine.org
GEO:36.0981282;-96.0219361
X-APPLE-STRUCTURED-LOCATION;VALUE=URI;X-ADDRESS=St. Catherine Activity Center 2515 West 46th Street Tulsa 74107-6629 United States;X-APPLE-RADIUS=500;X-TITLE=2515 West 46th Street:geo:-96.0219361,36.0981282
END:VEVENT
BEGIN:VEVENT
DTSTART;TZID=America/Chicago:20200312T153000
DTEND;TZID=America/Chicago:20200312T170000
DTSTAMP:20260424T005153
CREATED:20200301T222730Z
LAST-MODIFIED:20200301T222730Z
UID:10007342-1584027000-1584032400@www.saintcatherineschool.org
SUMMARY:TaeKwonDo
DESCRIPTION:TKD will meet with Mrs. Victor at 3:30
URL:https://www.saintcatherineschool.org/event/taekwondo-10/2020-03-12
LOCATION:St. Catherine Activity Center\, 2515 West 46th Street\, Tulsa\, 74107-6629\, United States
CATEGORIES:Saint Catherine School
ORGANIZER;CN="Carla Victor":MAILTO:cvictor@saint-catherine.org
GEO:36.0981282;-96.0219361
X-APPLE-STRUCTURED-LOCATION;VALUE=URI;X-ADDRESS=St. Catherine Activity Center 2515 West 46th Street Tulsa 74107-6629 United States;X-APPLE-RADIUS=500;X-TITLE=2515 West 46th Street:geo:-96.0219361,36.0981282
END:VEVENT
END:VCALENDAR