BEGIN:VCALENDAR
VERSION:2.0
PRODID:-//Saint Catherine of Alexandria School - ECPv6.15.20//NONSGML v1.0//EN
CALSCALE:GREGORIAN
METHOD:PUBLISH
X-ORIGINAL-URL:https://www.saintcatherineschool.org
X-WR-CALDESC:Events for Saint Catherine of Alexandria School
REFRESH-INTERVAL;VALUE=DURATION:PT1H
X-Robots-Tag:noindex
X-PUBLISHED-TTL:PT1H
BEGIN:VTIMEZONE
TZID:America/Chicago
BEGIN:DAYLIGHT
TZOFFSETFROM:-0600
TZOFFSETTO:-0500
TZNAME:CDT
DTSTART:20180311T080000
END:DAYLIGHT
BEGIN:STANDARD
TZOFFSETFROM:-0500
TZOFFSETTO:-0600
TZNAME:CST
DTSTART:20181104T070000
END:STANDARD
BEGIN:DAYLIGHT
TZOFFSETFROM:-0600
TZOFFSETTO:-0500
TZNAME:CDT
DTSTART:20190310T080000
END:DAYLIGHT
BEGIN:STANDARD
TZOFFSETFROM:-0500
TZOFFSETTO:-0600
TZNAME:CST
DTSTART:20191103T070000
END:STANDARD
BEGIN:DAYLIGHT
TZOFFSETFROM:-0600
TZOFFSETTO:-0500
TZNAME:CDT
DTSTART:20200308T080000
END:DAYLIGHT
BEGIN:STANDARD
TZOFFSETFROM:-0500
TZOFFSETTO:-0600
TZNAME:CST
DTSTART:20201101T070000
END:STANDARD
BEGIN:DAYLIGHT
TZOFFSETFROM:-0600
TZOFFSETTO:-0500
TZNAME:CDT
DTSTART:20210314T080000
END:DAYLIGHT
BEGIN:STANDARD
TZOFFSETFROM:-0500
TZOFFSETTO:-0600
TZNAME:CST
DTSTART:20211107T070000
END:STANDARD
END:VTIMEZONE
BEGIN:VEVENT
DTSTART;TZID=America/Chicago:20200211T153000
DTEND;TZID=America/Chicago:20200211T170000
DTSTAMP:20260424T104212
CREATED:20200203T161536Z
LAST-MODIFIED:20200203T161536Z
UID:10008457-1581435000-1581440400@www.saintcatherineschool.org
SUMMARY:Archery Practice
DESCRIPTION:The archery team will practice in the activity center from 3:30-5.
URL:https://www.saintcatherineschool.org/event/archery-practice-14/2020-02-11
LOCATION:St. Catherine Activity Center\, 2515 West 46th Street\, Tulsa\, 74107-6629\, United States
CATEGORIES:Saint Catherine School
ORGANIZER;CN="Michelle Anthamatten":MAILTO:manthamatten@saint-catherine.org
GEO:36.0981282;-96.0219361
X-APPLE-STRUCTURED-LOCATION;VALUE=URI;X-ADDRESS=St. Catherine Activity Center 2515 West 46th Street Tulsa 74107-6629 United States;X-APPLE-RADIUS=500;X-TITLE=2515 West 46th Street:geo:-96.0219361,36.0981282
END:VEVENT
BEGIN:VEVENT
DTSTART;TZID=America/Chicago:20200210T153000
DTEND;TZID=America/Chicago:20200210T163000
DTSTAMP:20260424T104212
CREATED:20200122T161154Z
LAST-MODIFIED:20200122T161154Z
UID:10008401-1581348600-1581352200@www.saintcatherineschool.org
SUMMARY:4th grade basketball practice
DESCRIPTION:The 4th grade will practice in the gym.
URL:https://www.saintcatherineschool.org/event/4th-grade-basketball-practice-3/2020-02-10
LOCATION:St. Catherine Activity Center\, 2515 West 46th Street\, Tulsa\, 74107-6629\, United States
CATEGORIES:Saint Catherine School
ORGANIZER;CN="Craig Torkleson":MAILTO:craigt2@hotmail.com
GEO:36.0981282;-96.0219361
X-APPLE-STRUCTURED-LOCATION;VALUE=URI;X-ADDRESS=St. Catherine Activity Center 2515 West 46th Street Tulsa 74107-6629 United States;X-APPLE-RADIUS=500;X-TITLE=2515 West 46th Street:geo:-96.0219361,36.0981282
END:VEVENT
BEGIN:VEVENT
DTSTART;TZID=America/Chicago:20200207T153000
DTEND;TZID=America/Chicago:20200207T170000
DTSTAMP:20260424T104212
CREATED:20200203T161631Z
LAST-MODIFIED:20200203T161631Z
UID:10008464-1581089400-1581094800@www.saintcatherineschool.org
SUMMARY:Archery Practice
DESCRIPTION:The archery team will practice in the activity center from 3:30-5.
URL:https://www.saintcatherineschool.org/event/archery-practice-15
LOCATION:St. Catherine Activity Center\, 2515 West 46th Street\, Tulsa\, 74107-6629\, United States
CATEGORIES:Saint Catherine School
ORGANIZER;CN="Michelle Anthamatten":MAILTO:manthamatten@saint-catherine.org
GEO:36.0981282;-96.0219361
X-APPLE-STRUCTURED-LOCATION;VALUE=URI;X-ADDRESS=St. Catherine Activity Center 2515 West 46th Street Tulsa 74107-6629 United States;X-APPLE-RADIUS=500;X-TITLE=2515 West 46th Street:geo:-96.0219361,36.0981282
END:VEVENT
BEGIN:VEVENT
DTSTART;TZID=America/Chicago:20200206T180000
DTEND;TZID=America/Chicago:20200206T190000
DTSTAMP:20260424T104212
CREATED:20200203T162241Z
LAST-MODIFIED:20200203T162241Z
UID:10008438-1581012000-1581015600@www.saintcatherineschool.org
SUMMARY:Middle School Basketball Practice
DESCRIPTION:The middle school basketball team will have practice from 6-7.
URL:https://www.saintcatherineschool.org/event/middle-school-basketball-practice-5
LOCATION:St. Catherine Activity Center\, 2515 West 46th Street\, Tulsa\, 74107-6629\, United States
CATEGORIES:Saint Catherine School
ORGANIZER;CN="Andrea Warner":MAILTO:andrea.warner.mail@gmail.com
GEO:36.0981282;-96.0219361
X-APPLE-STRUCTURED-LOCATION;VALUE=URI;X-ADDRESS=St. Catherine Activity Center 2515 West 46th Street Tulsa 74107-6629 United States;X-APPLE-RADIUS=500;X-TITLE=2515 West 46th Street:geo:-96.0219361,36.0981282
END:VEVENT
BEGIN:VEVENT
DTSTART;TZID=America/Chicago:20200206T153000
DTEND;TZID=America/Chicago:20200206T170000
DTSTAMP:20260424T104212
CREATED:20200122T162507Z
LAST-MODIFIED:20200122T162507Z
UID:10007191-1581003000-1581008400@www.saintcatherineschool.org
SUMMARY:Taekwondo
DESCRIPTION:TKD will meet in Mrs. Victor’s room at 3:30.
URL:https://www.saintcatherineschool.org/event/taekwondo-8
LOCATION:St. Catherine Activity Center\, 2515 West 46th Street\, Tulsa\, 74107-6629\, United States
CATEGORIES:Saint Catherine School
ORGANIZER;CN="Carla Victor":MAILTO:cvictor@saint-catherine.org
GEO:36.0981282;-96.0219361
X-APPLE-STRUCTURED-LOCATION;VALUE=URI;X-ADDRESS=St. Catherine Activity Center 2515 West 46th Street Tulsa 74107-6629 United States;X-APPLE-RADIUS=500;X-TITLE=2515 West 46th Street:geo:-96.0219361,36.0981282
END:VEVENT
BEGIN:VEVENT
DTSTART;TZID=America/Chicago:20200205T163000
DTEND;TZID=America/Chicago:20200205T173000
DTSTAMP:20260424T104212
CREATED:20200122T162120Z
LAST-MODIFIED:20200122T162120Z
UID:10007183-1580920200-1580923800@www.saintcatherineschool.org
SUMMARY:2nd grade basketball practice
DESCRIPTION:The 2nd grade team will practice in the gym.
URL:https://www.saintcatherineschool.org/event/2nd-grade-basketball-practice-3/2020-02-05
LOCATION:St. Catherine Activity Center\, 2515 West 46th Street\, Tulsa\, 74107-6629\, United States
CATEGORIES:Saint Catherine School
ORGANIZER;CN="Michelle Anthamatten":MAILTO:manthamatten@saint-catherine.org
GEO:36.0981282;-96.0219361
X-APPLE-STRUCTURED-LOCATION;VALUE=URI;X-ADDRESS=St. Catherine Activity Center 2515 West 46th Street Tulsa 74107-6629 United States;X-APPLE-RADIUS=500;X-TITLE=2515 West 46th Street:geo:-96.0219361,36.0981282
END:VEVENT
BEGIN:VEVENT
DTSTART;TZID=America/Chicago:20200205T153000
DTEND;TZID=America/Chicago:20200205T163000
DTSTAMP:20260424T104212
CREATED:20200122T161154Z
LAST-MODIFIED:20200122T161154Z
UID:10008400-1580916600-1580920200@www.saintcatherineschool.org
SUMMARY:4th grade basketball practice
DESCRIPTION:The 4th grade will practice in the gym.
URL:https://www.saintcatherineschool.org/event/4th-grade-basketball-practice-3/2020-02-05
LOCATION:St. Catherine Activity Center\, 2515 West 46th Street\, Tulsa\, 74107-6629\, United States
CATEGORIES:Saint Catherine School
ORGANIZER;CN="Craig Torkleson":MAILTO:craigt2@hotmail.com
GEO:36.0981282;-96.0219361
X-APPLE-STRUCTURED-LOCATION;VALUE=URI;X-ADDRESS=St. Catherine Activity Center 2515 West 46th Street Tulsa 74107-6629 United States;X-APPLE-RADIUS=500;X-TITLE=2515 West 46th Street:geo:-96.0219361,36.0981282
END:VEVENT
BEGIN:VEVENT
DTSTART;TZID=America/Chicago:20200204T180000
DTEND;TZID=America/Chicago:20200204T190000
DTSTAMP:20260424T104212
CREATED:20200203T161114Z
LAST-MODIFIED:20200203T161114Z
UID:10008452-1580839200-1580842800@www.saintcatherineschool.org
SUMMARY:Middle School Basketball Practice
DESCRIPTION:The middle school basketball team will practice in the gym from 6-7.
URL:https://www.saintcatherineschool.org/event/middle-school-basketball-practice-4/2020-02-04
LOCATION:St. Catherine Activity Center\, 2515 West 46th Street\, Tulsa\, 74107-6629\, United States
CATEGORIES:Saint Catherine School
ORGANIZER;CN="Andrea Warner":MAILTO:andrea.warner.mail@gmail.com
GEO:36.0981282;-96.0219361
X-APPLE-STRUCTURED-LOCATION;VALUE=URI;X-ADDRESS=St. Catherine Activity Center 2515 West 46th Street Tulsa 74107-6629 United States;X-APPLE-RADIUS=500;X-TITLE=2515 West 46th Street:geo:-96.0219361,36.0981282
END:VEVENT
BEGIN:VEVENT
DTSTART;TZID=America/Chicago:20200204T153000
DTEND;TZID=America/Chicago:20200204T170000
DTSTAMP:20260424T104212
CREATED:20200203T161536Z
LAST-MODIFIED:20200203T161536Z
UID:10008456-1580830200-1580835600@www.saintcatherineschool.org
SUMMARY:Archery Practice
DESCRIPTION:The archery team will practice in the activity center from 3:30-5.
URL:https://www.saintcatherineschool.org/event/archery-practice-14/2020-02-04
LOCATION:St. Catherine Activity Center\, 2515 West 46th Street\, Tulsa\, 74107-6629\, United States
CATEGORIES:Saint Catherine School
ORGANIZER;CN="Michelle Anthamatten":MAILTO:manthamatten@saint-catherine.org
GEO:36.0981282;-96.0219361
X-APPLE-STRUCTURED-LOCATION;VALUE=URI;X-ADDRESS=St. Catherine Activity Center 2515 West 46th Street Tulsa 74107-6629 United States;X-APPLE-RADIUS=500;X-TITLE=2515 West 46th Street:geo:-96.0219361,36.0981282
END:VEVENT
BEGIN:VEVENT
DTSTART;TZID=America/Chicago:20200203T153000
DTEND;TZID=America/Chicago:20200203T163000
DTSTAMP:20260424T104212
CREATED:20200122T161154Z
LAST-MODIFIED:20200122T161154Z
UID:10008399-1580743800-1580747400@www.saintcatherineschool.org
SUMMARY:4th grade basketball practice
DESCRIPTION:The 4th grade will practice in the gym.
URL:https://www.saintcatherineschool.org/event/4th-grade-basketball-practice-3/2020-02-03
LOCATION:St. Catherine Activity Center\, 2515 West 46th Street\, Tulsa\, 74107-6629\, United States
CATEGORIES:Saint Catherine School
ORGANIZER;CN="Craig Torkleson":MAILTO:craigt2@hotmail.com
GEO:36.0981282;-96.0219361
X-APPLE-STRUCTURED-LOCATION;VALUE=URI;X-ADDRESS=St. Catherine Activity Center 2515 West 46th Street Tulsa 74107-6629 United States;X-APPLE-RADIUS=500;X-TITLE=2515 West 46th Street:geo:-96.0219361,36.0981282
END:VEVENT
BEGIN:VEVENT
DTSTART;TZID=America/Chicago:20200130T153000
DTEND;TZID=America/Chicago:20200130T163000
DTSTAMP:20260424T104212
CREATED:20200122T154540Z
LAST-MODIFIED:20200122T154540Z
UID:10008434-1580398200-1580401800@www.saintcatherineschool.org
SUMMARY:Taekwondo
DESCRIPTION:TKD will meet in Mrs. Victor’s room after school.
URL:https://www.saintcatherineschool.org/event/taekwondo-7
LOCATION:St. Catherine Activity Center\, 2515 West 46th Street\, Tulsa\, 74107-6629\, United States
CATEGORIES:Saint Catherine School
ORGANIZER;CN="Carla Victor":MAILTO:cvictor@saint-catherine.org
GEO:36.0981282;-96.0219361
X-APPLE-STRUCTURED-LOCATION;VALUE=URI;X-ADDRESS=St. Catherine Activity Center 2515 West 46th Street Tulsa 74107-6629 United States;X-APPLE-RADIUS=500;X-TITLE=2515 West 46th Street:geo:-96.0219361,36.0981282
END:VEVENT
BEGIN:VEVENT
DTSTART;TZID=America/Chicago:20200129T163000
DTEND;TZID=America/Chicago:20200129T173000
DTSTAMP:20260424T104212
CREATED:20200122T151715Z
LAST-MODIFIED:20200122T151715Z
UID:10008423-1580315400-1580319000@www.saintcatherineschool.org
SUMMARY:2nd grade basketball practice
DESCRIPTION:The 2nd grade basketball team will practice in the gym.
URL:https://www.saintcatherineschool.org/event/2nd-grade-basketball-practice-2/2020-01-29
LOCATION:St. Catherine Activity Center\, 2515 West 46th Street\, Tulsa\, 74107-6629\, United States
CATEGORIES:Saint Catherine School
ORGANIZER;CN="Kent Robb":MAILTO:kentrobb@hotmail.com
GEO:36.0981282;-96.0219361
X-APPLE-STRUCTURED-LOCATION;VALUE=URI;X-ADDRESS=St. Catherine Activity Center 2515 West 46th Street Tulsa 74107-6629 United States;X-APPLE-RADIUS=500;X-TITLE=2515 West 46th Street:geo:-96.0219361,36.0981282
END:VEVENT
BEGIN:VEVENT
DTSTART;TZID=America/Chicago:20200128T180000
DTEND;TZID=America/Chicago:20200128T190000
DTSTAMP:20260424T104212
CREATED:20200122T151214Z
LAST-MODIFIED:20200122T151214Z
UID:10008408-1580234400-1580238000@www.saintcatherineschool.org
SUMMARY:Middle School Basketball Practice
DESCRIPTION:The middle school basketball team will practice in the gym from 6-7.
URL:https://www.saintcatherineschool.org/event/middle-school-basketball-practice-2/2020-01-28
LOCATION:St. Catherine Activity Center\, 2515 West 46th Street\, Tulsa\, 74107-6629\, United States
CATEGORIES:Saint Catherine School
ORGANIZER;CN="Andrea Warner":MAILTO:andrea.warner.mail@gmail.com
GEO:36.0981282;-96.0219361
X-APPLE-STRUCTURED-LOCATION;VALUE=URI;X-ADDRESS=St. Catherine Activity Center 2515 West 46th Street Tulsa 74107-6629 United States;X-APPLE-RADIUS=500;X-TITLE=2515 West 46th Street:geo:-96.0219361,36.0981282
END:VEVENT
BEGIN:VEVENT
DTSTART;TZID=America/Chicago:20200123T173000
DTEND;TZID=America/Chicago:20200123T190000
DTSTAMP:20260424T104212
CREATED:20200122T154339Z
LAST-MODIFIED:20200122T154339Z
UID:10008389-1579800600-1579806000@www.saintcatherineschool.org
SUMMARY:Community Meal
DESCRIPTION:Please\, come and join us for a free meal and fellowship in the activity center.
URL:https://www.saintcatherineschool.org/event/community-meal-21
LOCATION:St. Catherine Activity Center\, 2515 West 46th Street\, Tulsa\, 74107-6629\, United States
CATEGORIES:Church of Saint Catherine,Saint Catherine School
ORGANIZER;CN="Fr. John Grant":MAILTO:fr.joh.grant@saint-catherine.org
GEO:36.0981282;-96.0219361
X-APPLE-STRUCTURED-LOCATION;VALUE=URI;X-ADDRESS=St. Catherine Activity Center 2515 West 46th Street Tulsa 74107-6629 United States;X-APPLE-RADIUS=500;X-TITLE=2515 West 46th Street:geo:-96.0219361,36.0981282
END:VEVENT
BEGIN:VEVENT
DTSTART;TZID=America/Chicago:20200122T163000
DTEND;TZID=America/Chicago:20200122T173000
DTSTAMP:20260424T104212
CREATED:20200122T151715Z
LAST-MODIFIED:20200122T151715Z
UID:10008422-1579710600-1579714200@www.saintcatherineschool.org
SUMMARY:2nd grade basketball practice
DESCRIPTION:The 2nd grade basketball team will practice in the gym.
URL:https://www.saintcatherineschool.org/event/2nd-grade-basketball-practice-2/2020-01-22
LOCATION:St. Catherine Activity Center\, 2515 West 46th Street\, Tulsa\, 74107-6629\, United States
CATEGORIES:Saint Catherine School
ORGANIZER;CN="Kent Robb":MAILTO:kentrobb@hotmail.com
GEO:36.0981282;-96.0219361
X-APPLE-STRUCTURED-LOCATION;VALUE=URI;X-ADDRESS=St. Catherine Activity Center 2515 West 46th Street Tulsa 74107-6629 United States;X-APPLE-RADIUS=500;X-TITLE=2515 West 46th Street:geo:-96.0219361,36.0981282
END:VEVENT
BEGIN:VEVENT
DTSTART;TZID=America/Chicago:20200122T153000
DTEND;TZID=America/Chicago:20200122T163000
DTSTAMP:20260424T104212
CREATED:20200122T151531Z
LAST-MODIFIED:20200122T151531Z
UID:10008418-1579707000-1579710600@www.saintcatherineschool.org
SUMMARY:4th grade basketball practice
DESCRIPTION:The 4th grade will have basketball practice in the gym.
URL:https://www.saintcatherineschool.org/event/4th-grade-basketball-practice-4/2020-01-22
LOCATION:St. Catherine Activity Center\, 2515 West 46th Street\, Tulsa\, 74107-6629\, United States
CATEGORIES:Saint Catherine School
ORGANIZER;CN="Craig Torkleson":MAILTO:craigt2@hotmail.com
GEO:36.0981282;-96.0219361
X-APPLE-STRUCTURED-LOCATION;VALUE=URI;X-ADDRESS=St. Catherine Activity Center 2515 West 46th Street Tulsa 74107-6629 United States;X-APPLE-RADIUS=500;X-TITLE=2515 West 46th Street:geo:-96.0219361,36.0981282
END:VEVENT
BEGIN:VEVENT
DTSTART;TZID=America/Chicago:20200121T180000
DTEND;TZID=America/Chicago:20200121T190000
DTSTAMP:20260424T104212
CREATED:20200122T151214Z
LAST-MODIFIED:20200122T151214Z
UID:10008407-1579629600-1579633200@www.saintcatherineschool.org
SUMMARY:Middle School Basketball Practice
DESCRIPTION:The middle school basketball team will practice in the gym from 6-7.
URL:https://www.saintcatherineschool.org/event/middle-school-basketball-practice-2/2020-01-21
LOCATION:St. Catherine Activity Center\, 2515 West 46th Street\, Tulsa\, 74107-6629\, United States
CATEGORIES:Saint Catherine School
ORGANIZER;CN="Andrea Warner":MAILTO:andrea.warner.mail@gmail.com
GEO:36.0981282;-96.0219361
X-APPLE-STRUCTURED-LOCATION;VALUE=URI;X-ADDRESS=St. Catherine Activity Center 2515 West 46th Street Tulsa 74107-6629 United States;X-APPLE-RADIUS=500;X-TITLE=2515 West 46th Street:geo:-96.0219361,36.0981282
END:VEVENT
BEGIN:VEVENT
DTSTART;TZID=America/Chicago:20200116T180000
DTEND;TZID=America/Chicago:20200116T190000
DTSTAMP:20260424T104212
CREATED:20200122T153850Z
LAST-MODIFIED:20200122T153850Z
UID:10008431-1579197600-1579201200@www.saintcatherineschool.org
SUMMARY:Middle School Basketball Practice
DESCRIPTION:The middle school basketball team will practice in the gym.
URL:https://www.saintcatherineschool.org/event/middle-school-basketball-practice-3/2020-01-16
LOCATION:St. Catherine Activity Center\, 2515 West 46th Street\, Tulsa\, 74107-6629\, United States
CATEGORIES:Saint Catherine School
ORGANIZER;CN="Andrea Warner":MAILTO:andrea.warner.mail@gmail.com
GEO:36.0981282;-96.0219361
X-APPLE-STRUCTURED-LOCATION;VALUE=URI;X-ADDRESS=St. Catherine Activity Center 2515 West 46th Street Tulsa 74107-6629 United States;X-APPLE-RADIUS=500;X-TITLE=2515 West 46th Street:geo:-96.0219361,36.0981282
END:VEVENT
BEGIN:VEVENT
DTSTART;TZID=America/Chicago:20200116T153000
DTEND;TZID=America/Chicago:20200116T170000
DTSTAMP:20260424T104212
CREATED:20200122T154032Z
LAST-MODIFIED:20200122T154032Z
UID:10008437-1579188600-1579194000@www.saintcatherineschool.org
SUMMARY:Taekwondo
DESCRIPTION:TKD will meet in Mrs. Victor’s room at 3:30.
URL:https://www.saintcatherineschool.org/event/taekwondo-6/2020-01-16
LOCATION:St. Catherine Activity Center\, 2515 West 46th Street\, Tulsa\, 74107-6629\, United States
CATEGORIES:Saint Catherine School
ORGANIZER;CN="Carla Victor":MAILTO:cvictor@saint-catherine.org
GEO:36.0981282;-96.0219361
X-APPLE-STRUCTURED-LOCATION;VALUE=URI;X-ADDRESS=St. Catherine Activity Center 2515 West 46th Street Tulsa 74107-6629 United States;X-APPLE-RADIUS=500;X-TITLE=2515 West 46th Street:geo:-96.0219361,36.0981282
END:VEVENT
BEGIN:VEVENT
DTSTART;TZID=America/Chicago:20200115T163000
DTEND;TZID=America/Chicago:20200115T173000
DTSTAMP:20260424T104212
CREATED:20200122T151715Z
LAST-MODIFIED:20200122T151715Z
UID:10008421-1579105800-1579109400@www.saintcatherineschool.org
SUMMARY:2nd grade basketball practice
DESCRIPTION:The 2nd grade basketball team will practice in the gym.
URL:https://www.saintcatherineschool.org/event/2nd-grade-basketball-practice-2/2020-01-15
LOCATION:St. Catherine Activity Center\, 2515 West 46th Street\, Tulsa\, 74107-6629\, United States
CATEGORIES:Saint Catherine School
ORGANIZER;CN="Kent Robb":MAILTO:kentrobb@hotmail.com
GEO:36.0981282;-96.0219361
X-APPLE-STRUCTURED-LOCATION;VALUE=URI;X-ADDRESS=St. Catherine Activity Center 2515 West 46th Street Tulsa 74107-6629 United States;X-APPLE-RADIUS=500;X-TITLE=2515 West 46th Street:geo:-96.0219361,36.0981282
END:VEVENT
BEGIN:VEVENT
DTSTART;TZID=America/Chicago:20200115T153000
DTEND;TZID=America/Chicago:20200115T163000
DTSTAMP:20260424T104212
CREATED:20200122T151531Z
LAST-MODIFIED:20200122T151531Z
UID:10008417-1579102200-1579105800@www.saintcatherineschool.org
SUMMARY:4th grade basketball practice
DESCRIPTION:The 4th grade will have basketball practice in the gym.
URL:https://www.saintcatherineschool.org/event/4th-grade-basketball-practice-4/2020-01-15
LOCATION:St. Catherine Activity Center\, 2515 West 46th Street\, Tulsa\, 74107-6629\, United States
CATEGORIES:Saint Catherine School
ORGANIZER;CN="Craig Torkleson":MAILTO:craigt2@hotmail.com
GEO:36.0981282;-96.0219361
X-APPLE-STRUCTURED-LOCATION;VALUE=URI;X-ADDRESS=St. Catherine Activity Center 2515 West 46th Street Tulsa 74107-6629 United States;X-APPLE-RADIUS=500;X-TITLE=2515 West 46th Street:geo:-96.0219361,36.0981282
END:VEVENT
BEGIN:VEVENT
DTSTART;TZID=America/Chicago:20200114T180000
DTEND;TZID=America/Chicago:20200114T190000
DTSTAMP:20260424T104212
CREATED:20200122T151214Z
LAST-MODIFIED:20200122T151214Z
UID:10008406-1579024800-1579028400@www.saintcatherineschool.org
SUMMARY:Middle School Basketball Practice
DESCRIPTION:The middle school basketball team will practice in the gym from 6-7.
URL:https://www.saintcatherineschool.org/event/middle-school-basketball-practice-2/2020-01-14
LOCATION:St. Catherine Activity Center\, 2515 West 46th Street\, Tulsa\, 74107-6629\, United States
CATEGORIES:Saint Catherine School
ORGANIZER;CN="Andrea Warner":MAILTO:andrea.warner.mail@gmail.com
GEO:36.0981282;-96.0219361
X-APPLE-STRUCTURED-LOCATION;VALUE=URI;X-ADDRESS=St. Catherine Activity Center 2515 West 46th Street Tulsa 74107-6629 United States;X-APPLE-RADIUS=500;X-TITLE=2515 West 46th Street:geo:-96.0219361,36.0981282
END:VEVENT
BEGIN:VEVENT
DTSTART;TZID=America/Chicago:20200109T180000
DTEND;TZID=America/Chicago:20200109T190000
DTSTAMP:20260424T104212
CREATED:20200122T153850Z
LAST-MODIFIED:20200122T153850Z
UID:10008430-1578592800-1578596400@www.saintcatherineschool.org
SUMMARY:Middle School Basketball Practice
DESCRIPTION:The middle school basketball team will practice in the gym.
URL:https://www.saintcatherineschool.org/event/middle-school-basketball-practice-3/2020-01-09
LOCATION:St. Catherine Activity Center\, 2515 West 46th Street\, Tulsa\, 74107-6629\, United States
CATEGORIES:Saint Catherine School
ORGANIZER;CN="Andrea Warner":MAILTO:andrea.warner.mail@gmail.com
GEO:36.0981282;-96.0219361
X-APPLE-STRUCTURED-LOCATION;VALUE=URI;X-ADDRESS=St. Catherine Activity Center 2515 West 46th Street Tulsa 74107-6629 United States;X-APPLE-RADIUS=500;X-TITLE=2515 West 46th Street:geo:-96.0219361,36.0981282
END:VEVENT
BEGIN:VEVENT
DTSTART;TZID=America/Chicago:20200109T153000
DTEND;TZID=America/Chicago:20200109T170000
DTSTAMP:20260424T104212
CREATED:20200122T154032Z
LAST-MODIFIED:20200122T154032Z
UID:10008436-1578583800-1578589200@www.saintcatherineschool.org
SUMMARY:Taekwondo
DESCRIPTION:TKD will meet in Mrs. Victor’s room at 3:30.
URL:https://www.saintcatherineschool.org/event/taekwondo-6/2020-01-09
LOCATION:St. Catherine Activity Center\, 2515 West 46th Street\, Tulsa\, 74107-6629\, United States
CATEGORIES:Saint Catherine School
ORGANIZER;CN="Carla Victor":MAILTO:cvictor@saint-catherine.org
GEO:36.0981282;-96.0219361
X-APPLE-STRUCTURED-LOCATION;VALUE=URI;X-ADDRESS=St. Catherine Activity Center 2515 West 46th Street Tulsa 74107-6629 United States;X-APPLE-RADIUS=500;X-TITLE=2515 West 46th Street:geo:-96.0219361,36.0981282
END:VEVENT
BEGIN:VEVENT
DTSTART;TZID=America/Chicago:20200108T163000
DTEND;TZID=America/Chicago:20200108T173000
DTSTAMP:20260424T104212
CREATED:20200122T151715Z
LAST-MODIFIED:20200122T151715Z
UID:10008420-1578501000-1578504600@www.saintcatherineschool.org
SUMMARY:2nd grade basketball practice
DESCRIPTION:The 2nd grade basketball team will practice in the gym.
URL:https://www.saintcatherineschool.org/event/2nd-grade-basketball-practice-2/2020-01-08
LOCATION:St. Catherine Activity Center\, 2515 West 46th Street\, Tulsa\, 74107-6629\, United States
CATEGORIES:Saint Catherine School
ORGANIZER;CN="Kent Robb":MAILTO:kentrobb@hotmail.com
GEO:36.0981282;-96.0219361
X-APPLE-STRUCTURED-LOCATION;VALUE=URI;X-ADDRESS=St. Catherine Activity Center 2515 West 46th Street Tulsa 74107-6629 United States;X-APPLE-RADIUS=500;X-TITLE=2515 West 46th Street:geo:-96.0219361,36.0981282
END:VEVENT
BEGIN:VEVENT
DTSTART;TZID=America/Chicago:20200108T153000
DTEND;TZID=America/Chicago:20200108T163000
DTSTAMP:20260424T104212
CREATED:20200122T151531Z
LAST-MODIFIED:20200122T151531Z
UID:10008416-1578497400-1578501000@www.saintcatherineschool.org
SUMMARY:4th grade basketball practice
DESCRIPTION:The 4th grade will have basketball practice in the gym.
URL:https://www.saintcatherineschool.org/event/4th-grade-basketball-practice-4/2020-01-08
LOCATION:St. Catherine Activity Center\, 2515 West 46th Street\, Tulsa\, 74107-6629\, United States
CATEGORIES:Saint Catherine School
ORGANIZER;CN="Craig Torkleson":MAILTO:craigt2@hotmail.com
GEO:36.0981282;-96.0219361
X-APPLE-STRUCTURED-LOCATION;VALUE=URI;X-ADDRESS=St. Catherine Activity Center 2515 West 46th Street Tulsa 74107-6629 United States;X-APPLE-RADIUS=500;X-TITLE=2515 West 46th Street:geo:-96.0219361,36.0981282
END:VEVENT
BEGIN:VEVENT
DTSTART;TZID=America/Chicago:20200107T180000
DTEND;TZID=America/Chicago:20200107T190000
DTSTAMP:20260424T104212
CREATED:20200122T151214Z
LAST-MODIFIED:20200122T151214Z
UID:10008405-1578420000-1578423600@www.saintcatherineschool.org
SUMMARY:Middle School Basketball Practice
DESCRIPTION:The middle school basketball team will practice in the gym from 6-7.
URL:https://www.saintcatherineschool.org/event/middle-school-basketball-practice-2/2020-01-07
LOCATION:St. Catherine Activity Center\, 2515 West 46th Street\, Tulsa\, 74107-6629\, United States
CATEGORIES:Saint Catherine School
ORGANIZER;CN="Andrea Warner":MAILTO:andrea.warner.mail@gmail.com
GEO:36.0981282;-96.0219361
X-APPLE-STRUCTURED-LOCATION;VALUE=URI;X-ADDRESS=St. Catherine Activity Center 2515 West 46th Street Tulsa 74107-6629 United States;X-APPLE-RADIUS=500;X-TITLE=2515 West 46th Street:geo:-96.0219361,36.0981282
END:VEVENT
BEGIN:VEVENT
DTSTART;TZID=America/Chicago:20191219T173000
DTEND;TZID=America/Chicago:20191219T190000
DTSTAMP:20260424T104212
CREATED:20190626T024444Z
LAST-MODIFIED:20190626T024444Z
UID:10005544-1576776600-1576782000@www.saintcatherineschool.org
SUMMARY:Community Meal
DESCRIPTION:Saint Catherine of Alexandria hosts a free meal for anyone who wants a hot meal and good fellowship.  The meal is in the activity center and begins at 5:30.
URL:https://www.saintcatherineschool.org/event/community-meal-20
LOCATION:St. Catherine Activity Center\, 2515 West 46th Street\, Tulsa\, 74107-6629\, United States
CATEGORIES:Saint Catherine School
ORGANIZER;CN="Janice Hoss":MAILTO:jhoss@saint-catherine.org
GEO:36.0981282;-96.0219361
X-APPLE-STRUCTURED-LOCATION;VALUE=URI;X-ADDRESS=St. Catherine Activity Center 2515 West 46th Street Tulsa 74107-6629 United States;X-APPLE-RADIUS=500;X-TITLE=2515 West 46th Street:geo:-96.0219361,36.0981282
END:VEVENT
BEGIN:VEVENT
DTSTART;TZID=America/Chicago:20191218T163000
DTEND;TZID=America/Chicago:20191218T173000
DTSTAMP:20260424T104212
CREATED:20191202T163408Z
LAST-MODIFIED:20191202T163408Z
UID:10008358-1576686600-1576690200@www.saintcatherineschool.org
SUMMARY:2nd grade basketball practice
DESCRIPTION:The 2nd grade basketball team will practice in the gym from 4:30-5:30.
URL:https://www.saintcatherineschool.org/event/2nd-grade-basketball-practice/2019-12-18
LOCATION:St. Catherine Activity Center\, 2515 West 46th Street\, Tulsa\, 74107-6629\, United States
CATEGORIES:Saint Catherine School
ORGANIZER;CN="Mrs. Guglielmo":MAILTO:pjguglielmo@gmail.com
GEO:36.0981282;-96.0219361
X-APPLE-STRUCTURED-LOCATION;VALUE=URI;X-ADDRESS=St. Catherine Activity Center 2515 West 46th Street Tulsa 74107-6629 United States;X-APPLE-RADIUS=500;X-TITLE=2515 West 46th Street:geo:-96.0219361,36.0981282
END:VEVENT
BEGIN:VEVENT
DTSTART;TZID=America/Chicago:20191218T153000
DTEND;TZID=America/Chicago:20191218T163000
DTSTAMP:20260424T104212
CREATED:20191202T160021Z
LAST-MODIFIED:20191202T163442Z
UID:10008339-1576683000-1576686600@www.saintcatherineschool.org
SUMMARY:4th grade basketball practice
DESCRIPTION:The 4th grade basketball team will practice in the gym from 3:30-4:30.
URL:https://www.saintcatherineschool.org/event/4th-grade-basketball-practice/2019-12-18
LOCATION:St. Catherine Activity Center\, 2515 West 46th Street\, Tulsa\, 74107-6629\, United States
CATEGORIES:Saint Catherine School
ORGANIZER;CN="Craig Torkleson":MAILTO:craigt2@hotmail.com
GEO:36.0981282;-96.0219361
X-APPLE-STRUCTURED-LOCATION;VALUE=URI;X-ADDRESS=St. Catherine Activity Center 2515 West 46th Street Tulsa 74107-6629 United States;X-APPLE-RADIUS=500;X-TITLE=2515 West 46th Street:geo:-96.0219361,36.0981282
END:VEVENT
END:VCALENDAR