BEGIN:VCALENDAR
VERSION:2.0
PRODID:-//Saint Catherine of Alexandria School - ECPv6.15.20//NONSGML v1.0//EN
CALSCALE:GREGORIAN
METHOD:PUBLISH
X-ORIGINAL-URL:https://www.saintcatherineschool.org
X-WR-CALDESC:Events for Saint Catherine of Alexandria School
REFRESH-INTERVAL;VALUE=DURATION:PT1H
X-Robots-Tag:noindex
X-PUBLISHED-TTL:PT1H
BEGIN:VTIMEZONE
TZID:America/Chicago
BEGIN:DAYLIGHT
TZOFFSETFROM:-0600
TZOFFSETTO:-0500
TZNAME:CDT
DTSTART:20160313T080000
END:DAYLIGHT
BEGIN:STANDARD
TZOFFSETFROM:-0500
TZOFFSETTO:-0600
TZNAME:CST
DTSTART:20161106T070000
END:STANDARD
BEGIN:DAYLIGHT
TZOFFSETFROM:-0600
TZOFFSETTO:-0500
TZNAME:CDT
DTSTART:20170312T080000
END:DAYLIGHT
BEGIN:STANDARD
TZOFFSETFROM:-0500
TZOFFSETTO:-0600
TZNAME:CST
DTSTART:20171105T070000
END:STANDARD
BEGIN:DAYLIGHT
TZOFFSETFROM:-0600
TZOFFSETTO:-0500
TZNAME:CDT
DTSTART:20180311T080000
END:DAYLIGHT
BEGIN:STANDARD
TZOFFSETFROM:-0500
TZOFFSETTO:-0600
TZNAME:CST
DTSTART:20181104T070000
END:STANDARD
BEGIN:DAYLIGHT
TZOFFSETFROM:-0600
TZOFFSETTO:-0500
TZNAME:CDT
DTSTART:20190310T080000
END:DAYLIGHT
BEGIN:STANDARD
TZOFFSETFROM:-0500
TZOFFSETTO:-0600
TZNAME:CST
DTSTART:20191103T070000
END:STANDARD
BEGIN:DAYLIGHT
TZOFFSETFROM:-0600
TZOFFSETTO:-0500
TZNAME:CDT
DTSTART:20200308T080000
END:DAYLIGHT
BEGIN:STANDARD
TZOFFSETFROM:-0500
TZOFFSETTO:-0600
TZNAME:CST
DTSTART:20201101T070000
END:STANDARD
BEGIN:DAYLIGHT
TZOFFSETFROM:-0600
TZOFFSETTO:-0500
TZNAME:CDT
DTSTART:20210314T080000
END:DAYLIGHT
BEGIN:STANDARD
TZOFFSETFROM:-0500
TZOFFSETTO:-0600
TZNAME:CST
DTSTART:20211107T070000
END:STANDARD
BEGIN:DAYLIGHT
TZOFFSETFROM:-0600
TZOFFSETTO:-0500
TZNAME:CDT
DTSTART:20220313T080000
END:DAYLIGHT
BEGIN:STANDARD
TZOFFSETFROM:-0500
TZOFFSETTO:-0600
TZNAME:CST
DTSTART:20221106T070000
END:STANDARD
BEGIN:DAYLIGHT
TZOFFSETFROM:-0600
TZOFFSETTO:-0500
TZNAME:CDT
DTSTART:20230312T080000
END:DAYLIGHT
BEGIN:STANDARD
TZOFFSETFROM:-0500
TZOFFSETTO:-0600
TZNAME:CST
DTSTART:20231105T070000
END:STANDARD
END:VTIMEZONE
BEGIN:VEVENT
DTSTART;TZID=America/Chicago:20221022T080000
DTEND;TZID=America/Chicago:20221022T170000
DTSTAMP:20260424T014401
CREATED:20221004T184645Z
LAST-MODIFIED:20221004T184645Z
UID:10008023-1666425600-1666458000@www.saintcatherineschool.org
SUMMARY:6th Grade Volleyball Game
DESCRIPTION:
URL:https://www.saintcatherineschool.org/event/6th-grade-volleyball-game-8
LOCATION:Sts. Peter and Paul\, 1436 N. 67th E. Ave.\, Tulsa\, OK\, 74115\, United States
CATEGORIES:Church of Saint Catherine,Saint Catherine School
ORGANIZER;CN="Kayley Anthamatten":MAILTO:kayleya@saint-catherine.org
GEO:36.1762389;-95.9023621
X-APPLE-STRUCTURED-LOCATION;VALUE=URI;X-ADDRESS=Sts. Peter and Paul 1436 N. 67th E. Ave. Tulsa OK 74115 United States;X-APPLE-RADIUS=500;X-TITLE=1436 N. 67th E. Ave.:geo:-95.9023621,36.1762389
END:VEVENT
BEGIN:VEVENT
DTSTART;TZID=America/Chicago:20191010T200000
DTEND;TZID=America/Chicago:20191010T200000
DTSTAMP:20260424T014401
CREATED:20190910T185746Z
LAST-MODIFIED:20190910T185746Z
UID:10008374-1570737600-1570737600@www.saintcatherineschool.org
SUMMARY:Middle School Volleyball Game
DESCRIPTION:The middle school volleyball team will play Marquette at Sts. Peter and Paul’s gym.
URL:https://www.saintcatherineschool.org/event/middle-school-volleyball-game-4
LOCATION:Sts. Peter and Paul\, 1436 N. 67th E. Ave.\, Tulsa\, OK\, 74115\, United States
CATEGORIES:Saint Catherine School
ORGANIZER;CN="Kayley Anthamatten":MAILTO:kayleya@saint-catherine.org
GEO:36.1762389;-95.9023621
X-APPLE-STRUCTURED-LOCATION;VALUE=URI;X-ADDRESS=Sts. Peter and Paul 1436 N. 67th E. Ave. Tulsa OK 74115 United States;X-APPLE-RADIUS=500;X-TITLE=1436 N. 67th E. Ave.:geo:-95.9023621,36.1762389
END:VEVENT
BEGIN:VEVENT
DTSTART;TZID=America/Chicago:20190912T200000
DTEND;TZID=America/Chicago:20190912T210000
DTSTAMP:20260424T014401
CREATED:20190910T184320Z
LAST-MODIFIED:20190910T184320Z
UID:10008244-1568318400-1568322000@www.saintcatherineschool.org
SUMMARY:Middle School Volleyball Game
DESCRIPTION:The middle school Volleyball Team will have a game at Peter and Paul’s Gym against All Saints School.
URL:https://www.saintcatherineschool.org/event/middle-school-volleyball-game
LOCATION:Sts. Peter and Paul\, 1436 N. 67th E. Ave.\, Tulsa\, OK\, 74115\, United States
CATEGORIES:Saint Catherine School
ORGANIZER;CN="Kayley Anthamatten":MAILTO:kayleya@saint-catherine.org
GEO:36.1762389;-95.9023621
X-APPLE-STRUCTURED-LOCATION;VALUE=URI;X-ADDRESS=Sts. Peter and Paul 1436 N. 67th E. Ave. Tulsa OK 74115 United States;X-APPLE-RADIUS=500;X-TITLE=1436 N. 67th E. Ave.:geo:-95.9023621,36.1762389
END:VEVENT
BEGIN:VEVENT
DTSTART;TZID=America/Chicago:20180922T120000
DTEND;TZID=America/Chicago:20180922T133000
DTSTAMP:20260424T014401
CREATED:20180917T152902Z
LAST-MODIFIED:20180917T221207Z
UID:10005295-1537617600-1537623000@www.saintcatherineschool.org
SUMMARY:Volleyball game
DESCRIPTION:The volleyball game will be at Sts. Peter and Paul at 12pm.
URL:https://www.saintcatherineschool.org/event/volleyball-game-8
LOCATION:Sts. Peter and Paul\, 1436 N. 67th E. Ave.\, Tulsa\, OK\, 74115\, United States
CATEGORIES:Saint Catherine School
ORGANIZER;CN="April Adalim":MAILTO:aadalim@saint-catherine.org
GEO:36.1762389;-95.9023621
X-APPLE-STRUCTURED-LOCATION;VALUE=URI;X-ADDRESS=Sts. Peter and Paul 1436 N. 67th E. Ave. Tulsa OK 74115 United States;X-APPLE-RADIUS=500;X-TITLE=1436 N. 67th E. Ave.:geo:-95.9023621,36.1762389
END:VEVENT
BEGIN:VEVENT
DTSTART;TZID=America/Chicago:20171007T070000
DTEND;TZID=America/Chicago:20171007T080000
DTSTAMP:20260424T014401
CREATED:20170927T065307Z
LAST-MODIFIED:20170927T065307Z
UID:10005340-1507359600-1507363200@www.saintcatherineschool.org
SUMMARY:8th Grade Volleyball Game 11pm
DESCRIPTION:The 8th grade will have a volleyball game at Peter and Paul Catholic School at 12pm.
URL:https://www.saintcatherineschool.org/event/8th-grade-volleyball-game-11pm
LOCATION:Sts. Peter and Paul\, 1436 N. 67th E. Ave.\, Tulsa\, OK\, 74115\, United States
CATEGORIES:Saint Catherine School
ORGANIZER;CN="April Adalim":MAILTO:aadalim@saint-catherine.org
GEO:36.1762389;-95.9023621
X-APPLE-STRUCTURED-LOCATION;VALUE=URI;X-ADDRESS=Sts. Peter and Paul 1436 N. 67th E. Ave. Tulsa OK 74115 United States;X-APPLE-RADIUS=500;X-TITLE=1436 N. 67th E. Ave.:geo:-95.9023621,36.1762389
END:VEVENT
BEGIN:VEVENT
DTSTART;TZID=America/Chicago:20171007T050000
DTEND;TZID=America/Chicago:20171007T060000
DTSTAMP:20260424T014401
CREATED:20170927T062931Z
LAST-MODIFIED:20170927T064154Z
UID:10005354-1507352400-1507356000@www.saintcatherineschool.org
SUMMARY:6th Grade Volleyball Game 9 am
DESCRIPTION:The 6th grade will have a volleyball game at Peter and Paul Catholic School at 9am.
URL:https://www.saintcatherineschool.org/event/6th-grade-volleyball-game-4
LOCATION:Sts. Peter and Paul\, 1436 N. 67th E. Ave.\, Tulsa\, OK\, 74115\, United States
CATEGORIES:Saint Catherine School
ORGANIZER;CN="Mrs. Guglielmo":MAILTO:pjguglielmo@gmail.com
GEO:36.1762389;-95.9023621
X-APPLE-STRUCTURED-LOCATION;VALUE=URI;X-ADDRESS=Sts. Peter and Paul 1436 N. 67th E. Ave. Tulsa OK 74115 United States;X-APPLE-RADIUS=500;X-TITLE=1436 N. 67th E. Ave.:geo:-95.9023621,36.1762389
END:VEVENT
END:VCALENDAR